BEGIN:VCALENDAR
VERSION:2.0
PRODID:-//New Port Richey Elks Lodge 2284 - ECPv6.15.20//NONSGML v1.0//EN
CALSCALE:GREGORIAN
METHOD:PUBLISH
X-WR-CALNAME:New Port Richey Elks Lodge 2284
X-ORIGINAL-URL:https://newportricheyelks.org
X-WR-CALDESC:Events for New Port Richey Elks Lodge 2284
REFRESH-INTERVAL;VALUE=DURATION:PT1H
X-Robots-Tag:noindex
X-PUBLISHED-TTL:PT1H
BEGIN:VTIMEZONE
TZID:America/New_York
BEGIN:DAYLIGHT
TZOFFSETFROM:-0500
TZOFFSETTO:-0400
TZNAME:EDT
DTSTART:20250309T070000
END:DAYLIGHT
BEGIN:STANDARD
TZOFFSETFROM:-0400
TZOFFSETTO:-0500
TZNAME:EST
DTSTART:20251102T060000
END:STANDARD
BEGIN:DAYLIGHT
TZOFFSETFROM:-0500
TZOFFSETTO:-0400
TZNAME:EDT
DTSTART:20260308T070000
END:DAYLIGHT
BEGIN:STANDARD
TZOFFSETFROM:-0400
TZOFFSETTO:-0500
TZNAME:EST
DTSTART:20261101T060000
END:STANDARD
BEGIN:DAYLIGHT
TZOFFSETFROM:-0500
TZOFFSETTO:-0400
TZNAME:EDT
DTSTART:20270314T070000
END:DAYLIGHT
BEGIN:STANDARD
TZOFFSETFROM:-0400
TZOFFSETTO:-0500
TZNAME:EST
DTSTART:20271107T060000
END:STANDARD
END:VTIMEZONE
BEGIN:VEVENT
DTSTART;TZID=America/New_York:20260421T150000
DTEND;TZID=America/New_York:20260421T210000
DTSTAMP:20260421T064318
CREATED:20230723T223608Z
LAST-MODIFIED:20231217T162328Z
UID:10002051-1776783600-1776805200@newportricheyelks.org
SUMMARY:Lounge Hours
DESCRIPTION:Open to Members & Their Guests. The lounge opens at 3 pm.
URL:https://newportricheyelks.org/event-calendar/lounge-hours-3/2026-04-21/
CATEGORIES:Members & Their Guests
ATTACH;FMTTYPE=image/png:https://newportricheyelks.org/wp-content/uploads/2023/07/Lounge-Hours.png
END:VEVENT
BEGIN:VEVENT
DTSTART;TZID=America/New_York:20260421T170000
DTEND;TZID=America/New_York:20260421T183000
DTSTAMP:20260421T064318
CREATED:20250511T144118Z
LAST-MODIFIED:20250511T144119Z
UID:10001268-1776790800-1776796200@newportricheyelks.org
SUMMARY:Taco Tuesday Dinner
DESCRIPTION:Open to members and their Guests. \nClick here for more information.
URL:https://newportricheyelks.org/event-calendar/taco-tuesday-dinner-2-2-2-2/2026-04-21/
CATEGORIES:Members & Their Guests
ATTACH;FMTTYPE=image/png:https://newportricheyelks.org/wp-content/uploads/2023/07/Taco-Tuesday.png
END:VEVENT
BEGIN:VEVENT
DTSTART;TZID=America/New_York:20260421T190000
DTEND;TZID=America/New_York:20260421T203000
DTSTAMP:20260421T064318
CREATED:20231028T145654Z
LAST-MODIFIED:20231028T145654Z
UID:10000575-1776798000-1776803400@newportricheyelks.org
SUMMARY:Board Of Directors Meeting
DESCRIPTION:Open to Elk Members only. Starts at 7 pm in Luikart Hall.
URL:https://newportricheyelks.org/event-calendar/board-committee-meeting-2/2026-04-21/
LOCATION:Luikart Hall
CATEGORIES:Members Only
ATTACH;FMTTYPE=image/png:https://newportricheyelks.org/wp-content/uploads/2023/07/Board-House-Meeting.png
END:VEVENT
END:VCALENDAR