BEGIN:VCALENDAR
VERSION:2.0
PRODID:-//New Port Richey Elks Lodge 2284 - ECPv6.15.20//NONSGML v1.0//EN
CALSCALE:GREGORIAN
METHOD:PUBLISH
X-ORIGINAL-URL:https://newportricheyelks.org
X-WR-CALDESC:Events for New Port Richey Elks Lodge 2284
REFRESH-INTERVAL;VALUE=DURATION:PT1H
X-Robots-Tag:noindex
X-PUBLISHED-TTL:PT1H
BEGIN:VTIMEZONE
TZID:America/New_York
BEGIN:DAYLIGHT
TZOFFSETFROM:-0500
TZOFFSETTO:-0400
TZNAME:EDT
DTSTART:20270314T070000
END:DAYLIGHT
BEGIN:STANDARD
TZOFFSETFROM:-0400
TZOFFSETTO:-0500
TZNAME:EST
DTSTART:20271107T060000
END:STANDARD
BEGIN:DAYLIGHT
TZOFFSETFROM:-0500
TZOFFSETTO:-0400
TZNAME:EDT
DTSTART:20280312T070000
END:DAYLIGHT
BEGIN:STANDARD
TZOFFSETFROM:-0400
TZOFFSETTO:-0500
TZNAME:EST
DTSTART:20281105T060000
END:STANDARD
BEGIN:DAYLIGHT
TZOFFSETFROM:-0500
TZOFFSETTO:-0400
TZNAME:EDT
DTSTART:20290311T070000
END:DAYLIGHT
BEGIN:STANDARD
TZOFFSETFROM:-0400
TZOFFSETTO:-0500
TZNAME:EST
DTSTART:20291104T060000
END:STANDARD
BEGIN:DAYLIGHT
TZOFFSETFROM:-0500
TZOFFSETTO:-0400
TZNAME:EDT
DTSTART:20300310T070000
END:DAYLIGHT
BEGIN:STANDARD
TZOFFSETFROM:-0400
TZOFFSETTO:-0500
TZNAME:EST
DTSTART:20301103T060000
END:STANDARD
END:VTIMEZONE
BEGIN:VEVENT
DTSTART;TZID=America/New_York:20280810T180000
DTEND;TZID=America/New_York:20280810T210000
DTSTAMP:20260422T014137
CREATED:20260129T173622Z
LAST-MODIFIED:20260129T173622Z
UID:10014067-1849543200-1849554000@newportricheyelks.org
SUMMARY:Open Mic Jam Night
DESCRIPTION:Open to members and their guests.
URL:https://newportricheyelks.org/event-calendar/open-mic-jam-night/2028-08-10/
CATEGORIES:Members & Their Guests
ATTACH;FMTTYPE=image/jpeg:https://newportricheyelks.org/wp-content/uploads/2026/01/Open-Mic-Jam-Night-720-x-576-Events-Calendar-Image.jpg
END:VEVENT
BEGIN:VEVENT
DTSTART;TZID=America/New_York:20280817T180000
DTEND;TZID=America/New_York:20280817T210000
DTSTAMP:20260422T014137
CREATED:20260129T173622Z
LAST-MODIFIED:20260129T173622Z
UID:10014068-1850148000-1850158800@newportricheyelks.org
SUMMARY:Open Mic Jam Night
DESCRIPTION:Open to members and their guests.
URL:https://newportricheyelks.org/event-calendar/open-mic-jam-night/2028-08-17/
CATEGORIES:Members & Their Guests
ATTACH;FMTTYPE=image/jpeg:https://newportricheyelks.org/wp-content/uploads/2026/01/Open-Mic-Jam-Night-720-x-576-Events-Calendar-Image.jpg
END:VEVENT
BEGIN:VEVENT
DTSTART;TZID=America/New_York:20280824T180000
DTEND;TZID=America/New_York:20280824T210000
DTSTAMP:20260422T014137
CREATED:20260129T173622Z
LAST-MODIFIED:20260129T173622Z
UID:10014069-1850752800-1850763600@newportricheyelks.org
SUMMARY:Open Mic Jam Night
DESCRIPTION:Open to members and their guests.
URL:https://newportricheyelks.org/event-calendar/open-mic-jam-night/2028-08-24/
CATEGORIES:Members & Their Guests
ATTACH;FMTTYPE=image/jpeg:https://newportricheyelks.org/wp-content/uploads/2026/01/Open-Mic-Jam-Night-720-x-576-Events-Calendar-Image.jpg
END:VEVENT
BEGIN:VEVENT
DTSTART;TZID=America/New_York:20280831T180000
DTEND;TZID=America/New_York:20280831T210000
DTSTAMP:20260422T014137
CREATED:20260129T173622Z
LAST-MODIFIED:20260129T173622Z
UID:10014070-1851357600-1851368400@newportricheyelks.org
SUMMARY:Open Mic Jam Night
DESCRIPTION:Open to members and their guests.
URL:https://newportricheyelks.org/event-calendar/open-mic-jam-night/2028-08-31/
CATEGORIES:Members & Their Guests
ATTACH;FMTTYPE=image/jpeg:https://newportricheyelks.org/wp-content/uploads/2026/01/Open-Mic-Jam-Night-720-x-576-Events-Calendar-Image.jpg
END:VEVENT
BEGIN:VEVENT
DTSTART;TZID=America/New_York:20280907T180000
DTEND;TZID=America/New_York:20280907T210000
DTSTAMP:20260422T014137
CREATED:20260129T173622Z
LAST-MODIFIED:20260129T173622Z
UID:10014071-1851962400-1851973200@newportricheyelks.org
SUMMARY:Open Mic Jam Night
DESCRIPTION:Open to members and their guests.
URL:https://newportricheyelks.org/event-calendar/open-mic-jam-night/2028-09-07/
CATEGORIES:Members & Their Guests
ATTACH;FMTTYPE=image/jpeg:https://newportricheyelks.org/wp-content/uploads/2026/01/Open-Mic-Jam-Night-720-x-576-Events-Calendar-Image.jpg
END:VEVENT
BEGIN:VEVENT
DTSTART;TZID=America/New_York:20280914T180000
DTEND;TZID=America/New_York:20280914T210000
DTSTAMP:20260422T014137
CREATED:20260129T173622Z
LAST-MODIFIED:20260129T173622Z
UID:10014072-1852567200-1852578000@newportricheyelks.org
SUMMARY:Open Mic Jam Night
DESCRIPTION:Open to members and their guests.
URL:https://newportricheyelks.org/event-calendar/open-mic-jam-night/2028-09-14/
CATEGORIES:Members & Their Guests
ATTACH;FMTTYPE=image/jpeg:https://newportricheyelks.org/wp-content/uploads/2026/01/Open-Mic-Jam-Night-720-x-576-Events-Calendar-Image.jpg
END:VEVENT
BEGIN:VEVENT
DTSTART;TZID=America/New_York:20280921T180000
DTEND;TZID=America/New_York:20280921T210000
DTSTAMP:20260422T014137
CREATED:20260129T173622Z
LAST-MODIFIED:20260129T173622Z
UID:10014073-1853172000-1853182800@newportricheyelks.org
SUMMARY:Open Mic Jam Night
DESCRIPTION:Open to members and their guests.
URL:https://newportricheyelks.org/event-calendar/open-mic-jam-night/2028-09-21/
CATEGORIES:Members & Their Guests
ATTACH;FMTTYPE=image/jpeg:https://newportricheyelks.org/wp-content/uploads/2026/01/Open-Mic-Jam-Night-720-x-576-Events-Calendar-Image.jpg
END:VEVENT
BEGIN:VEVENT
DTSTART;TZID=America/New_York:20280928T180000
DTEND;TZID=America/New_York:20280928T210000
DTSTAMP:20260422T014137
CREATED:20260129T173622Z
LAST-MODIFIED:20260129T173622Z
UID:10014074-1853776800-1853787600@newportricheyelks.org
SUMMARY:Open Mic Jam Night
DESCRIPTION:Open to members and their guests.
URL:https://newportricheyelks.org/event-calendar/open-mic-jam-night/2028-09-28/
CATEGORIES:Members & Their Guests
ATTACH;FMTTYPE=image/jpeg:https://newportricheyelks.org/wp-content/uploads/2026/01/Open-Mic-Jam-Night-720-x-576-Events-Calendar-Image.jpg
END:VEVENT
BEGIN:VEVENT
DTSTART;TZID=America/New_York:20281005T180000
DTEND;TZID=America/New_York:20281005T210000
DTSTAMP:20260422T014137
CREATED:20260129T173622Z
LAST-MODIFIED:20260129T173622Z
UID:10014075-1854381600-1854392400@newportricheyelks.org
SUMMARY:Open Mic Jam Night
DESCRIPTION:Open to members and their guests.
URL:https://newportricheyelks.org/event-calendar/open-mic-jam-night/2028-10-05/
CATEGORIES:Members & Their Guests
ATTACH;FMTTYPE=image/jpeg:https://newportricheyelks.org/wp-content/uploads/2026/01/Open-Mic-Jam-Night-720-x-576-Events-Calendar-Image.jpg
END:VEVENT
BEGIN:VEVENT
DTSTART;TZID=America/New_York:20281012T180000
DTEND;TZID=America/New_York:20281012T210000
DTSTAMP:20260422T014137
CREATED:20260129T173622Z
LAST-MODIFIED:20260129T173622Z
UID:10014076-1854986400-1854997200@newportricheyelks.org
SUMMARY:Open Mic Jam Night
DESCRIPTION:Open to members and their guests.
URL:https://newportricheyelks.org/event-calendar/open-mic-jam-night/2028-10-12/
CATEGORIES:Members & Their Guests
ATTACH;FMTTYPE=image/jpeg:https://newportricheyelks.org/wp-content/uploads/2026/01/Open-Mic-Jam-Night-720-x-576-Events-Calendar-Image.jpg
END:VEVENT
BEGIN:VEVENT
DTSTART;TZID=America/New_York:20281019T180000
DTEND;TZID=America/New_York:20281019T210000
DTSTAMP:20260422T014137
CREATED:20260129T173622Z
LAST-MODIFIED:20260129T173622Z
UID:10014077-1855591200-1855602000@newportricheyelks.org
SUMMARY:Open Mic Jam Night
DESCRIPTION:Open to members and their guests.
URL:https://newportricheyelks.org/event-calendar/open-mic-jam-night/2028-10-19/
CATEGORIES:Members & Their Guests
ATTACH;FMTTYPE=image/jpeg:https://newportricheyelks.org/wp-content/uploads/2026/01/Open-Mic-Jam-Night-720-x-576-Events-Calendar-Image.jpg
END:VEVENT
BEGIN:VEVENT
DTSTART;TZID=America/New_York:20281026T180000
DTEND;TZID=America/New_York:20281026T210000
DTSTAMP:20260422T014137
CREATED:20260129T173622Z
LAST-MODIFIED:20260129T173622Z
UID:10014078-1856196000-1856206800@newportricheyelks.org
SUMMARY:Open Mic Jam Night
DESCRIPTION:Open to members and their guests.
URL:https://newportricheyelks.org/event-calendar/open-mic-jam-night/2028-10-26/
CATEGORIES:Members & Their Guests
ATTACH;FMTTYPE=image/jpeg:https://newportricheyelks.org/wp-content/uploads/2026/01/Open-Mic-Jam-Night-720-x-576-Events-Calendar-Image.jpg
END:VEVENT
BEGIN:VEVENT
DTSTART;TZID=America/New_York:20281102T180000
DTEND;TZID=America/New_York:20281102T210000
DTSTAMP:20260422T014138
CREATED:20260129T173622Z
LAST-MODIFIED:20260129T173622Z
UID:10014079-1856800800-1856811600@newportricheyelks.org
SUMMARY:Open Mic Jam Night
DESCRIPTION:Open to members and their guests.
URL:https://newportricheyelks.org/event-calendar/open-mic-jam-night/2028-11-02/
CATEGORIES:Members & Their Guests
ATTACH;FMTTYPE=image/jpeg:https://newportricheyelks.org/wp-content/uploads/2026/01/Open-Mic-Jam-Night-720-x-576-Events-Calendar-Image.jpg
END:VEVENT
BEGIN:VEVENT
DTSTART;TZID=America/New_York:20281109T180000
DTEND;TZID=America/New_York:20281109T210000
DTSTAMP:20260422T014138
CREATED:20260129T173622Z
LAST-MODIFIED:20260129T173622Z
UID:10014080-1857405600-1857416400@newportricheyelks.org
SUMMARY:Open Mic Jam Night
DESCRIPTION:Open to members and their guests.
URL:https://newportricheyelks.org/event-calendar/open-mic-jam-night/2028-11-09/
CATEGORIES:Members & Their Guests
ATTACH;FMTTYPE=image/jpeg:https://newportricheyelks.org/wp-content/uploads/2026/01/Open-Mic-Jam-Night-720-x-576-Events-Calendar-Image.jpg
END:VEVENT
BEGIN:VEVENT
DTSTART;TZID=America/New_York:20281116T180000
DTEND;TZID=America/New_York:20281116T210000
DTSTAMP:20260422T014138
CREATED:20260129T173622Z
LAST-MODIFIED:20260129T173622Z
UID:10014081-1858010400-1858021200@newportricheyelks.org
SUMMARY:Open Mic Jam Night
DESCRIPTION:Open to members and their guests.
URL:https://newportricheyelks.org/event-calendar/open-mic-jam-night/2028-11-16/
CATEGORIES:Members & Their Guests
ATTACH;FMTTYPE=image/jpeg:https://newportricheyelks.org/wp-content/uploads/2026/01/Open-Mic-Jam-Night-720-x-576-Events-Calendar-Image.jpg
END:VEVENT
BEGIN:VEVENT
DTSTART;TZID=America/New_York:20281123T180000
DTEND;TZID=America/New_York:20281123T210000
DTSTAMP:20260422T014138
CREATED:20260129T173622Z
LAST-MODIFIED:20260129T173622Z
UID:10014082-1858615200-1858626000@newportricheyelks.org
SUMMARY:Open Mic Jam Night
DESCRIPTION:Open to members and their guests.
URL:https://newportricheyelks.org/event-calendar/open-mic-jam-night/2028-11-23/
CATEGORIES:Members & Their Guests
ATTACH;FMTTYPE=image/jpeg:https://newportricheyelks.org/wp-content/uploads/2026/01/Open-Mic-Jam-Night-720-x-576-Events-Calendar-Image.jpg
END:VEVENT
BEGIN:VEVENT
DTSTART;TZID=America/New_York:20281130T180000
DTEND;TZID=America/New_York:20281130T210000
DTSTAMP:20260422T014138
CREATED:20260129T173622Z
LAST-MODIFIED:20260129T173622Z
UID:10014083-1859220000-1859230800@newportricheyelks.org
SUMMARY:Open Mic Jam Night
DESCRIPTION:Open to members and their guests.
URL:https://newportricheyelks.org/event-calendar/open-mic-jam-night/2028-11-30/
CATEGORIES:Members & Their Guests
ATTACH;FMTTYPE=image/jpeg:https://newportricheyelks.org/wp-content/uploads/2026/01/Open-Mic-Jam-Night-720-x-576-Events-Calendar-Image.jpg
END:VEVENT
BEGIN:VEVENT
DTSTART;TZID=America/New_York:20281207T180000
DTEND;TZID=America/New_York:20281207T210000
DTSTAMP:20260422T014138
CREATED:20260129T173622Z
LAST-MODIFIED:20260129T173622Z
UID:10014084-1859824800-1859835600@newportricheyelks.org
SUMMARY:Open Mic Jam Night
DESCRIPTION:Open to members and their guests.
URL:https://newportricheyelks.org/event-calendar/open-mic-jam-night/2028-12-07/
CATEGORIES:Members & Their Guests
ATTACH;FMTTYPE=image/jpeg:https://newportricheyelks.org/wp-content/uploads/2026/01/Open-Mic-Jam-Night-720-x-576-Events-Calendar-Image.jpg
END:VEVENT
BEGIN:VEVENT
DTSTART;TZID=America/New_York:20281214T180000
DTEND;TZID=America/New_York:20281214T210000
DTSTAMP:20260422T014138
CREATED:20260129T173622Z
LAST-MODIFIED:20260129T173622Z
UID:10014085-1860429600-1860440400@newportricheyelks.org
SUMMARY:Open Mic Jam Night
DESCRIPTION:Open to members and their guests.
URL:https://newportricheyelks.org/event-calendar/open-mic-jam-night/2028-12-14/
CATEGORIES:Members & Their Guests
ATTACH;FMTTYPE=image/jpeg:https://newportricheyelks.org/wp-content/uploads/2026/01/Open-Mic-Jam-Night-720-x-576-Events-Calendar-Image.jpg
END:VEVENT
BEGIN:VEVENT
DTSTART;TZID=America/New_York:20281221T180000
DTEND;TZID=America/New_York:20281221T210000
DTSTAMP:20260422T014138
CREATED:20260129T173622Z
LAST-MODIFIED:20260129T173622Z
UID:10014086-1861034400-1861045200@newportricheyelks.org
SUMMARY:Open Mic Jam Night
DESCRIPTION:Open to members and their guests.
URL:https://newportricheyelks.org/event-calendar/open-mic-jam-night/2028-12-21/
CATEGORIES:Members & Their Guests
ATTACH;FMTTYPE=image/jpeg:https://newportricheyelks.org/wp-content/uploads/2026/01/Open-Mic-Jam-Night-720-x-576-Events-Calendar-Image.jpg
END:VEVENT
BEGIN:VEVENT
DTSTART;TZID=America/New_York:20281228T180000
DTEND;TZID=America/New_York:20281228T210000
DTSTAMP:20260422T014138
CREATED:20260129T173622Z
LAST-MODIFIED:20260129T173622Z
UID:10014087-1861639200-1861650000@newportricheyelks.org
SUMMARY:Open Mic Jam Night
DESCRIPTION:Open to members and their guests.
URL:https://newportricheyelks.org/event-calendar/open-mic-jam-night/2028-12-28/
CATEGORIES:Members & Their Guests
ATTACH;FMTTYPE=image/jpeg:https://newportricheyelks.org/wp-content/uploads/2026/01/Open-Mic-Jam-Night-720-x-576-Events-Calendar-Image.jpg
END:VEVENT
BEGIN:VEVENT
DTSTART;TZID=America/New_York:20290104T180000
DTEND;TZID=America/New_York:20290104T210000
DTSTAMP:20260422T014138
CREATED:20260129T173622Z
LAST-MODIFIED:20260129T173622Z
UID:10014088-1862244000-1862254800@newportricheyelks.org
SUMMARY:Open Mic Jam Night
DESCRIPTION:Open to members and their guests.
URL:https://newportricheyelks.org/event-calendar/open-mic-jam-night/2029-01-04/
CATEGORIES:Members & Their Guests
ATTACH;FMTTYPE=image/jpeg:https://newportricheyelks.org/wp-content/uploads/2026/01/Open-Mic-Jam-Night-720-x-576-Events-Calendar-Image.jpg
END:VEVENT
BEGIN:VEVENT
DTSTART;TZID=America/New_York:20290111T180000
DTEND;TZID=America/New_York:20290111T210000
DTSTAMP:20260422T014138
CREATED:20260129T173622Z
LAST-MODIFIED:20260129T173622Z
UID:10014089-1862848800-1862859600@newportricheyelks.org
SUMMARY:Open Mic Jam Night
DESCRIPTION:Open to members and their guests.
URL:https://newportricheyelks.org/event-calendar/open-mic-jam-night/2029-01-11/
CATEGORIES:Members & Their Guests
ATTACH;FMTTYPE=image/jpeg:https://newportricheyelks.org/wp-content/uploads/2026/01/Open-Mic-Jam-Night-720-x-576-Events-Calendar-Image.jpg
END:VEVENT
BEGIN:VEVENT
DTSTART;TZID=America/New_York:20290118T180000
DTEND;TZID=America/New_York:20290118T210000
DTSTAMP:20260422T014138
CREATED:20260129T173622Z
LAST-MODIFIED:20260129T173622Z
UID:10014090-1863453600-1863464400@newportricheyelks.org
SUMMARY:Open Mic Jam Night
DESCRIPTION:Open to members and their guests.
URL:https://newportricheyelks.org/event-calendar/open-mic-jam-night/2029-01-18/
CATEGORIES:Members & Their Guests
ATTACH;FMTTYPE=image/jpeg:https://newportricheyelks.org/wp-content/uploads/2026/01/Open-Mic-Jam-Night-720-x-576-Events-Calendar-Image.jpg
END:VEVENT
BEGIN:VEVENT
DTSTART;TZID=America/New_York:20290125T180000
DTEND;TZID=America/New_York:20290125T210000
DTSTAMP:20260422T014138
CREATED:20260129T173622Z
LAST-MODIFIED:20260129T173622Z
UID:10014091-1864058400-1864069200@newportricheyelks.org
SUMMARY:Open Mic Jam Night
DESCRIPTION:Open to members and their guests.
URL:https://newportricheyelks.org/event-calendar/open-mic-jam-night/2029-01-25/
CATEGORIES:Members & Their Guests
ATTACH;FMTTYPE=image/jpeg:https://newportricheyelks.org/wp-content/uploads/2026/01/Open-Mic-Jam-Night-720-x-576-Events-Calendar-Image.jpg
END:VEVENT
BEGIN:VEVENT
DTSTART;TZID=America/New_York:20290201T180000
DTEND;TZID=America/New_York:20290201T210000
DTSTAMP:20260422T014138
CREATED:20260129T173622Z
LAST-MODIFIED:20260129T173622Z
UID:10014092-1864663200-1864674000@newportricheyelks.org
SUMMARY:Open Mic Jam Night
DESCRIPTION:Open to members and their guests.
URL:https://newportricheyelks.org/event-calendar/open-mic-jam-night/2029-02-01/
CATEGORIES:Members & Their Guests
ATTACH;FMTTYPE=image/jpeg:https://newportricheyelks.org/wp-content/uploads/2026/01/Open-Mic-Jam-Night-720-x-576-Events-Calendar-Image.jpg
END:VEVENT
BEGIN:VEVENT
DTSTART;TZID=America/New_York:20290208T180000
DTEND;TZID=America/New_York:20290208T210000
DTSTAMP:20260422T014138
CREATED:20260129T173622Z
LAST-MODIFIED:20260129T173622Z
UID:10014093-1865268000-1865278800@newportricheyelks.org
SUMMARY:Open Mic Jam Night
DESCRIPTION:Open to members and their guests.
URL:https://newportricheyelks.org/event-calendar/open-mic-jam-night/2029-02-08/
CATEGORIES:Members & Their Guests
ATTACH;FMTTYPE=image/jpeg:https://newportricheyelks.org/wp-content/uploads/2026/01/Open-Mic-Jam-Night-720-x-576-Events-Calendar-Image.jpg
END:VEVENT
BEGIN:VEVENT
DTSTART;TZID=America/New_York:20290215T180000
DTEND;TZID=America/New_York:20290215T210000
DTSTAMP:20260422T014138
CREATED:20260129T173622Z
LAST-MODIFIED:20260129T173622Z
UID:10014094-1865872800-1865883600@newportricheyelks.org
SUMMARY:Open Mic Jam Night
DESCRIPTION:Open to members and their guests.
URL:https://newportricheyelks.org/event-calendar/open-mic-jam-night/2029-02-15/
CATEGORIES:Members & Their Guests
ATTACH;FMTTYPE=image/jpeg:https://newportricheyelks.org/wp-content/uploads/2026/01/Open-Mic-Jam-Night-720-x-576-Events-Calendar-Image.jpg
END:VEVENT
BEGIN:VEVENT
DTSTART;TZID=America/New_York:20290222T180000
DTEND;TZID=America/New_York:20290222T210000
DTSTAMP:20260422T014138
CREATED:20260129T173622Z
LAST-MODIFIED:20260129T173622Z
UID:10014095-1866477600-1866488400@newportricheyelks.org
SUMMARY:Open Mic Jam Night
DESCRIPTION:Open to members and their guests.
URL:https://newportricheyelks.org/event-calendar/open-mic-jam-night/2029-02-22/
CATEGORIES:Members & Their Guests
ATTACH;FMTTYPE=image/jpeg:https://newportricheyelks.org/wp-content/uploads/2026/01/Open-Mic-Jam-Night-720-x-576-Events-Calendar-Image.jpg
END:VEVENT
BEGIN:VEVENT
DTSTART;TZID=America/New_York:20290301T180000
DTEND;TZID=America/New_York:20290301T210000
DTSTAMP:20260422T014138
CREATED:20260129T173622Z
LAST-MODIFIED:20260129T173622Z
UID:10014096-1867082400-1867093200@newportricheyelks.org
SUMMARY:Open Mic Jam Night
DESCRIPTION:Open to members and their guests.
URL:https://newportricheyelks.org/event-calendar/open-mic-jam-night/2029-03-01/
CATEGORIES:Members & Their Guests
ATTACH;FMTTYPE=image/jpeg:https://newportricheyelks.org/wp-content/uploads/2026/01/Open-Mic-Jam-Night-720-x-576-Events-Calendar-Image.jpg
END:VEVENT
END:VCALENDAR