BEGIN:VCALENDAR
VERSION:2.0
PRODID:-//New Port Richey Elks Lodge 2284 - ECPv6.15.20//NONSGML v1.0//EN
CALSCALE:GREGORIAN
METHOD:PUBLISH
X-WR-CALNAME:New Port Richey Elks Lodge 2284
X-ORIGINAL-URL:https://newportricheyelks.org
X-WR-CALDESC:Events for New Port Richey Elks Lodge 2284
REFRESH-INTERVAL;VALUE=DURATION:PT1H
X-Robots-Tag:noindex
X-PUBLISHED-TTL:PT1H
BEGIN:VTIMEZONE
TZID:America/New_York
BEGIN:DAYLIGHT
TZOFFSETFROM:-0500
TZOFFSETTO:-0400
TZNAME:EDT
DTSTART:20280312T070000
END:DAYLIGHT
BEGIN:STANDARD
TZOFFSETFROM:-0400
TZOFFSETTO:-0500
TZNAME:EST
DTSTART:20281105T060000
END:STANDARD
BEGIN:DAYLIGHT
TZOFFSETFROM:-0500
TZOFFSETTO:-0400
TZNAME:EDT
DTSTART:20290311T070000
END:DAYLIGHT
BEGIN:STANDARD
TZOFFSETFROM:-0400
TZOFFSETTO:-0500
TZNAME:EST
DTSTART:20291104T060000
END:STANDARD
BEGIN:DAYLIGHT
TZOFFSETFROM:-0500
TZOFFSETTO:-0400
TZNAME:EDT
DTSTART:20300310T070000
END:DAYLIGHT
BEGIN:STANDARD
TZOFFSETFROM:-0400
TZOFFSETTO:-0500
TZNAME:EST
DTSTART:20301103T060000
END:STANDARD
BEGIN:DAYLIGHT
TZOFFSETFROM:-0500
TZOFFSETTO:-0400
TZNAME:EDT
DTSTART:20310309T070000
END:DAYLIGHT
BEGIN:STANDARD
TZOFFSETFROM:-0400
TZOFFSETTO:-0500
TZNAME:EST
DTSTART:20311102T060000
END:STANDARD
END:VTIMEZONE
BEGIN:VEVENT
DTSTART;TZID=America/New_York:20290712T180000
DTEND;TZID=America/New_York:20290712T210000
DTSTAMP:20260422T085534
CREATED:20260129T173622Z
LAST-MODIFIED:20260129T173622Z
UID:10014115-1878573600-1878584400@newportricheyelks.org
SUMMARY:Open Mic Jam Night
DESCRIPTION:Open to members and their guests.
URL:https://newportricheyelks.org/event-calendar/open-mic-jam-night/2029-07-12/
CATEGORIES:Members & Their Guests
ATTACH;FMTTYPE=image/jpeg:https://newportricheyelks.org/wp-content/uploads/2026/01/Open-Mic-Jam-Night-720-x-576-Events-Calendar-Image.jpg
END:VEVENT
BEGIN:VEVENT
DTSTART;TZID=America/New_York:20290719T180000
DTEND;TZID=America/New_York:20290719T210000
DTSTAMP:20260422T085534
CREATED:20260129T173622Z
LAST-MODIFIED:20260129T173622Z
UID:10014116-1879178400-1879189200@newportricheyelks.org
SUMMARY:Open Mic Jam Night
DESCRIPTION:Open to members and their guests.
URL:https://newportricheyelks.org/event-calendar/open-mic-jam-night/2029-07-19/
CATEGORIES:Members & Their Guests
ATTACH;FMTTYPE=image/jpeg:https://newportricheyelks.org/wp-content/uploads/2026/01/Open-Mic-Jam-Night-720-x-576-Events-Calendar-Image.jpg
END:VEVENT
BEGIN:VEVENT
DTSTART;TZID=America/New_York:20290726T180000
DTEND;TZID=America/New_York:20290726T210000
DTSTAMP:20260422T085534
CREATED:20260129T173622Z
LAST-MODIFIED:20260129T173622Z
UID:10014117-1879783200-1879794000@newportricheyelks.org
SUMMARY:Open Mic Jam Night
DESCRIPTION:Open to members and their guests.
URL:https://newportricheyelks.org/event-calendar/open-mic-jam-night/2029-07-26/
CATEGORIES:Members & Their Guests
ATTACH;FMTTYPE=image/jpeg:https://newportricheyelks.org/wp-content/uploads/2026/01/Open-Mic-Jam-Night-720-x-576-Events-Calendar-Image.jpg
END:VEVENT
BEGIN:VEVENT
DTSTART;TZID=America/New_York:20290802T180000
DTEND;TZID=America/New_York:20290802T210000
DTSTAMP:20260422T085534
CREATED:20260129T173622Z
LAST-MODIFIED:20260129T173622Z
UID:10014118-1880388000-1880398800@newportricheyelks.org
SUMMARY:Open Mic Jam Night
DESCRIPTION:Open to members and their guests.
URL:https://newportricheyelks.org/event-calendar/open-mic-jam-night/2029-08-02/
CATEGORIES:Members & Their Guests
ATTACH;FMTTYPE=image/jpeg:https://newportricheyelks.org/wp-content/uploads/2026/01/Open-Mic-Jam-Night-720-x-576-Events-Calendar-Image.jpg
END:VEVENT
BEGIN:VEVENT
DTSTART;TZID=America/New_York:20290809T180000
DTEND;TZID=America/New_York:20290809T210000
DTSTAMP:20260422T085534
CREATED:20260129T173622Z
LAST-MODIFIED:20260129T173622Z
UID:10014119-1880992800-1881003600@newportricheyelks.org
SUMMARY:Open Mic Jam Night
DESCRIPTION:Open to members and their guests.
URL:https://newportricheyelks.org/event-calendar/open-mic-jam-night/2029-08-09/
CATEGORIES:Members & Their Guests
ATTACH;FMTTYPE=image/jpeg:https://newportricheyelks.org/wp-content/uploads/2026/01/Open-Mic-Jam-Night-720-x-576-Events-Calendar-Image.jpg
END:VEVENT
BEGIN:VEVENT
DTSTART;TZID=America/New_York:20290816T180000
DTEND;TZID=America/New_York:20290816T210000
DTSTAMP:20260422T085534
CREATED:20260129T173622Z
LAST-MODIFIED:20260129T173622Z
UID:10014120-1881597600-1881608400@newportricheyelks.org
SUMMARY:Open Mic Jam Night
DESCRIPTION:Open to members and their guests.
URL:https://newportricheyelks.org/event-calendar/open-mic-jam-night/2029-08-16/
CATEGORIES:Members & Their Guests
ATTACH;FMTTYPE=image/jpeg:https://newportricheyelks.org/wp-content/uploads/2026/01/Open-Mic-Jam-Night-720-x-576-Events-Calendar-Image.jpg
END:VEVENT
BEGIN:VEVENT
DTSTART;TZID=America/New_York:20290823T180000
DTEND;TZID=America/New_York:20290823T210000
DTSTAMP:20260422T085534
CREATED:20260129T173622Z
LAST-MODIFIED:20260129T173622Z
UID:10014121-1882202400-1882213200@newportricheyelks.org
SUMMARY:Open Mic Jam Night
DESCRIPTION:Open to members and their guests.
URL:https://newportricheyelks.org/event-calendar/open-mic-jam-night/2029-08-23/
CATEGORIES:Members & Their Guests
ATTACH;FMTTYPE=image/jpeg:https://newportricheyelks.org/wp-content/uploads/2026/01/Open-Mic-Jam-Night-720-x-576-Events-Calendar-Image.jpg
END:VEVENT
BEGIN:VEVENT
DTSTART;TZID=America/New_York:20290830T180000
DTEND;TZID=America/New_York:20290830T210000
DTSTAMP:20260422T085534
CREATED:20260129T173622Z
LAST-MODIFIED:20260129T173622Z
UID:10014122-1882807200-1882818000@newportricheyelks.org
SUMMARY:Open Mic Jam Night
DESCRIPTION:Open to members and their guests.
URL:https://newportricheyelks.org/event-calendar/open-mic-jam-night/2029-08-30/
CATEGORIES:Members & Their Guests
ATTACH;FMTTYPE=image/jpeg:https://newportricheyelks.org/wp-content/uploads/2026/01/Open-Mic-Jam-Night-720-x-576-Events-Calendar-Image.jpg
END:VEVENT
BEGIN:VEVENT
DTSTART;TZID=America/New_York:20290906T180000
DTEND;TZID=America/New_York:20290906T210000
DTSTAMP:20260422T085534
CREATED:20260129T173622Z
LAST-MODIFIED:20260129T173622Z
UID:10014123-1883412000-1883422800@newportricheyelks.org
SUMMARY:Open Mic Jam Night
DESCRIPTION:Open to members and their guests.
URL:https://newportricheyelks.org/event-calendar/open-mic-jam-night/2029-09-06/
CATEGORIES:Members & Their Guests
ATTACH;FMTTYPE=image/jpeg:https://newportricheyelks.org/wp-content/uploads/2026/01/Open-Mic-Jam-Night-720-x-576-Events-Calendar-Image.jpg
END:VEVENT
BEGIN:VEVENT
DTSTART;TZID=America/New_York:20290913T180000
DTEND;TZID=America/New_York:20290913T210000
DTSTAMP:20260422T085534
CREATED:20260129T173622Z
LAST-MODIFIED:20260129T173622Z
UID:10014124-1884016800-1884027600@newportricheyelks.org
SUMMARY:Open Mic Jam Night
DESCRIPTION:Open to members and their guests.
URL:https://newportricheyelks.org/event-calendar/open-mic-jam-night/2029-09-13/
CATEGORIES:Members & Their Guests
ATTACH;FMTTYPE=image/jpeg:https://newportricheyelks.org/wp-content/uploads/2026/01/Open-Mic-Jam-Night-720-x-576-Events-Calendar-Image.jpg
END:VEVENT
BEGIN:VEVENT
DTSTART;TZID=America/New_York:20290920T180000
DTEND;TZID=America/New_York:20290920T210000
DTSTAMP:20260422T085534
CREATED:20260129T173622Z
LAST-MODIFIED:20260129T173622Z
UID:10014125-1884621600-1884632400@newportricheyelks.org
SUMMARY:Open Mic Jam Night
DESCRIPTION:Open to members and their guests.
URL:https://newportricheyelks.org/event-calendar/open-mic-jam-night/2029-09-20/
CATEGORIES:Members & Their Guests
ATTACH;FMTTYPE=image/jpeg:https://newportricheyelks.org/wp-content/uploads/2026/01/Open-Mic-Jam-Night-720-x-576-Events-Calendar-Image.jpg
END:VEVENT
BEGIN:VEVENT
DTSTART;TZID=America/New_York:20290927T180000
DTEND;TZID=America/New_York:20290927T210000
DTSTAMP:20260422T085534
CREATED:20260129T173622Z
LAST-MODIFIED:20260129T173622Z
UID:10014126-1885226400-1885237200@newportricheyelks.org
SUMMARY:Open Mic Jam Night
DESCRIPTION:Open to members and their guests.
URL:https://newportricheyelks.org/event-calendar/open-mic-jam-night/2029-09-27/
CATEGORIES:Members & Their Guests
ATTACH;FMTTYPE=image/jpeg:https://newportricheyelks.org/wp-content/uploads/2026/01/Open-Mic-Jam-Night-720-x-576-Events-Calendar-Image.jpg
END:VEVENT
BEGIN:VEVENT
DTSTART;TZID=America/New_York:20291004T180000
DTEND;TZID=America/New_York:20291004T210000
DTSTAMP:20260422T085534
CREATED:20260129T173622Z
LAST-MODIFIED:20260129T173622Z
UID:10014127-1885831200-1885842000@newportricheyelks.org
SUMMARY:Open Mic Jam Night
DESCRIPTION:Open to members and their guests.
URL:https://newportricheyelks.org/event-calendar/open-mic-jam-night/2029-10-04/
CATEGORIES:Members & Their Guests
ATTACH;FMTTYPE=image/jpeg:https://newportricheyelks.org/wp-content/uploads/2026/01/Open-Mic-Jam-Night-720-x-576-Events-Calendar-Image.jpg
END:VEVENT
BEGIN:VEVENT
DTSTART;TZID=America/New_York:20291011T180000
DTEND;TZID=America/New_York:20291011T210000
DTSTAMP:20260422T085534
CREATED:20260129T173622Z
LAST-MODIFIED:20260129T173622Z
UID:10014128-1886436000-1886446800@newportricheyelks.org
SUMMARY:Open Mic Jam Night
DESCRIPTION:Open to members and their guests.
URL:https://newportricheyelks.org/event-calendar/open-mic-jam-night/2029-10-11/
CATEGORIES:Members & Their Guests
ATTACH;FMTTYPE=image/jpeg:https://newportricheyelks.org/wp-content/uploads/2026/01/Open-Mic-Jam-Night-720-x-576-Events-Calendar-Image.jpg
END:VEVENT
BEGIN:VEVENT
DTSTART;TZID=America/New_York:20291018T180000
DTEND;TZID=America/New_York:20291018T210000
DTSTAMP:20260422T085534
CREATED:20260129T173622Z
LAST-MODIFIED:20260129T173622Z
UID:10014129-1887040800-1887051600@newportricheyelks.org
SUMMARY:Open Mic Jam Night
DESCRIPTION:Open to members and their guests.
URL:https://newportricheyelks.org/event-calendar/open-mic-jam-night/2029-10-18/
CATEGORIES:Members & Their Guests
ATTACH;FMTTYPE=image/jpeg:https://newportricheyelks.org/wp-content/uploads/2026/01/Open-Mic-Jam-Night-720-x-576-Events-Calendar-Image.jpg
END:VEVENT
BEGIN:VEVENT
DTSTART;TZID=America/New_York:20291025T180000
DTEND;TZID=America/New_York:20291025T210000
DTSTAMP:20260422T085534
CREATED:20260129T173622Z
LAST-MODIFIED:20260129T173622Z
UID:10014130-1887645600-1887656400@newportricheyelks.org
SUMMARY:Open Mic Jam Night
DESCRIPTION:Open to members and their guests.
URL:https://newportricheyelks.org/event-calendar/open-mic-jam-night/2029-10-25/
CATEGORIES:Members & Their Guests
ATTACH;FMTTYPE=image/jpeg:https://newportricheyelks.org/wp-content/uploads/2026/01/Open-Mic-Jam-Night-720-x-576-Events-Calendar-Image.jpg
END:VEVENT
BEGIN:VEVENT
DTSTART;TZID=America/New_York:20291101T180000
DTEND;TZID=America/New_York:20291101T210000
DTSTAMP:20260422T085534
CREATED:20260129T173622Z
LAST-MODIFIED:20260129T173622Z
UID:10014131-1888250400-1888261200@newportricheyelks.org
SUMMARY:Open Mic Jam Night
DESCRIPTION:Open to members and their guests.
URL:https://newportricheyelks.org/event-calendar/open-mic-jam-night/2029-11-01/
CATEGORIES:Members & Their Guests
ATTACH;FMTTYPE=image/jpeg:https://newportricheyelks.org/wp-content/uploads/2026/01/Open-Mic-Jam-Night-720-x-576-Events-Calendar-Image.jpg
END:VEVENT
BEGIN:VEVENT
DTSTART;TZID=America/New_York:20291108T180000
DTEND;TZID=America/New_York:20291108T210000
DTSTAMP:20260422T085534
CREATED:20260129T173622Z
LAST-MODIFIED:20260129T173622Z
UID:10014132-1888855200-1888866000@newportricheyelks.org
SUMMARY:Open Mic Jam Night
DESCRIPTION:Open to members and their guests.
URL:https://newportricheyelks.org/event-calendar/open-mic-jam-night/2029-11-08/
CATEGORIES:Members & Their Guests
ATTACH;FMTTYPE=image/jpeg:https://newportricheyelks.org/wp-content/uploads/2026/01/Open-Mic-Jam-Night-720-x-576-Events-Calendar-Image.jpg
END:VEVENT
BEGIN:VEVENT
DTSTART;TZID=America/New_York:20291115T180000
DTEND;TZID=America/New_York:20291115T210000
DTSTAMP:20260422T085534
CREATED:20260129T173622Z
LAST-MODIFIED:20260129T173622Z
UID:10014133-1889460000-1889470800@newportricheyelks.org
SUMMARY:Open Mic Jam Night
DESCRIPTION:Open to members and their guests.
URL:https://newportricheyelks.org/event-calendar/open-mic-jam-night/2029-11-15/
CATEGORIES:Members & Their Guests
ATTACH;FMTTYPE=image/jpeg:https://newportricheyelks.org/wp-content/uploads/2026/01/Open-Mic-Jam-Night-720-x-576-Events-Calendar-Image.jpg
END:VEVENT
BEGIN:VEVENT
DTSTART;TZID=America/New_York:20291122T180000
DTEND;TZID=America/New_York:20291122T210000
DTSTAMP:20260422T085534
CREATED:20260129T173622Z
LAST-MODIFIED:20260129T173622Z
UID:10014134-1890064800-1890075600@newportricheyelks.org
SUMMARY:Open Mic Jam Night
DESCRIPTION:Open to members and their guests.
URL:https://newportricheyelks.org/event-calendar/open-mic-jam-night/2029-11-22/
CATEGORIES:Members & Their Guests
ATTACH;FMTTYPE=image/jpeg:https://newportricheyelks.org/wp-content/uploads/2026/01/Open-Mic-Jam-Night-720-x-576-Events-Calendar-Image.jpg
END:VEVENT
BEGIN:VEVENT
DTSTART;TZID=America/New_York:20291129T180000
DTEND;TZID=America/New_York:20291129T210000
DTSTAMP:20260422T085534
CREATED:20260129T173622Z
LAST-MODIFIED:20260129T173622Z
UID:10014135-1890669600-1890680400@newportricheyelks.org
SUMMARY:Open Mic Jam Night
DESCRIPTION:Open to members and their guests.
URL:https://newportricheyelks.org/event-calendar/open-mic-jam-night/2029-11-29/
CATEGORIES:Members & Their Guests
ATTACH;FMTTYPE=image/jpeg:https://newportricheyelks.org/wp-content/uploads/2026/01/Open-Mic-Jam-Night-720-x-576-Events-Calendar-Image.jpg
END:VEVENT
BEGIN:VEVENT
DTSTART;TZID=America/New_York:20291206T180000
DTEND;TZID=America/New_York:20291206T210000
DTSTAMP:20260422T085534
CREATED:20260129T173622Z
LAST-MODIFIED:20260129T173622Z
UID:10014136-1891274400-1891285200@newportricheyelks.org
SUMMARY:Open Mic Jam Night
DESCRIPTION:Open to members and their guests.
URL:https://newportricheyelks.org/event-calendar/open-mic-jam-night/2029-12-06/
CATEGORIES:Members & Their Guests
ATTACH;FMTTYPE=image/jpeg:https://newportricheyelks.org/wp-content/uploads/2026/01/Open-Mic-Jam-Night-720-x-576-Events-Calendar-Image.jpg
END:VEVENT
BEGIN:VEVENT
DTSTART;TZID=America/New_York:20291213T180000
DTEND;TZID=America/New_York:20291213T210000
DTSTAMP:20260422T085534
CREATED:20260129T173622Z
LAST-MODIFIED:20260129T173622Z
UID:10014137-1891879200-1891890000@newportricheyelks.org
SUMMARY:Open Mic Jam Night
DESCRIPTION:Open to members and their guests.
URL:https://newportricheyelks.org/event-calendar/open-mic-jam-night/2029-12-13/
CATEGORIES:Members & Their Guests
ATTACH;FMTTYPE=image/jpeg:https://newportricheyelks.org/wp-content/uploads/2026/01/Open-Mic-Jam-Night-720-x-576-Events-Calendar-Image.jpg
END:VEVENT
BEGIN:VEVENT
DTSTART;TZID=America/New_York:20291220T180000
DTEND;TZID=America/New_York:20291220T210000
DTSTAMP:20260422T085534
CREATED:20260129T173622Z
LAST-MODIFIED:20260129T173622Z
UID:10014138-1892484000-1892494800@newportricheyelks.org
SUMMARY:Open Mic Jam Night
DESCRIPTION:Open to members and their guests.
URL:https://newportricheyelks.org/event-calendar/open-mic-jam-night/2029-12-20/
CATEGORIES:Members & Their Guests
ATTACH;FMTTYPE=image/jpeg:https://newportricheyelks.org/wp-content/uploads/2026/01/Open-Mic-Jam-Night-720-x-576-Events-Calendar-Image.jpg
END:VEVENT
BEGIN:VEVENT
DTSTART;TZID=America/New_York:20291227T180000
DTEND;TZID=America/New_York:20291227T210000
DTSTAMP:20260422T085534
CREATED:20260129T173622Z
LAST-MODIFIED:20260129T173622Z
UID:10014139-1893088800-1893099600@newportricheyelks.org
SUMMARY:Open Mic Jam Night
DESCRIPTION:Open to members and their guests.
URL:https://newportricheyelks.org/event-calendar/open-mic-jam-night/2029-12-27/
CATEGORIES:Members & Their Guests
ATTACH;FMTTYPE=image/jpeg:https://newportricheyelks.org/wp-content/uploads/2026/01/Open-Mic-Jam-Night-720-x-576-Events-Calendar-Image.jpg
END:VEVENT
BEGIN:VEVENT
DTSTART;TZID=America/New_York:20300103T180000
DTEND;TZID=America/New_York:20300103T210000
DTSTAMP:20260422T085534
CREATED:20260129T173622Z
LAST-MODIFIED:20260129T173622Z
UID:10014140-1893693600-1893704400@newportricheyelks.org
SUMMARY:Open Mic Jam Night
DESCRIPTION:Open to members and their guests.
URL:https://newportricheyelks.org/event-calendar/open-mic-jam-night/2030-01-03/
CATEGORIES:Members & Their Guests
ATTACH;FMTTYPE=image/jpeg:https://newportricheyelks.org/wp-content/uploads/2026/01/Open-Mic-Jam-Night-720-x-576-Events-Calendar-Image.jpg
END:VEVENT
BEGIN:VEVENT
DTSTART;TZID=America/New_York:20300110T180000
DTEND;TZID=America/New_York:20300110T210000
DTSTAMP:20260422T085534
CREATED:20260129T173622Z
LAST-MODIFIED:20260129T173622Z
UID:10014141-1894298400-1894309200@newportricheyelks.org
SUMMARY:Open Mic Jam Night
DESCRIPTION:Open to members and their guests.
URL:https://newportricheyelks.org/event-calendar/open-mic-jam-night/2030-01-10/
CATEGORIES:Members & Their Guests
ATTACH;FMTTYPE=image/jpeg:https://newportricheyelks.org/wp-content/uploads/2026/01/Open-Mic-Jam-Night-720-x-576-Events-Calendar-Image.jpg
END:VEVENT
BEGIN:VEVENT
DTSTART;TZID=America/New_York:20300117T180000
DTEND;TZID=America/New_York:20300117T210000
DTSTAMP:20260422T085534
CREATED:20260129T173622Z
LAST-MODIFIED:20260129T173622Z
UID:10014142-1894903200-1894914000@newportricheyelks.org
SUMMARY:Open Mic Jam Night
DESCRIPTION:Open to members and their guests.
URL:https://newportricheyelks.org/event-calendar/open-mic-jam-night/2030-01-17/
CATEGORIES:Members & Their Guests
ATTACH;FMTTYPE=image/jpeg:https://newportricheyelks.org/wp-content/uploads/2026/01/Open-Mic-Jam-Night-720-x-576-Events-Calendar-Image.jpg
END:VEVENT
BEGIN:VEVENT
DTSTART;TZID=America/New_York:20300124T180000
DTEND;TZID=America/New_York:20300124T210000
DTSTAMP:20260422T085534
CREATED:20260129T173622Z
LAST-MODIFIED:20260129T173622Z
UID:10014143-1895508000-1895518800@newportricheyelks.org
SUMMARY:Open Mic Jam Night
DESCRIPTION:Open to members and their guests.
URL:https://newportricheyelks.org/event-calendar/open-mic-jam-night/2030-01-24/
CATEGORIES:Members & Their Guests
ATTACH;FMTTYPE=image/jpeg:https://newportricheyelks.org/wp-content/uploads/2026/01/Open-Mic-Jam-Night-720-x-576-Events-Calendar-Image.jpg
END:VEVENT
BEGIN:VEVENT
DTSTART;TZID=America/New_York:20300131T180000
DTEND;TZID=America/New_York:20300131T210000
DTSTAMP:20260422T085534
CREATED:20260129T173622Z
LAST-MODIFIED:20260129T173622Z
UID:10014144-1896112800-1896123600@newportricheyelks.org
SUMMARY:Open Mic Jam Night
DESCRIPTION:Open to members and their guests.
URL:https://newportricheyelks.org/event-calendar/open-mic-jam-night/2030-01-31/
CATEGORIES:Members & Their Guests
ATTACH;FMTTYPE=image/jpeg:https://newportricheyelks.org/wp-content/uploads/2026/01/Open-Mic-Jam-Night-720-x-576-Events-Calendar-Image.jpg
END:VEVENT
END:VCALENDAR