BEGIN:VCALENDAR
VERSION:2.0
PRODID:-//New Port Richey Elks Lodge 2284 - ECPv6.15.20//NONSGML v1.0//EN
CALSCALE:GREGORIAN
METHOD:PUBLISH
X-WR-CALNAME:New Port Richey Elks Lodge 2284
X-ORIGINAL-URL:https://newportricheyelks.org
X-WR-CALDESC:Events for New Port Richey Elks Lodge 2284
REFRESH-INTERVAL;VALUE=DURATION:PT1H
X-Robots-Tag:noindex
X-PUBLISHED-TTL:PT1H
BEGIN:VTIMEZONE
TZID:America/New_York
BEGIN:DAYLIGHT
TZOFFSETFROM:-0500
TZOFFSETTO:-0400
TZNAME:EDT
DTSTART:20250309T070000
END:DAYLIGHT
BEGIN:STANDARD
TZOFFSETFROM:-0400
TZOFFSETTO:-0500
TZNAME:EST
DTSTART:20251102T060000
END:STANDARD
BEGIN:DAYLIGHT
TZOFFSETFROM:-0500
TZOFFSETTO:-0400
TZNAME:EDT
DTSTART:20260308T070000
END:DAYLIGHT
BEGIN:STANDARD
TZOFFSETFROM:-0400
TZOFFSETTO:-0500
TZNAME:EST
DTSTART:20261101T060000
END:STANDARD
BEGIN:DAYLIGHT
TZOFFSETFROM:-0500
TZOFFSETTO:-0400
TZNAME:EDT
DTSTART:20270314T070000
END:DAYLIGHT
BEGIN:STANDARD
TZOFFSETFROM:-0400
TZOFFSETTO:-0500
TZNAME:EST
DTSTART:20271107T060000
END:STANDARD
BEGIN:DAYLIGHT
TZOFFSETFROM:-0500
TZOFFSETTO:-0400
TZNAME:EDT
DTSTART:20280312T070000
END:DAYLIGHT
BEGIN:STANDARD
TZOFFSETFROM:-0400
TZOFFSETTO:-0500
TZNAME:EST
DTSTART:20281105T060000
END:STANDARD
END:VTIMEZONE
BEGIN:VEVENT
DTSTART;TZID=America/New_York:20261011T110000
DTEND;TZID=America/New_York:20261011T160000
DTSTAMP:20260423T093120
CREATED:20250226T162315Z
LAST-MODIFIED:20250321T213506Z
UID:10008874-1791716400-1791734400@newportricheyelks.org
SUMMARY:Bingo
DESCRIPTION:Open to everyone. \nDoors open at 11 am\, and the first game starts at 1 pm. \nOver 50 games to play. \nBeverages are available to purchase with CASH ONLY. \nSnacks are available to purchase with CASH ONLY. \nNonsmoking facility. \nClick here to learn more.
URL:https://newportricheyelks.org/event-calendar/bingo-3-2/2026-10-11/
LOCATION:Luikart Hall
CATEGORIES:Membership Not Required
ATTACH;FMTTYPE=image/png:https://newportricheyelks.org/wp-content/uploads/2025/02/Bingo-720-x-576-Event-Calendar-Featured-1.png
END:VEVENT
BEGIN:VEVENT
DTSTART;TZID=America/New_York:20261018T110000
DTEND;TZID=America/New_York:20261018T160000
DTSTAMP:20260423T093120
CREATED:20250226T162315Z
LAST-MODIFIED:20250321T213506Z
UID:10008875-1792321200-1792339200@newportricheyelks.org
SUMMARY:Bingo
DESCRIPTION:Open to everyone. \nDoors open at 11 am\, and the first game starts at 1 pm. \nOver 50 games to play. \nBeverages are available to purchase with CASH ONLY. \nSnacks are available to purchase with CASH ONLY. \nNonsmoking facility. \nClick here to learn more.
URL:https://newportricheyelks.org/event-calendar/bingo-3-2/2026-10-18/
LOCATION:Luikart Hall
CATEGORIES:Membership Not Required
ATTACH;FMTTYPE=image/png:https://newportricheyelks.org/wp-content/uploads/2025/02/Bingo-720-x-576-Event-Calendar-Featured-1.png
END:VEVENT
BEGIN:VEVENT
DTSTART;TZID=America/New_York:20261025T110000
DTEND;TZID=America/New_York:20261025T160000
DTSTAMP:20260423T093120
CREATED:20250226T162315Z
LAST-MODIFIED:20250321T213506Z
UID:10008876-1792926000-1792944000@newportricheyelks.org
SUMMARY:Bingo
DESCRIPTION:Open to everyone. \nDoors open at 11 am\, and the first game starts at 1 pm. \nOver 50 games to play. \nBeverages are available to purchase with CASH ONLY. \nSnacks are available to purchase with CASH ONLY. \nNonsmoking facility. \nClick here to learn more.
URL:https://newportricheyelks.org/event-calendar/bingo-3-2/2026-10-25/
LOCATION:Luikart Hall
CATEGORIES:Membership Not Required
ATTACH;FMTTYPE=image/png:https://newportricheyelks.org/wp-content/uploads/2025/02/Bingo-720-x-576-Event-Calendar-Featured-1.png
END:VEVENT
BEGIN:VEVENT
DTSTART;TZID=America/New_York:20261101T110000
DTEND;TZID=America/New_York:20261101T160000
DTSTAMP:20260423T093120
CREATED:20250226T162315Z
LAST-MODIFIED:20250321T213506Z
UID:10008877-1793530800-1793548800@newportricheyelks.org
SUMMARY:Bingo
DESCRIPTION:Open to everyone. \nDoors open at 11 am\, and the first game starts at 1 pm. \nOver 50 games to play. \nBeverages are available to purchase with CASH ONLY. \nSnacks are available to purchase with CASH ONLY. \nNonsmoking facility. \nClick here to learn more.
URL:https://newportricheyelks.org/event-calendar/bingo-3-2/2026-11-01/
LOCATION:Luikart Hall
CATEGORIES:Membership Not Required
ATTACH;FMTTYPE=image/png:https://newportricheyelks.org/wp-content/uploads/2025/02/Bingo-720-x-576-Event-Calendar-Featured-1.png
END:VEVENT
BEGIN:VEVENT
DTSTART;TZID=America/New_York:20261108T110000
DTEND;TZID=America/New_York:20261108T160000
DTSTAMP:20260423T093120
CREATED:20250226T162315Z
LAST-MODIFIED:20250321T213506Z
UID:10008878-1794135600-1794153600@newportricheyelks.org
SUMMARY:Bingo
DESCRIPTION:Open to everyone. \nDoors open at 11 am\, and the first game starts at 1 pm. \nOver 50 games to play. \nBeverages are available to purchase with CASH ONLY. \nSnacks are available to purchase with CASH ONLY. \nNonsmoking facility. \nClick here to learn more.
URL:https://newportricheyelks.org/event-calendar/bingo-3-2/2026-11-08/
LOCATION:Luikart Hall
CATEGORIES:Membership Not Required
ATTACH;FMTTYPE=image/png:https://newportricheyelks.org/wp-content/uploads/2025/02/Bingo-720-x-576-Event-Calendar-Featured-1.png
END:VEVENT
BEGIN:VEVENT
DTSTART;TZID=America/New_York:20261115T110000
DTEND;TZID=America/New_York:20261115T160000
DTSTAMP:20260423T093120
CREATED:20250226T162315Z
LAST-MODIFIED:20250321T213506Z
UID:10008879-1794740400-1794758400@newportricheyelks.org
SUMMARY:Bingo
DESCRIPTION:Open to everyone. \nDoors open at 11 am\, and the first game starts at 1 pm. \nOver 50 games to play. \nBeverages are available to purchase with CASH ONLY. \nSnacks are available to purchase with CASH ONLY. \nNonsmoking facility. \nClick here to learn more.
URL:https://newportricheyelks.org/event-calendar/bingo-3-2/2026-11-15/
LOCATION:Luikart Hall
CATEGORIES:Membership Not Required
ATTACH;FMTTYPE=image/png:https://newportricheyelks.org/wp-content/uploads/2025/02/Bingo-720-x-576-Event-Calendar-Featured-1.png
END:VEVENT
BEGIN:VEVENT
DTSTART;TZID=America/New_York:20261122T110000
DTEND;TZID=America/New_York:20261122T160000
DTSTAMP:20260423T093120
CREATED:20250226T162315Z
LAST-MODIFIED:20250321T213506Z
UID:10008880-1795345200-1795363200@newportricheyelks.org
SUMMARY:Bingo
DESCRIPTION:Open to everyone. \nDoors open at 11 am\, and the first game starts at 1 pm. \nOver 50 games to play. \nBeverages are available to purchase with CASH ONLY. \nSnacks are available to purchase with CASH ONLY. \nNonsmoking facility. \nClick here to learn more.
URL:https://newportricheyelks.org/event-calendar/bingo-3-2/2026-11-22/
LOCATION:Luikart Hall
CATEGORIES:Membership Not Required
ATTACH;FMTTYPE=image/png:https://newportricheyelks.org/wp-content/uploads/2025/02/Bingo-720-x-576-Event-Calendar-Featured-1.png
END:VEVENT
BEGIN:VEVENT
DTSTART;TZID=America/New_York:20261129T110000
DTEND;TZID=America/New_York:20261129T160000
DTSTAMP:20260423T093120
CREATED:20250226T162315Z
LAST-MODIFIED:20250321T213506Z
UID:10008881-1795950000-1795968000@newportricheyelks.org
SUMMARY:Bingo
DESCRIPTION:Open to everyone. \nDoors open at 11 am\, and the first game starts at 1 pm. \nOver 50 games to play. \nBeverages are available to purchase with CASH ONLY. \nSnacks are available to purchase with CASH ONLY. \nNonsmoking facility. \nClick here to learn more.
URL:https://newportricheyelks.org/event-calendar/bingo-3-2/2026-11-29/
LOCATION:Luikart Hall
CATEGORIES:Membership Not Required
ATTACH;FMTTYPE=image/png:https://newportricheyelks.org/wp-content/uploads/2025/02/Bingo-720-x-576-Event-Calendar-Featured-1.png
END:VEVENT
BEGIN:VEVENT
DTSTART;TZID=America/New_York:20261206T110000
DTEND;TZID=America/New_York:20261206T160000
DTSTAMP:20260423T093120
CREATED:20250226T162315Z
LAST-MODIFIED:20250321T213506Z
UID:10008882-1796554800-1796572800@newportricheyelks.org
SUMMARY:Bingo
DESCRIPTION:Open to everyone. \nDoors open at 11 am\, and the first game starts at 1 pm. \nOver 50 games to play. \nBeverages are available to purchase with CASH ONLY. \nSnacks are available to purchase with CASH ONLY. \nNonsmoking facility. \nClick here to learn more.
URL:https://newportricheyelks.org/event-calendar/bingo-3-2/2026-12-06/
LOCATION:Luikart Hall
CATEGORIES:Membership Not Required
ATTACH;FMTTYPE=image/png:https://newportricheyelks.org/wp-content/uploads/2025/02/Bingo-720-x-576-Event-Calendar-Featured-1.png
END:VEVENT
BEGIN:VEVENT
DTSTART;TZID=America/New_York:20261213T110000
DTEND;TZID=America/New_York:20261213T160000
DTSTAMP:20260423T093120
CREATED:20250226T162315Z
LAST-MODIFIED:20250321T213506Z
UID:10008883-1797159600-1797177600@newportricheyelks.org
SUMMARY:Bingo
DESCRIPTION:Open to everyone. \nDoors open at 11 am\, and the first game starts at 1 pm. \nOver 50 games to play. \nBeverages are available to purchase with CASH ONLY. \nSnacks are available to purchase with CASH ONLY. \nNonsmoking facility. \nClick here to learn more.
URL:https://newportricheyelks.org/event-calendar/bingo-3-2/2026-12-13/
LOCATION:Luikart Hall
CATEGORIES:Membership Not Required
ATTACH;FMTTYPE=image/png:https://newportricheyelks.org/wp-content/uploads/2025/02/Bingo-720-x-576-Event-Calendar-Featured-1.png
END:VEVENT
BEGIN:VEVENT
DTSTART;TZID=America/New_York:20261220T110000
DTEND;TZID=America/New_York:20261220T160000
DTSTAMP:20260423T093120
CREATED:20250226T162315Z
LAST-MODIFIED:20250321T213506Z
UID:10008884-1797764400-1797782400@newportricheyelks.org
SUMMARY:Bingo
DESCRIPTION:Open to everyone. \nDoors open at 11 am\, and the first game starts at 1 pm. \nOver 50 games to play. \nBeverages are available to purchase with CASH ONLY. \nSnacks are available to purchase with CASH ONLY. \nNonsmoking facility. \nClick here to learn more.
URL:https://newportricheyelks.org/event-calendar/bingo-3-2/2026-12-20/
LOCATION:Luikart Hall
CATEGORIES:Membership Not Required
ATTACH;FMTTYPE=image/png:https://newportricheyelks.org/wp-content/uploads/2025/02/Bingo-720-x-576-Event-Calendar-Featured-1.png
END:VEVENT
BEGIN:VEVENT
DTSTART;TZID=America/New_York:20261227T110000
DTEND;TZID=America/New_York:20261227T160000
DTSTAMP:20260423T093120
CREATED:20250226T162315Z
LAST-MODIFIED:20250321T213506Z
UID:10008885-1798369200-1798387200@newportricheyelks.org
SUMMARY:Bingo
DESCRIPTION:Open to everyone. \nDoors open at 11 am\, and the first game starts at 1 pm. \nOver 50 games to play. \nBeverages are available to purchase with CASH ONLY. \nSnacks are available to purchase with CASH ONLY. \nNonsmoking facility. \nClick here to learn more.
URL:https://newportricheyelks.org/event-calendar/bingo-3-2/2026-12-27/
LOCATION:Luikart Hall
CATEGORIES:Membership Not Required
ATTACH;FMTTYPE=image/png:https://newportricheyelks.org/wp-content/uploads/2025/02/Bingo-720-x-576-Event-Calendar-Featured-1.png
END:VEVENT
BEGIN:VEVENT
DTSTART;TZID=America/New_York:20270103T110000
DTEND;TZID=America/New_York:20270103T160000
DTSTAMP:20260423T093120
CREATED:20250226T162315Z
LAST-MODIFIED:20250321T213506Z
UID:10008886-1798974000-1798992000@newportricheyelks.org
SUMMARY:Bingo
DESCRIPTION:Open to everyone. \nDoors open at 11 am\, and the first game starts at 1 pm. \nOver 50 games to play. \nBeverages are available to purchase with CASH ONLY. \nSnacks are available to purchase with CASH ONLY. \nNonsmoking facility. \nClick here to learn more.
URL:https://newportricheyelks.org/event-calendar/bingo-3-2/2027-01-03/
LOCATION:Luikart Hall
CATEGORIES:Membership Not Required
ATTACH;FMTTYPE=image/png:https://newportricheyelks.org/wp-content/uploads/2025/02/Bingo-720-x-576-Event-Calendar-Featured-1.png
END:VEVENT
BEGIN:VEVENT
DTSTART;TZID=America/New_York:20270110T110000
DTEND;TZID=America/New_York:20270110T160000
DTSTAMP:20260423T093120
CREATED:20250226T162315Z
LAST-MODIFIED:20250321T213506Z
UID:10008887-1799578800-1799596800@newportricheyelks.org
SUMMARY:Bingo
DESCRIPTION:Open to everyone. \nDoors open at 11 am\, and the first game starts at 1 pm. \nOver 50 games to play. \nBeverages are available to purchase with CASH ONLY. \nSnacks are available to purchase with CASH ONLY. \nNonsmoking facility. \nClick here to learn more.
URL:https://newportricheyelks.org/event-calendar/bingo-3-2/2027-01-10/
LOCATION:Luikart Hall
CATEGORIES:Membership Not Required
ATTACH;FMTTYPE=image/png:https://newportricheyelks.org/wp-content/uploads/2025/02/Bingo-720-x-576-Event-Calendar-Featured-1.png
END:VEVENT
BEGIN:VEVENT
DTSTART;TZID=America/New_York:20270117T110000
DTEND;TZID=America/New_York:20270117T160000
DTSTAMP:20260423T093120
CREATED:20250226T162315Z
LAST-MODIFIED:20250321T213506Z
UID:10008888-1800183600-1800201600@newportricheyelks.org
SUMMARY:Bingo
DESCRIPTION:Open to everyone. \nDoors open at 11 am\, and the first game starts at 1 pm. \nOver 50 games to play. \nBeverages are available to purchase with CASH ONLY. \nSnacks are available to purchase with CASH ONLY. \nNonsmoking facility. \nClick here to learn more.
URL:https://newportricheyelks.org/event-calendar/bingo-3-2/2027-01-17/
LOCATION:Luikart Hall
CATEGORIES:Membership Not Required
ATTACH;FMTTYPE=image/png:https://newportricheyelks.org/wp-content/uploads/2025/02/Bingo-720-x-576-Event-Calendar-Featured-1.png
END:VEVENT
BEGIN:VEVENT
DTSTART;TZID=America/New_York:20270124T110000
DTEND;TZID=America/New_York:20270124T160000
DTSTAMP:20260423T093120
CREATED:20250226T162315Z
LAST-MODIFIED:20250321T213506Z
UID:10008889-1800788400-1800806400@newportricheyelks.org
SUMMARY:Bingo
DESCRIPTION:Open to everyone. \nDoors open at 11 am\, and the first game starts at 1 pm. \nOver 50 games to play. \nBeverages are available to purchase with CASH ONLY. \nSnacks are available to purchase with CASH ONLY. \nNonsmoking facility. \nClick here to learn more.
URL:https://newportricheyelks.org/event-calendar/bingo-3-2/2027-01-24/
LOCATION:Luikart Hall
CATEGORIES:Membership Not Required
ATTACH;FMTTYPE=image/png:https://newportricheyelks.org/wp-content/uploads/2025/02/Bingo-720-x-576-Event-Calendar-Featured-1.png
END:VEVENT
BEGIN:VEVENT
DTSTART;TZID=America/New_York:20270131T110000
DTEND;TZID=America/New_York:20270131T160000
DTSTAMP:20260423T093120
CREATED:20250226T162315Z
LAST-MODIFIED:20250321T213506Z
UID:10008890-1801393200-1801411200@newportricheyelks.org
SUMMARY:Bingo
DESCRIPTION:Open to everyone. \nDoors open at 11 am\, and the first game starts at 1 pm. \nOver 50 games to play. \nBeverages are available to purchase with CASH ONLY. \nSnacks are available to purchase with CASH ONLY. \nNonsmoking facility. \nClick here to learn more.
URL:https://newportricheyelks.org/event-calendar/bingo-3-2/2027-01-31/
LOCATION:Luikart Hall
CATEGORIES:Membership Not Required
ATTACH;FMTTYPE=image/png:https://newportricheyelks.org/wp-content/uploads/2025/02/Bingo-720-x-576-Event-Calendar-Featured-1.png
END:VEVENT
BEGIN:VEVENT
DTSTART;TZID=America/New_York:20270207T110000
DTEND;TZID=America/New_York:20270207T160000
DTSTAMP:20260423T093120
CREATED:20250226T162315Z
LAST-MODIFIED:20250321T213506Z
UID:10008891-1801998000-1802016000@newportricheyelks.org
SUMMARY:Bingo
DESCRIPTION:Open to everyone. \nDoors open at 11 am\, and the first game starts at 1 pm. \nOver 50 games to play. \nBeverages are available to purchase with CASH ONLY. \nSnacks are available to purchase with CASH ONLY. \nNonsmoking facility. \nClick here to learn more.
URL:https://newportricheyelks.org/event-calendar/bingo-3-2/2027-02-07/
LOCATION:Luikart Hall
CATEGORIES:Membership Not Required
ATTACH;FMTTYPE=image/png:https://newportricheyelks.org/wp-content/uploads/2025/02/Bingo-720-x-576-Event-Calendar-Featured-1.png
END:VEVENT
BEGIN:VEVENT
DTSTART;TZID=America/New_York:20270214T110000
DTEND;TZID=America/New_York:20270214T160000
DTSTAMP:20260423T093120
CREATED:20250226T162315Z
LAST-MODIFIED:20250321T213506Z
UID:10008892-1802602800-1802620800@newportricheyelks.org
SUMMARY:Bingo
DESCRIPTION:Open to everyone. \nDoors open at 11 am\, and the first game starts at 1 pm. \nOver 50 games to play. \nBeverages are available to purchase with CASH ONLY. \nSnacks are available to purchase with CASH ONLY. \nNonsmoking facility. \nClick here to learn more.
URL:https://newportricheyelks.org/event-calendar/bingo-3-2/2027-02-14/
LOCATION:Luikart Hall
CATEGORIES:Membership Not Required
ATTACH;FMTTYPE=image/png:https://newportricheyelks.org/wp-content/uploads/2025/02/Bingo-720-x-576-Event-Calendar-Featured-1.png
END:VEVENT
BEGIN:VEVENT
DTSTART;TZID=America/New_York:20270221T110000
DTEND;TZID=America/New_York:20270221T160000
DTSTAMP:20260423T093120
CREATED:20250226T162315Z
LAST-MODIFIED:20250321T213506Z
UID:10008893-1803207600-1803225600@newportricheyelks.org
SUMMARY:Bingo
DESCRIPTION:Open to everyone. \nDoors open at 11 am\, and the first game starts at 1 pm. \nOver 50 games to play. \nBeverages are available to purchase with CASH ONLY. \nSnacks are available to purchase with CASH ONLY. \nNonsmoking facility. \nClick here to learn more.
URL:https://newportricheyelks.org/event-calendar/bingo-3-2/2027-02-21/
LOCATION:Luikart Hall
CATEGORIES:Membership Not Required
ATTACH;FMTTYPE=image/png:https://newportricheyelks.org/wp-content/uploads/2025/02/Bingo-720-x-576-Event-Calendar-Featured-1.png
END:VEVENT
BEGIN:VEVENT
DTSTART;TZID=America/New_York:20270228T110000
DTEND;TZID=America/New_York:20270228T160000
DTSTAMP:20260423T093120
CREATED:20250226T162315Z
LAST-MODIFIED:20250321T213506Z
UID:10008894-1803812400-1803830400@newportricheyelks.org
SUMMARY:Bingo
DESCRIPTION:Open to everyone. \nDoors open at 11 am\, and the first game starts at 1 pm. \nOver 50 games to play. \nBeverages are available to purchase with CASH ONLY. \nSnacks are available to purchase with CASH ONLY. \nNonsmoking facility. \nClick here to learn more.
URL:https://newportricheyelks.org/event-calendar/bingo-3-2/2027-02-28/
LOCATION:Luikart Hall
CATEGORIES:Membership Not Required
ATTACH;FMTTYPE=image/png:https://newportricheyelks.org/wp-content/uploads/2025/02/Bingo-720-x-576-Event-Calendar-Featured-1.png
END:VEVENT
BEGIN:VEVENT
DTSTART;TZID=America/New_York:20270307T110000
DTEND;TZID=America/New_York:20270307T160000
DTSTAMP:20260423T093120
CREATED:20250226T162315Z
LAST-MODIFIED:20250321T213506Z
UID:10008895-1804417200-1804435200@newportricheyelks.org
SUMMARY:Bingo
DESCRIPTION:Open to everyone. \nDoors open at 11 am\, and the first game starts at 1 pm. \nOver 50 games to play. \nBeverages are available to purchase with CASH ONLY. \nSnacks are available to purchase with CASH ONLY. \nNonsmoking facility. \nClick here to learn more.
URL:https://newportricheyelks.org/event-calendar/bingo-3-2/2027-03-07/
LOCATION:Luikart Hall
CATEGORIES:Membership Not Required
ATTACH;FMTTYPE=image/png:https://newportricheyelks.org/wp-content/uploads/2025/02/Bingo-720-x-576-Event-Calendar-Featured-1.png
END:VEVENT
BEGIN:VEVENT
DTSTART;TZID=America/New_York:20270314T110000
DTEND;TZID=America/New_York:20270314T160000
DTSTAMP:20260423T093120
CREATED:20250226T162315Z
LAST-MODIFIED:20250321T213506Z
UID:10008896-1805022000-1805040000@newportricheyelks.org
SUMMARY:Bingo
DESCRIPTION:Open to everyone. \nDoors open at 11 am\, and the first game starts at 1 pm. \nOver 50 games to play. \nBeverages are available to purchase with CASH ONLY. \nSnacks are available to purchase with CASH ONLY. \nNonsmoking facility. \nClick here to learn more.
URL:https://newportricheyelks.org/event-calendar/bingo-3-2/2027-03-14/
LOCATION:Luikart Hall
CATEGORIES:Membership Not Required
ATTACH;FMTTYPE=image/png:https://newportricheyelks.org/wp-content/uploads/2025/02/Bingo-720-x-576-Event-Calendar-Featured-1.png
END:VEVENT
BEGIN:VEVENT
DTSTART;TZID=America/New_York:20270321T110000
DTEND;TZID=America/New_York:20270321T160000
DTSTAMP:20260423T093120
CREATED:20250226T162315Z
LAST-MODIFIED:20250321T213506Z
UID:10008897-1805626800-1805644800@newportricheyelks.org
SUMMARY:Bingo
DESCRIPTION:Open to everyone. \nDoors open at 11 am\, and the first game starts at 1 pm. \nOver 50 games to play. \nBeverages are available to purchase with CASH ONLY. \nSnacks are available to purchase with CASH ONLY. \nNonsmoking facility. \nClick here to learn more.
URL:https://newportricheyelks.org/event-calendar/bingo-3-2/2027-03-21/
LOCATION:Luikart Hall
CATEGORIES:Membership Not Required
ATTACH;FMTTYPE=image/png:https://newportricheyelks.org/wp-content/uploads/2025/02/Bingo-720-x-576-Event-Calendar-Featured-1.png
END:VEVENT
BEGIN:VEVENT
DTSTART;TZID=America/New_York:20270328T110000
DTEND;TZID=America/New_York:20270328T160000
DTSTAMP:20260423T093120
CREATED:20250226T162315Z
LAST-MODIFIED:20250321T213506Z
UID:10008898-1806231600-1806249600@newportricheyelks.org
SUMMARY:Bingo
DESCRIPTION:Open to everyone. \nDoors open at 11 am\, and the first game starts at 1 pm. \nOver 50 games to play. \nBeverages are available to purchase with CASH ONLY. \nSnacks are available to purchase with CASH ONLY. \nNonsmoking facility. \nClick here to learn more.
URL:https://newportricheyelks.org/event-calendar/bingo-3-2/2027-03-28/
LOCATION:Luikart Hall
CATEGORIES:Membership Not Required
ATTACH;FMTTYPE=image/png:https://newportricheyelks.org/wp-content/uploads/2025/02/Bingo-720-x-576-Event-Calendar-Featured-1.png
END:VEVENT
BEGIN:VEVENT
DTSTART;TZID=America/New_York:20270404T110000
DTEND;TZID=America/New_York:20270404T160000
DTSTAMP:20260423T093120
CREATED:20250226T162315Z
LAST-MODIFIED:20250321T213506Z
UID:10008899-1806836400-1806854400@newportricheyelks.org
SUMMARY:Bingo
DESCRIPTION:Open to everyone. \nDoors open at 11 am\, and the first game starts at 1 pm. \nOver 50 games to play. \nBeverages are available to purchase with CASH ONLY. \nSnacks are available to purchase with CASH ONLY. \nNonsmoking facility. \nClick here to learn more.
URL:https://newportricheyelks.org/event-calendar/bingo-3-2/2027-04-04/
LOCATION:Luikart Hall
CATEGORIES:Membership Not Required
ATTACH;FMTTYPE=image/png:https://newportricheyelks.org/wp-content/uploads/2025/02/Bingo-720-x-576-Event-Calendar-Featured-1.png
END:VEVENT
BEGIN:VEVENT
DTSTART;TZID=America/New_York:20270411T110000
DTEND;TZID=America/New_York:20270411T160000
DTSTAMP:20260423T093120
CREATED:20250226T162315Z
LAST-MODIFIED:20250321T213506Z
UID:10008900-1807441200-1807459200@newportricheyelks.org
SUMMARY:Bingo
DESCRIPTION:Open to everyone. \nDoors open at 11 am\, and the first game starts at 1 pm. \nOver 50 games to play. \nBeverages are available to purchase with CASH ONLY. \nSnacks are available to purchase with CASH ONLY. \nNonsmoking facility. \nClick here to learn more.
URL:https://newportricheyelks.org/event-calendar/bingo-3-2/2027-04-11/
LOCATION:Luikart Hall
CATEGORIES:Membership Not Required
ATTACH;FMTTYPE=image/png:https://newportricheyelks.org/wp-content/uploads/2025/02/Bingo-720-x-576-Event-Calendar-Featured-1.png
END:VEVENT
BEGIN:VEVENT
DTSTART;TZID=America/New_York:20270418T110000
DTEND;TZID=America/New_York:20270418T160000
DTSTAMP:20260423T093120
CREATED:20250226T162315Z
LAST-MODIFIED:20250321T213506Z
UID:10008901-1808046000-1808064000@newportricheyelks.org
SUMMARY:Bingo
DESCRIPTION:Open to everyone. \nDoors open at 11 am\, and the first game starts at 1 pm. \nOver 50 games to play. \nBeverages are available to purchase with CASH ONLY. \nSnacks are available to purchase with CASH ONLY. \nNonsmoking facility. \nClick here to learn more.
URL:https://newportricheyelks.org/event-calendar/bingo-3-2/2027-04-18/
LOCATION:Luikart Hall
CATEGORIES:Membership Not Required
ATTACH;FMTTYPE=image/png:https://newportricheyelks.org/wp-content/uploads/2025/02/Bingo-720-x-576-Event-Calendar-Featured-1.png
END:VEVENT
BEGIN:VEVENT
DTSTART;TZID=America/New_York:20270425T110000
DTEND;TZID=America/New_York:20270425T160000
DTSTAMP:20260423T093120
CREATED:20250226T162315Z
LAST-MODIFIED:20250321T213506Z
UID:10008902-1808650800-1808668800@newportricheyelks.org
SUMMARY:Bingo
DESCRIPTION:Open to everyone. \nDoors open at 11 am\, and the first game starts at 1 pm. \nOver 50 games to play. \nBeverages are available to purchase with CASH ONLY. \nSnacks are available to purchase with CASH ONLY. \nNonsmoking facility. \nClick here to learn more.
URL:https://newportricheyelks.org/event-calendar/bingo-3-2/2027-04-25/
LOCATION:Luikart Hall
CATEGORIES:Membership Not Required
ATTACH;FMTTYPE=image/png:https://newportricheyelks.org/wp-content/uploads/2025/02/Bingo-720-x-576-Event-Calendar-Featured-1.png
END:VEVENT
BEGIN:VEVENT
DTSTART;TZID=America/New_York:20270502T110000
DTEND;TZID=America/New_York:20270502T160000
DTSTAMP:20260423T093120
CREATED:20250226T162315Z
LAST-MODIFIED:20250321T213506Z
UID:10008903-1809255600-1809273600@newportricheyelks.org
SUMMARY:Bingo
DESCRIPTION:Open to everyone. \nDoors open at 11 am\, and the first game starts at 1 pm. \nOver 50 games to play. \nBeverages are available to purchase with CASH ONLY. \nSnacks are available to purchase with CASH ONLY. \nNonsmoking facility. \nClick here to learn more.
URL:https://newportricheyelks.org/event-calendar/bingo-3-2/2027-05-02/
LOCATION:Luikart Hall
CATEGORIES:Membership Not Required
ATTACH;FMTTYPE=image/png:https://newportricheyelks.org/wp-content/uploads/2025/02/Bingo-720-x-576-Event-Calendar-Featured-1.png
END:VEVENT
END:VCALENDAR