BEGIN:VCALENDAR
VERSION:2.0
PRODID:-//New Port Richey Elks Lodge 2284 - ECPv6.15.20//NONSGML v1.0//EN
CALSCALE:GREGORIAN
METHOD:PUBLISH
X-ORIGINAL-URL:https://newportricheyelks.org
X-WR-CALDESC:Events for New Port Richey Elks Lodge 2284
REFRESH-INTERVAL;VALUE=DURATION:PT1H
X-Robots-Tag:noindex
X-PUBLISHED-TTL:PT1H
BEGIN:VTIMEZONE
TZID:America/New_York
BEGIN:DAYLIGHT
TZOFFSETFROM:-0500
TZOFFSETTO:-0400
TZNAME:EDT
DTSTART:20270314T070000
END:DAYLIGHT
BEGIN:STANDARD
TZOFFSETFROM:-0400
TZOFFSETTO:-0500
TZNAME:EST
DTSTART:20271107T060000
END:STANDARD
BEGIN:DAYLIGHT
TZOFFSETFROM:-0500
TZOFFSETTO:-0400
TZNAME:EDT
DTSTART:20280312T070000
END:DAYLIGHT
BEGIN:STANDARD
TZOFFSETFROM:-0400
TZOFFSETTO:-0500
TZNAME:EST
DTSTART:20281105T060000
END:STANDARD
BEGIN:DAYLIGHT
TZOFFSETFROM:-0500
TZOFFSETTO:-0400
TZNAME:EDT
DTSTART:20290311T070000
END:DAYLIGHT
BEGIN:STANDARD
TZOFFSETFROM:-0400
TZOFFSETTO:-0500
TZNAME:EST
DTSTART:20291104T060000
END:STANDARD
END:VTIMEZONE
BEGIN:VEVENT
DTSTART;TZID=America/New_York:20280227T110000
DTEND;TZID=America/New_York:20280227T160000
DTSTAMP:20260423T232238
CREATED:20250226T162315Z
LAST-MODIFIED:20250321T213506Z
UID:10008946-1835262000-1835280000@newportricheyelks.org
SUMMARY:Bingo
DESCRIPTION:Open to everyone. \nDoors open at 11 am\, and the first game starts at 1 pm. \nOver 50 games to play. \nBeverages are available to purchase with CASH ONLY. \nSnacks are available to purchase with CASH ONLY. \nNonsmoking facility. \nClick here to learn more.
URL:https://newportricheyelks.org/event-calendar/bingo-3-2/2028-02-27/
LOCATION:Luikart Hall
CATEGORIES:Membership Not Required
ATTACH;FMTTYPE=image/png:https://newportricheyelks.org/wp-content/uploads/2025/02/Bingo-720-x-576-Event-Calendar-Featured-1.png
END:VEVENT
BEGIN:VEVENT
DTSTART;TZID=America/New_York:20280305T110000
DTEND;TZID=America/New_York:20280305T160000
DTSTAMP:20260423T232238
CREATED:20250226T162315Z
LAST-MODIFIED:20250321T213506Z
UID:10008947-1835866800-1835884800@newportricheyelks.org
SUMMARY:Bingo
DESCRIPTION:Open to everyone. \nDoors open at 11 am\, and the first game starts at 1 pm. \nOver 50 games to play. \nBeverages are available to purchase with CASH ONLY. \nSnacks are available to purchase with CASH ONLY. \nNonsmoking facility. \nClick here to learn more.
URL:https://newportricheyelks.org/event-calendar/bingo-3-2/2028-03-05/
LOCATION:Luikart Hall
CATEGORIES:Membership Not Required
ATTACH;FMTTYPE=image/png:https://newportricheyelks.org/wp-content/uploads/2025/02/Bingo-720-x-576-Event-Calendar-Featured-1.png
END:VEVENT
BEGIN:VEVENT
DTSTART;TZID=America/New_York:20280312T110000
DTEND;TZID=America/New_York:20280312T160000
DTSTAMP:20260423T232238
CREATED:20250226T162315Z
LAST-MODIFIED:20250321T213506Z
UID:10008948-1836471600-1836489600@newportricheyelks.org
SUMMARY:Bingo
DESCRIPTION:Open to everyone. \nDoors open at 11 am\, and the first game starts at 1 pm. \nOver 50 games to play. \nBeverages are available to purchase with CASH ONLY. \nSnacks are available to purchase with CASH ONLY. \nNonsmoking facility. \nClick here to learn more.
URL:https://newportricheyelks.org/event-calendar/bingo-3-2/2028-03-12/
LOCATION:Luikart Hall
CATEGORIES:Membership Not Required
ATTACH;FMTTYPE=image/png:https://newportricheyelks.org/wp-content/uploads/2025/02/Bingo-720-x-576-Event-Calendar-Featured-1.png
END:VEVENT
BEGIN:VEVENT
DTSTART;TZID=America/New_York:20280319T110000
DTEND;TZID=America/New_York:20280319T160000
DTSTAMP:20260423T232238
CREATED:20250226T162315Z
LAST-MODIFIED:20250321T213506Z
UID:10008949-1837076400-1837094400@newportricheyelks.org
SUMMARY:Bingo
DESCRIPTION:Open to everyone. \nDoors open at 11 am\, and the first game starts at 1 pm. \nOver 50 games to play. \nBeverages are available to purchase with CASH ONLY. \nSnacks are available to purchase with CASH ONLY. \nNonsmoking facility. \nClick here to learn more.
URL:https://newportricheyelks.org/event-calendar/bingo-3-2/2028-03-19/
LOCATION:Luikart Hall
CATEGORIES:Membership Not Required
ATTACH;FMTTYPE=image/png:https://newportricheyelks.org/wp-content/uploads/2025/02/Bingo-720-x-576-Event-Calendar-Featured-1.png
END:VEVENT
BEGIN:VEVENT
DTSTART;TZID=America/New_York:20280326T110000
DTEND;TZID=America/New_York:20280326T160000
DTSTAMP:20260423T232239
CREATED:20250226T162315Z
LAST-MODIFIED:20250321T213506Z
UID:10008950-1837681200-1837699200@newportricheyelks.org
SUMMARY:Bingo
DESCRIPTION:Open to everyone. \nDoors open at 11 am\, and the first game starts at 1 pm. \nOver 50 games to play. \nBeverages are available to purchase with CASH ONLY. \nSnacks are available to purchase with CASH ONLY. \nNonsmoking facility. \nClick here to learn more.
URL:https://newportricheyelks.org/event-calendar/bingo-3-2/2028-03-26/
LOCATION:Luikart Hall
CATEGORIES:Membership Not Required
ATTACH;FMTTYPE=image/png:https://newportricheyelks.org/wp-content/uploads/2025/02/Bingo-720-x-576-Event-Calendar-Featured-1.png
END:VEVENT
BEGIN:VEVENT
DTSTART;TZID=America/New_York:20280402T110000
DTEND;TZID=America/New_York:20280402T160000
DTSTAMP:20260423T232239
CREATED:20250226T162315Z
LAST-MODIFIED:20250321T213506Z
UID:10008951-1838286000-1838304000@newportricheyelks.org
SUMMARY:Bingo
DESCRIPTION:Open to everyone. \nDoors open at 11 am\, and the first game starts at 1 pm. \nOver 50 games to play. \nBeverages are available to purchase with CASH ONLY. \nSnacks are available to purchase with CASH ONLY. \nNonsmoking facility. \nClick here to learn more.
URL:https://newportricheyelks.org/event-calendar/bingo-3-2/2028-04-02/
LOCATION:Luikart Hall
CATEGORIES:Membership Not Required
ATTACH;FMTTYPE=image/png:https://newportricheyelks.org/wp-content/uploads/2025/02/Bingo-720-x-576-Event-Calendar-Featured-1.png
END:VEVENT
BEGIN:VEVENT
DTSTART;TZID=America/New_York:20280409T110000
DTEND;TZID=America/New_York:20280409T160000
DTSTAMP:20260423T232239
CREATED:20250226T162315Z
LAST-MODIFIED:20250321T213506Z
UID:10008952-1838890800-1838908800@newportricheyelks.org
SUMMARY:Bingo
DESCRIPTION:Open to everyone. \nDoors open at 11 am\, and the first game starts at 1 pm. \nOver 50 games to play. \nBeverages are available to purchase with CASH ONLY. \nSnacks are available to purchase with CASH ONLY. \nNonsmoking facility. \nClick here to learn more.
URL:https://newportricheyelks.org/event-calendar/bingo-3-2/2028-04-09/
LOCATION:Luikart Hall
CATEGORIES:Membership Not Required
ATTACH;FMTTYPE=image/png:https://newportricheyelks.org/wp-content/uploads/2025/02/Bingo-720-x-576-Event-Calendar-Featured-1.png
END:VEVENT
BEGIN:VEVENT
DTSTART;TZID=America/New_York:20280416T110000
DTEND;TZID=America/New_York:20280416T160000
DTSTAMP:20260423T232239
CREATED:20250226T162315Z
LAST-MODIFIED:20250321T213506Z
UID:10008953-1839495600-1839513600@newportricheyelks.org
SUMMARY:Bingo
DESCRIPTION:Open to everyone. \nDoors open at 11 am\, and the first game starts at 1 pm. \nOver 50 games to play. \nBeverages are available to purchase with CASH ONLY. \nSnacks are available to purchase with CASH ONLY. \nNonsmoking facility. \nClick here to learn more.
URL:https://newportricheyelks.org/event-calendar/bingo-3-2/2028-04-16/
LOCATION:Luikart Hall
CATEGORIES:Membership Not Required
ATTACH;FMTTYPE=image/png:https://newportricheyelks.org/wp-content/uploads/2025/02/Bingo-720-x-576-Event-Calendar-Featured-1.png
END:VEVENT
BEGIN:VEVENT
DTSTART;TZID=America/New_York:20280423T110000
DTEND;TZID=America/New_York:20280423T160000
DTSTAMP:20260423T232239
CREATED:20250226T162315Z
LAST-MODIFIED:20250321T213506Z
UID:10008954-1840100400-1840118400@newportricheyelks.org
SUMMARY:Bingo
DESCRIPTION:Open to everyone. \nDoors open at 11 am\, and the first game starts at 1 pm. \nOver 50 games to play. \nBeverages are available to purchase with CASH ONLY. \nSnacks are available to purchase with CASH ONLY. \nNonsmoking facility. \nClick here to learn more.
URL:https://newportricheyelks.org/event-calendar/bingo-3-2/2028-04-23/
LOCATION:Luikart Hall
CATEGORIES:Membership Not Required
ATTACH;FMTTYPE=image/png:https://newportricheyelks.org/wp-content/uploads/2025/02/Bingo-720-x-576-Event-Calendar-Featured-1.png
END:VEVENT
BEGIN:VEVENT
DTSTART;TZID=America/New_York:20280430T110000
DTEND;TZID=America/New_York:20280430T160000
DTSTAMP:20260423T232239
CREATED:20250226T162315Z
LAST-MODIFIED:20250321T213506Z
UID:10008955-1840705200-1840723200@newportricheyelks.org
SUMMARY:Bingo
DESCRIPTION:Open to everyone. \nDoors open at 11 am\, and the first game starts at 1 pm. \nOver 50 games to play. \nBeverages are available to purchase with CASH ONLY. \nSnacks are available to purchase with CASH ONLY. \nNonsmoking facility. \nClick here to learn more.
URL:https://newportricheyelks.org/event-calendar/bingo-3-2/2028-04-30/
LOCATION:Luikart Hall
CATEGORIES:Membership Not Required
ATTACH;FMTTYPE=image/png:https://newportricheyelks.org/wp-content/uploads/2025/02/Bingo-720-x-576-Event-Calendar-Featured-1.png
END:VEVENT
BEGIN:VEVENT
DTSTART;TZID=America/New_York:20280507T110000
DTEND;TZID=America/New_York:20280507T160000
DTSTAMP:20260423T232239
CREATED:20250226T162315Z
LAST-MODIFIED:20250321T213506Z
UID:10008956-1841310000-1841328000@newportricheyelks.org
SUMMARY:Bingo
DESCRIPTION:Open to everyone. \nDoors open at 11 am\, and the first game starts at 1 pm. \nOver 50 games to play. \nBeverages are available to purchase with CASH ONLY. \nSnacks are available to purchase with CASH ONLY. \nNonsmoking facility. \nClick here to learn more.
URL:https://newportricheyelks.org/event-calendar/bingo-3-2/2028-05-07/
LOCATION:Luikart Hall
CATEGORIES:Membership Not Required
ATTACH;FMTTYPE=image/png:https://newportricheyelks.org/wp-content/uploads/2025/02/Bingo-720-x-576-Event-Calendar-Featured-1.png
END:VEVENT
BEGIN:VEVENT
DTSTART;TZID=America/New_York:20280514T110000
DTEND;TZID=America/New_York:20280514T160000
DTSTAMP:20260423T232239
CREATED:20250226T162315Z
LAST-MODIFIED:20250321T213506Z
UID:10008957-1841914800-1841932800@newportricheyelks.org
SUMMARY:Bingo
DESCRIPTION:Open to everyone. \nDoors open at 11 am\, and the first game starts at 1 pm. \nOver 50 games to play. \nBeverages are available to purchase with CASH ONLY. \nSnacks are available to purchase with CASH ONLY. \nNonsmoking facility. \nClick here to learn more.
URL:https://newportricheyelks.org/event-calendar/bingo-3-2/2028-05-14/
LOCATION:Luikart Hall
CATEGORIES:Membership Not Required
ATTACH;FMTTYPE=image/png:https://newportricheyelks.org/wp-content/uploads/2025/02/Bingo-720-x-576-Event-Calendar-Featured-1.png
END:VEVENT
BEGIN:VEVENT
DTSTART;TZID=America/New_York:20280521T110000
DTEND;TZID=America/New_York:20280521T160000
DTSTAMP:20260423T232239
CREATED:20250226T162315Z
LAST-MODIFIED:20250321T213506Z
UID:10008958-1842519600-1842537600@newportricheyelks.org
SUMMARY:Bingo
DESCRIPTION:Open to everyone. \nDoors open at 11 am\, and the first game starts at 1 pm. \nOver 50 games to play. \nBeverages are available to purchase with CASH ONLY. \nSnacks are available to purchase with CASH ONLY. \nNonsmoking facility. \nClick here to learn more.
URL:https://newportricheyelks.org/event-calendar/bingo-3-2/2028-05-21/
LOCATION:Luikart Hall
CATEGORIES:Membership Not Required
ATTACH;FMTTYPE=image/png:https://newportricheyelks.org/wp-content/uploads/2025/02/Bingo-720-x-576-Event-Calendar-Featured-1.png
END:VEVENT
BEGIN:VEVENT
DTSTART;TZID=America/New_York:20280528T110000
DTEND;TZID=America/New_York:20280528T160000
DTSTAMP:20260423T232239
CREATED:20250226T162315Z
LAST-MODIFIED:20250321T213506Z
UID:10008959-1843124400-1843142400@newportricheyelks.org
SUMMARY:Bingo
DESCRIPTION:Open to everyone. \nDoors open at 11 am\, and the first game starts at 1 pm. \nOver 50 games to play. \nBeverages are available to purchase with CASH ONLY. \nSnacks are available to purchase with CASH ONLY. \nNonsmoking facility. \nClick here to learn more.
URL:https://newportricheyelks.org/event-calendar/bingo-3-2/2028-05-28/
LOCATION:Luikart Hall
CATEGORIES:Membership Not Required
ATTACH;FMTTYPE=image/png:https://newportricheyelks.org/wp-content/uploads/2025/02/Bingo-720-x-576-Event-Calendar-Featured-1.png
END:VEVENT
BEGIN:VEVENT
DTSTART;TZID=America/New_York:20280604T110000
DTEND;TZID=America/New_York:20280604T160000
DTSTAMP:20260423T232239
CREATED:20250226T162315Z
LAST-MODIFIED:20250321T213506Z
UID:10008960-1843729200-1843747200@newportricheyelks.org
SUMMARY:Bingo
DESCRIPTION:Open to everyone. \nDoors open at 11 am\, and the first game starts at 1 pm. \nOver 50 games to play. \nBeverages are available to purchase with CASH ONLY. \nSnacks are available to purchase with CASH ONLY. \nNonsmoking facility. \nClick here to learn more.
URL:https://newportricheyelks.org/event-calendar/bingo-3-2/2028-06-04/
LOCATION:Luikart Hall
CATEGORIES:Membership Not Required
ATTACH;FMTTYPE=image/png:https://newportricheyelks.org/wp-content/uploads/2025/02/Bingo-720-x-576-Event-Calendar-Featured-1.png
END:VEVENT
BEGIN:VEVENT
DTSTART;TZID=America/New_York:20280611T110000
DTEND;TZID=America/New_York:20280611T160000
DTSTAMP:20260423T232239
CREATED:20250226T162315Z
LAST-MODIFIED:20250321T213506Z
UID:10008961-1844334000-1844352000@newportricheyelks.org
SUMMARY:Bingo
DESCRIPTION:Open to everyone. \nDoors open at 11 am\, and the first game starts at 1 pm. \nOver 50 games to play. \nBeverages are available to purchase with CASH ONLY. \nSnacks are available to purchase with CASH ONLY. \nNonsmoking facility. \nClick here to learn more.
URL:https://newportricheyelks.org/event-calendar/bingo-3-2/2028-06-11/
LOCATION:Luikart Hall
CATEGORIES:Membership Not Required
ATTACH;FMTTYPE=image/png:https://newportricheyelks.org/wp-content/uploads/2025/02/Bingo-720-x-576-Event-Calendar-Featured-1.png
END:VEVENT
BEGIN:VEVENT
DTSTART;TZID=America/New_York:20280618T110000
DTEND;TZID=America/New_York:20280618T160000
DTSTAMP:20260423T232239
CREATED:20250226T162315Z
LAST-MODIFIED:20250321T213506Z
UID:10008962-1844938800-1844956800@newportricheyelks.org
SUMMARY:Bingo
DESCRIPTION:Open to everyone. \nDoors open at 11 am\, and the first game starts at 1 pm. \nOver 50 games to play. \nBeverages are available to purchase with CASH ONLY. \nSnacks are available to purchase with CASH ONLY. \nNonsmoking facility. \nClick here to learn more.
URL:https://newportricheyelks.org/event-calendar/bingo-3-2/2028-06-18/
LOCATION:Luikart Hall
CATEGORIES:Membership Not Required
ATTACH;FMTTYPE=image/png:https://newportricheyelks.org/wp-content/uploads/2025/02/Bingo-720-x-576-Event-Calendar-Featured-1.png
END:VEVENT
BEGIN:VEVENT
DTSTART;TZID=America/New_York:20280625T110000
DTEND;TZID=America/New_York:20280625T160000
DTSTAMP:20260423T232239
CREATED:20250226T162315Z
LAST-MODIFIED:20250321T213506Z
UID:10008963-1845543600-1845561600@newportricheyelks.org
SUMMARY:Bingo
DESCRIPTION:Open to everyone. \nDoors open at 11 am\, and the first game starts at 1 pm. \nOver 50 games to play. \nBeverages are available to purchase with CASH ONLY. \nSnacks are available to purchase with CASH ONLY. \nNonsmoking facility. \nClick here to learn more.
URL:https://newportricheyelks.org/event-calendar/bingo-3-2/2028-06-25/
LOCATION:Luikart Hall
CATEGORIES:Membership Not Required
ATTACH;FMTTYPE=image/png:https://newportricheyelks.org/wp-content/uploads/2025/02/Bingo-720-x-576-Event-Calendar-Featured-1.png
END:VEVENT
BEGIN:VEVENT
DTSTART;TZID=America/New_York:20280702T110000
DTEND;TZID=America/New_York:20280702T160000
DTSTAMP:20260423T232239
CREATED:20250226T162315Z
LAST-MODIFIED:20250321T213506Z
UID:10008964-1846148400-1846166400@newportricheyelks.org
SUMMARY:Bingo
DESCRIPTION:Open to everyone. \nDoors open at 11 am\, and the first game starts at 1 pm. \nOver 50 games to play. \nBeverages are available to purchase with CASH ONLY. \nSnacks are available to purchase with CASH ONLY. \nNonsmoking facility. \nClick here to learn more.
URL:https://newportricheyelks.org/event-calendar/bingo-3-2/2028-07-02/
LOCATION:Luikart Hall
CATEGORIES:Membership Not Required
ATTACH;FMTTYPE=image/png:https://newportricheyelks.org/wp-content/uploads/2025/02/Bingo-720-x-576-Event-Calendar-Featured-1.png
END:VEVENT
BEGIN:VEVENT
DTSTART;TZID=America/New_York:20280709T110000
DTEND;TZID=America/New_York:20280709T160000
DTSTAMP:20260423T232239
CREATED:20250226T162315Z
LAST-MODIFIED:20250321T213506Z
UID:10008965-1846753200-1846771200@newportricheyelks.org
SUMMARY:Bingo
DESCRIPTION:Open to everyone. \nDoors open at 11 am\, and the first game starts at 1 pm. \nOver 50 games to play. \nBeverages are available to purchase with CASH ONLY. \nSnacks are available to purchase with CASH ONLY. \nNonsmoking facility. \nClick here to learn more.
URL:https://newportricheyelks.org/event-calendar/bingo-3-2/2028-07-09/
LOCATION:Luikart Hall
CATEGORIES:Membership Not Required
ATTACH;FMTTYPE=image/png:https://newportricheyelks.org/wp-content/uploads/2025/02/Bingo-720-x-576-Event-Calendar-Featured-1.png
END:VEVENT
BEGIN:VEVENT
DTSTART;TZID=America/New_York:20280716T110000
DTEND;TZID=America/New_York:20280716T160000
DTSTAMP:20260423T232239
CREATED:20250226T162315Z
LAST-MODIFIED:20250321T213506Z
UID:10008966-1847358000-1847376000@newportricheyelks.org
SUMMARY:Bingo
DESCRIPTION:Open to everyone. \nDoors open at 11 am\, and the first game starts at 1 pm. \nOver 50 games to play. \nBeverages are available to purchase with CASH ONLY. \nSnacks are available to purchase with CASH ONLY. \nNonsmoking facility. \nClick here to learn more.
URL:https://newportricheyelks.org/event-calendar/bingo-3-2/2028-07-16/
LOCATION:Luikart Hall
CATEGORIES:Membership Not Required
ATTACH;FMTTYPE=image/png:https://newportricheyelks.org/wp-content/uploads/2025/02/Bingo-720-x-576-Event-Calendar-Featured-1.png
END:VEVENT
BEGIN:VEVENT
DTSTART;TZID=America/New_York:20280723T110000
DTEND;TZID=America/New_York:20280723T160000
DTSTAMP:20260423T232239
CREATED:20250226T162315Z
LAST-MODIFIED:20250321T213506Z
UID:10008967-1847962800-1847980800@newportricheyelks.org
SUMMARY:Bingo
DESCRIPTION:Open to everyone. \nDoors open at 11 am\, and the first game starts at 1 pm. \nOver 50 games to play. \nBeverages are available to purchase with CASH ONLY. \nSnacks are available to purchase with CASH ONLY. \nNonsmoking facility. \nClick here to learn more.
URL:https://newportricheyelks.org/event-calendar/bingo-3-2/2028-07-23/
LOCATION:Luikart Hall
CATEGORIES:Membership Not Required
ATTACH;FMTTYPE=image/png:https://newportricheyelks.org/wp-content/uploads/2025/02/Bingo-720-x-576-Event-Calendar-Featured-1.png
END:VEVENT
BEGIN:VEVENT
DTSTART;TZID=America/New_York:20280730T110000
DTEND;TZID=America/New_York:20280730T160000
DTSTAMP:20260423T232239
CREATED:20250226T162315Z
LAST-MODIFIED:20250321T213506Z
UID:10008968-1848567600-1848585600@newportricheyelks.org
SUMMARY:Bingo
DESCRIPTION:Open to everyone. \nDoors open at 11 am\, and the first game starts at 1 pm. \nOver 50 games to play. \nBeverages are available to purchase with CASH ONLY. \nSnacks are available to purchase with CASH ONLY. \nNonsmoking facility. \nClick here to learn more.
URL:https://newportricheyelks.org/event-calendar/bingo-3-2/2028-07-30/
LOCATION:Luikart Hall
CATEGORIES:Membership Not Required
ATTACH;FMTTYPE=image/png:https://newportricheyelks.org/wp-content/uploads/2025/02/Bingo-720-x-576-Event-Calendar-Featured-1.png
END:VEVENT
BEGIN:VEVENT
DTSTART;TZID=America/New_York:20280806T110000
DTEND;TZID=America/New_York:20280806T160000
DTSTAMP:20260423T232239
CREATED:20250226T162315Z
LAST-MODIFIED:20250321T213506Z
UID:10008969-1849172400-1849190400@newportricheyelks.org
SUMMARY:Bingo
DESCRIPTION:Open to everyone. \nDoors open at 11 am\, and the first game starts at 1 pm. \nOver 50 games to play. \nBeverages are available to purchase with CASH ONLY. \nSnacks are available to purchase with CASH ONLY. \nNonsmoking facility. \nClick here to learn more.
URL:https://newportricheyelks.org/event-calendar/bingo-3-2/2028-08-06/
LOCATION:Luikart Hall
CATEGORIES:Membership Not Required
ATTACH;FMTTYPE=image/png:https://newportricheyelks.org/wp-content/uploads/2025/02/Bingo-720-x-576-Event-Calendar-Featured-1.png
END:VEVENT
BEGIN:VEVENT
DTSTART;TZID=America/New_York:20280813T110000
DTEND;TZID=America/New_York:20280813T160000
DTSTAMP:20260423T232239
CREATED:20250226T162315Z
LAST-MODIFIED:20250321T213506Z
UID:10008970-1849777200-1849795200@newportricheyelks.org
SUMMARY:Bingo
DESCRIPTION:Open to everyone. \nDoors open at 11 am\, and the first game starts at 1 pm. \nOver 50 games to play. \nBeverages are available to purchase with CASH ONLY. \nSnacks are available to purchase with CASH ONLY. \nNonsmoking facility. \nClick here to learn more.
URL:https://newportricheyelks.org/event-calendar/bingo-3-2/2028-08-13/
LOCATION:Luikart Hall
CATEGORIES:Membership Not Required
ATTACH;FMTTYPE=image/png:https://newportricheyelks.org/wp-content/uploads/2025/02/Bingo-720-x-576-Event-Calendar-Featured-1.png
END:VEVENT
BEGIN:VEVENT
DTSTART;TZID=America/New_York:20280820T110000
DTEND;TZID=America/New_York:20280820T160000
DTSTAMP:20260423T232239
CREATED:20250226T162315Z
LAST-MODIFIED:20250321T213506Z
UID:10008971-1850382000-1850400000@newportricheyelks.org
SUMMARY:Bingo
DESCRIPTION:Open to everyone. \nDoors open at 11 am\, and the first game starts at 1 pm. \nOver 50 games to play. \nBeverages are available to purchase with CASH ONLY. \nSnacks are available to purchase with CASH ONLY. \nNonsmoking facility. \nClick here to learn more.
URL:https://newportricheyelks.org/event-calendar/bingo-3-2/2028-08-20/
LOCATION:Luikart Hall
CATEGORIES:Membership Not Required
ATTACH;FMTTYPE=image/png:https://newportricheyelks.org/wp-content/uploads/2025/02/Bingo-720-x-576-Event-Calendar-Featured-1.png
END:VEVENT
BEGIN:VEVENT
DTSTART;TZID=America/New_York:20280827T110000
DTEND;TZID=America/New_York:20280827T160000
DTSTAMP:20260423T232239
CREATED:20250226T162315Z
LAST-MODIFIED:20250321T213506Z
UID:10008972-1850986800-1851004800@newportricheyelks.org
SUMMARY:Bingo
DESCRIPTION:Open to everyone. \nDoors open at 11 am\, and the first game starts at 1 pm. \nOver 50 games to play. \nBeverages are available to purchase with CASH ONLY. \nSnacks are available to purchase with CASH ONLY. \nNonsmoking facility. \nClick here to learn more.
URL:https://newportricheyelks.org/event-calendar/bingo-3-2/2028-08-27/
LOCATION:Luikart Hall
CATEGORIES:Membership Not Required
ATTACH;FMTTYPE=image/png:https://newportricheyelks.org/wp-content/uploads/2025/02/Bingo-720-x-576-Event-Calendar-Featured-1.png
END:VEVENT
BEGIN:VEVENT
DTSTART;TZID=America/New_York:20280903T110000
DTEND;TZID=America/New_York:20280903T160000
DTSTAMP:20260423T232239
CREATED:20250226T162315Z
LAST-MODIFIED:20250321T213506Z
UID:10008973-1851591600-1851609600@newportricheyelks.org
SUMMARY:Bingo
DESCRIPTION:Open to everyone. \nDoors open at 11 am\, and the first game starts at 1 pm. \nOver 50 games to play. \nBeverages are available to purchase with CASH ONLY. \nSnacks are available to purchase with CASH ONLY. \nNonsmoking facility. \nClick here to learn more.
URL:https://newportricheyelks.org/event-calendar/bingo-3-2/2028-09-03/
LOCATION:Luikart Hall
CATEGORIES:Membership Not Required
ATTACH;FMTTYPE=image/png:https://newportricheyelks.org/wp-content/uploads/2025/02/Bingo-720-x-576-Event-Calendar-Featured-1.png
END:VEVENT
BEGIN:VEVENT
DTSTART;TZID=America/New_York:20280910T110000
DTEND;TZID=America/New_York:20280910T160000
DTSTAMP:20260423T232239
CREATED:20250226T162315Z
LAST-MODIFIED:20250321T213506Z
UID:10008974-1852196400-1852214400@newportricheyelks.org
SUMMARY:Bingo
DESCRIPTION:Open to everyone. \nDoors open at 11 am\, and the first game starts at 1 pm. \nOver 50 games to play. \nBeverages are available to purchase with CASH ONLY. \nSnacks are available to purchase with CASH ONLY. \nNonsmoking facility. \nClick here to learn more.
URL:https://newportricheyelks.org/event-calendar/bingo-3-2/2028-09-10/
LOCATION:Luikart Hall
CATEGORIES:Membership Not Required
ATTACH;FMTTYPE=image/png:https://newportricheyelks.org/wp-content/uploads/2025/02/Bingo-720-x-576-Event-Calendar-Featured-1.png
END:VEVENT
BEGIN:VEVENT
DTSTART;TZID=America/New_York:20280917T110000
DTEND;TZID=America/New_York:20280917T160000
DTSTAMP:20260423T232239
CREATED:20250226T162315Z
LAST-MODIFIED:20250321T213506Z
UID:10008975-1852801200-1852819200@newportricheyelks.org
SUMMARY:Bingo
DESCRIPTION:Open to everyone. \nDoors open at 11 am\, and the first game starts at 1 pm. \nOver 50 games to play. \nBeverages are available to purchase with CASH ONLY. \nSnacks are available to purchase with CASH ONLY. \nNonsmoking facility. \nClick here to learn more.
URL:https://newportricheyelks.org/event-calendar/bingo-3-2/2028-09-17/
LOCATION:Luikart Hall
CATEGORIES:Membership Not Required
ATTACH;FMTTYPE=image/png:https://newportricheyelks.org/wp-content/uploads/2025/02/Bingo-720-x-576-Event-Calendar-Featured-1.png
END:VEVENT
END:VCALENDAR