BEGIN:VCALENDAR
VERSION:2.0
PRODID:-//New Port Richey Elks Lodge 2284 - ECPv6.15.20//NONSGML v1.0//EN
CALSCALE:GREGORIAN
METHOD:PUBLISH
X-ORIGINAL-URL:https://newportricheyelks.org
X-WR-CALDESC:Events for New Port Richey Elks Lodge 2284
REFRESH-INTERVAL;VALUE=DURATION:PT1H
X-Robots-Tag:noindex
X-PUBLISHED-TTL:PT1H
BEGIN:VTIMEZONE
TZID:America/New_York
BEGIN:DAYLIGHT
TZOFFSETFROM:-0500
TZOFFSETTO:-0400
TZNAME:EDT
DTSTART:20270314T070000
END:DAYLIGHT
BEGIN:STANDARD
TZOFFSETFROM:-0400
TZOFFSETTO:-0500
TZNAME:EST
DTSTART:20271107T060000
END:STANDARD
BEGIN:DAYLIGHT
TZOFFSETFROM:-0500
TZOFFSETTO:-0400
TZNAME:EDT
DTSTART:20280312T070000
END:DAYLIGHT
BEGIN:STANDARD
TZOFFSETFROM:-0400
TZOFFSETTO:-0500
TZNAME:EST
DTSTART:20281105T060000
END:STANDARD
BEGIN:DAYLIGHT
TZOFFSETFROM:-0500
TZOFFSETTO:-0400
TZNAME:EDT
DTSTART:20290311T070000
END:DAYLIGHT
BEGIN:STANDARD
TZOFFSETFROM:-0400
TZOFFSETTO:-0500
TZNAME:EST
DTSTART:20291104T060000
END:STANDARD
END:VTIMEZONE
BEGIN:VEVENT
DTSTART;TZID=America/New_York:20280224T180000
DTEND;TZID=America/New_York:20280224T210000
DTSTAMP:20260421T214232
CREATED:20260129T173622Z
LAST-MODIFIED:20260129T173622Z
UID:10014043-1835028000-1835038800@newportricheyelks.org
SUMMARY:Open Mic Jam Night
DESCRIPTION:Open to members and their guests.
URL:https://newportricheyelks.org/event-calendar/open-mic-jam-night/2028-02-24/
CATEGORIES:Members & Their Guests
ATTACH;FMTTYPE=image/jpeg:https://newportricheyelks.org/wp-content/uploads/2026/01/Open-Mic-Jam-Night-720-x-576-Events-Calendar-Image.jpg
END:VEVENT
BEGIN:VEVENT
DTSTART;TZID=America/New_York:20280302T180000
DTEND;TZID=America/New_York:20280302T210000
DTSTAMP:20260421T214232
CREATED:20260129T173622Z
LAST-MODIFIED:20260129T173622Z
UID:10014044-1835632800-1835643600@newportricheyelks.org
SUMMARY:Open Mic Jam Night
DESCRIPTION:Open to members and their guests.
URL:https://newportricheyelks.org/event-calendar/open-mic-jam-night/2028-03-02/
CATEGORIES:Members & Their Guests
ATTACH;FMTTYPE=image/jpeg:https://newportricheyelks.org/wp-content/uploads/2026/01/Open-Mic-Jam-Night-720-x-576-Events-Calendar-Image.jpg
END:VEVENT
BEGIN:VEVENT
DTSTART;TZID=America/New_York:20280309T180000
DTEND;TZID=America/New_York:20280309T210000
DTSTAMP:20260421T214232
CREATED:20260129T173622Z
LAST-MODIFIED:20260129T173622Z
UID:10014045-1836237600-1836248400@newportricheyelks.org
SUMMARY:Open Mic Jam Night
DESCRIPTION:Open to members and their guests.
URL:https://newportricheyelks.org/event-calendar/open-mic-jam-night/2028-03-09/
CATEGORIES:Members & Their Guests
ATTACH;FMTTYPE=image/jpeg:https://newportricheyelks.org/wp-content/uploads/2026/01/Open-Mic-Jam-Night-720-x-576-Events-Calendar-Image.jpg
END:VEVENT
BEGIN:VEVENT
DTSTART;TZID=America/New_York:20280316T180000
DTEND;TZID=America/New_York:20280316T210000
DTSTAMP:20260421T214232
CREATED:20260129T173622Z
LAST-MODIFIED:20260129T173622Z
UID:10014046-1836842400-1836853200@newportricheyelks.org
SUMMARY:Open Mic Jam Night
DESCRIPTION:Open to members and their guests.
URL:https://newportricheyelks.org/event-calendar/open-mic-jam-night/2028-03-16/
CATEGORIES:Members & Their Guests
ATTACH;FMTTYPE=image/jpeg:https://newportricheyelks.org/wp-content/uploads/2026/01/Open-Mic-Jam-Night-720-x-576-Events-Calendar-Image.jpg
END:VEVENT
BEGIN:VEVENT
DTSTART;TZID=America/New_York:20280323T180000
DTEND;TZID=America/New_York:20280323T210000
DTSTAMP:20260421T214232
CREATED:20260129T173622Z
LAST-MODIFIED:20260129T173622Z
UID:10014047-1837447200-1837458000@newportricheyelks.org
SUMMARY:Open Mic Jam Night
DESCRIPTION:Open to members and their guests.
URL:https://newportricheyelks.org/event-calendar/open-mic-jam-night/2028-03-23/
CATEGORIES:Members & Their Guests
ATTACH;FMTTYPE=image/jpeg:https://newportricheyelks.org/wp-content/uploads/2026/01/Open-Mic-Jam-Night-720-x-576-Events-Calendar-Image.jpg
END:VEVENT
BEGIN:VEVENT
DTSTART;TZID=America/New_York:20280330T180000
DTEND;TZID=America/New_York:20280330T210000
DTSTAMP:20260421T214232
CREATED:20260129T173622Z
LAST-MODIFIED:20260129T173622Z
UID:10014048-1838052000-1838062800@newportricheyelks.org
SUMMARY:Open Mic Jam Night
DESCRIPTION:Open to members and their guests.
URL:https://newportricheyelks.org/event-calendar/open-mic-jam-night/2028-03-30/
CATEGORIES:Members & Their Guests
ATTACH;FMTTYPE=image/jpeg:https://newportricheyelks.org/wp-content/uploads/2026/01/Open-Mic-Jam-Night-720-x-576-Events-Calendar-Image.jpg
END:VEVENT
BEGIN:VEVENT
DTSTART;TZID=America/New_York:20280406T180000
DTEND;TZID=America/New_York:20280406T210000
DTSTAMP:20260421T214232
CREATED:20260129T173622Z
LAST-MODIFIED:20260129T173622Z
UID:10014049-1838656800-1838667600@newportricheyelks.org
SUMMARY:Open Mic Jam Night
DESCRIPTION:Open to members and their guests.
URL:https://newportricheyelks.org/event-calendar/open-mic-jam-night/2028-04-06/
CATEGORIES:Members & Their Guests
ATTACH;FMTTYPE=image/jpeg:https://newportricheyelks.org/wp-content/uploads/2026/01/Open-Mic-Jam-Night-720-x-576-Events-Calendar-Image.jpg
END:VEVENT
BEGIN:VEVENT
DTSTART;TZID=America/New_York:20280413T180000
DTEND;TZID=America/New_York:20280413T210000
DTSTAMP:20260421T214232
CREATED:20260129T173622Z
LAST-MODIFIED:20260129T173622Z
UID:10014050-1839261600-1839272400@newportricheyelks.org
SUMMARY:Open Mic Jam Night
DESCRIPTION:Open to members and their guests.
URL:https://newportricheyelks.org/event-calendar/open-mic-jam-night/2028-04-13/
CATEGORIES:Members & Their Guests
ATTACH;FMTTYPE=image/jpeg:https://newportricheyelks.org/wp-content/uploads/2026/01/Open-Mic-Jam-Night-720-x-576-Events-Calendar-Image.jpg
END:VEVENT
BEGIN:VEVENT
DTSTART;TZID=America/New_York:20280420T180000
DTEND;TZID=America/New_York:20280420T210000
DTSTAMP:20260421T214232
CREATED:20260129T173622Z
LAST-MODIFIED:20260129T173622Z
UID:10014051-1839866400-1839877200@newportricheyelks.org
SUMMARY:Open Mic Jam Night
DESCRIPTION:Open to members and their guests.
URL:https://newportricheyelks.org/event-calendar/open-mic-jam-night/2028-04-20/
CATEGORIES:Members & Their Guests
ATTACH;FMTTYPE=image/jpeg:https://newportricheyelks.org/wp-content/uploads/2026/01/Open-Mic-Jam-Night-720-x-576-Events-Calendar-Image.jpg
END:VEVENT
BEGIN:VEVENT
DTSTART;TZID=America/New_York:20280427T180000
DTEND;TZID=America/New_York:20280427T210000
DTSTAMP:20260421T214232
CREATED:20260129T173622Z
LAST-MODIFIED:20260129T173622Z
UID:10014052-1840471200-1840482000@newportricheyelks.org
SUMMARY:Open Mic Jam Night
DESCRIPTION:Open to members and their guests.
URL:https://newportricheyelks.org/event-calendar/open-mic-jam-night/2028-04-27/
CATEGORIES:Members & Their Guests
ATTACH;FMTTYPE=image/jpeg:https://newportricheyelks.org/wp-content/uploads/2026/01/Open-Mic-Jam-Night-720-x-576-Events-Calendar-Image.jpg
END:VEVENT
BEGIN:VEVENT
DTSTART;TZID=America/New_York:20280504T180000
DTEND;TZID=America/New_York:20280504T210000
DTSTAMP:20260421T214232
CREATED:20260129T173622Z
LAST-MODIFIED:20260129T173622Z
UID:10014053-1841076000-1841086800@newportricheyelks.org
SUMMARY:Open Mic Jam Night
DESCRIPTION:Open to members and their guests.
URL:https://newportricheyelks.org/event-calendar/open-mic-jam-night/2028-05-04/
CATEGORIES:Members & Their Guests
ATTACH;FMTTYPE=image/jpeg:https://newportricheyelks.org/wp-content/uploads/2026/01/Open-Mic-Jam-Night-720-x-576-Events-Calendar-Image.jpg
END:VEVENT
BEGIN:VEVENT
DTSTART;TZID=America/New_York:20280511T180000
DTEND;TZID=America/New_York:20280511T210000
DTSTAMP:20260421T214232
CREATED:20260129T173622Z
LAST-MODIFIED:20260129T173622Z
UID:10014054-1841680800-1841691600@newportricheyelks.org
SUMMARY:Open Mic Jam Night
DESCRIPTION:Open to members and their guests.
URL:https://newportricheyelks.org/event-calendar/open-mic-jam-night/2028-05-11/
CATEGORIES:Members & Their Guests
ATTACH;FMTTYPE=image/jpeg:https://newportricheyelks.org/wp-content/uploads/2026/01/Open-Mic-Jam-Night-720-x-576-Events-Calendar-Image.jpg
END:VEVENT
BEGIN:VEVENT
DTSTART;TZID=America/New_York:20280518T180000
DTEND;TZID=America/New_York:20280518T210000
DTSTAMP:20260421T214232
CREATED:20260129T173622Z
LAST-MODIFIED:20260129T173622Z
UID:10014055-1842285600-1842296400@newportricheyelks.org
SUMMARY:Open Mic Jam Night
DESCRIPTION:Open to members and their guests.
URL:https://newportricheyelks.org/event-calendar/open-mic-jam-night/2028-05-18/
CATEGORIES:Members & Their Guests
ATTACH;FMTTYPE=image/jpeg:https://newportricheyelks.org/wp-content/uploads/2026/01/Open-Mic-Jam-Night-720-x-576-Events-Calendar-Image.jpg
END:VEVENT
BEGIN:VEVENT
DTSTART;TZID=America/New_York:20280525T180000
DTEND;TZID=America/New_York:20280525T210000
DTSTAMP:20260421T214232
CREATED:20260129T173622Z
LAST-MODIFIED:20260129T173622Z
UID:10014056-1842890400-1842901200@newportricheyelks.org
SUMMARY:Open Mic Jam Night
DESCRIPTION:Open to members and their guests.
URL:https://newportricheyelks.org/event-calendar/open-mic-jam-night/2028-05-25/
CATEGORIES:Members & Their Guests
ATTACH;FMTTYPE=image/jpeg:https://newportricheyelks.org/wp-content/uploads/2026/01/Open-Mic-Jam-Night-720-x-576-Events-Calendar-Image.jpg
END:VEVENT
BEGIN:VEVENT
DTSTART;TZID=America/New_York:20280601T180000
DTEND;TZID=America/New_York:20280601T210000
DTSTAMP:20260421T214232
CREATED:20260129T173622Z
LAST-MODIFIED:20260129T173622Z
UID:10014057-1843495200-1843506000@newportricheyelks.org
SUMMARY:Open Mic Jam Night
DESCRIPTION:Open to members and their guests.
URL:https://newportricheyelks.org/event-calendar/open-mic-jam-night/2028-06-01/
CATEGORIES:Members & Their Guests
ATTACH;FMTTYPE=image/jpeg:https://newportricheyelks.org/wp-content/uploads/2026/01/Open-Mic-Jam-Night-720-x-576-Events-Calendar-Image.jpg
END:VEVENT
BEGIN:VEVENT
DTSTART;TZID=America/New_York:20280608T180000
DTEND;TZID=America/New_York:20280608T210000
DTSTAMP:20260421T214232
CREATED:20260129T173622Z
LAST-MODIFIED:20260129T173622Z
UID:10014058-1844100000-1844110800@newportricheyelks.org
SUMMARY:Open Mic Jam Night
DESCRIPTION:Open to members and their guests.
URL:https://newportricheyelks.org/event-calendar/open-mic-jam-night/2028-06-08/
CATEGORIES:Members & Their Guests
ATTACH;FMTTYPE=image/jpeg:https://newportricheyelks.org/wp-content/uploads/2026/01/Open-Mic-Jam-Night-720-x-576-Events-Calendar-Image.jpg
END:VEVENT
BEGIN:VEVENT
DTSTART;TZID=America/New_York:20280615T180000
DTEND;TZID=America/New_York:20280615T210000
DTSTAMP:20260421T214232
CREATED:20260129T173622Z
LAST-MODIFIED:20260129T173622Z
UID:10014059-1844704800-1844715600@newportricheyelks.org
SUMMARY:Open Mic Jam Night
DESCRIPTION:Open to members and their guests.
URL:https://newportricheyelks.org/event-calendar/open-mic-jam-night/2028-06-15/
CATEGORIES:Members & Their Guests
ATTACH;FMTTYPE=image/jpeg:https://newportricheyelks.org/wp-content/uploads/2026/01/Open-Mic-Jam-Night-720-x-576-Events-Calendar-Image.jpg
END:VEVENT
BEGIN:VEVENT
DTSTART;TZID=America/New_York:20280622T180000
DTEND;TZID=America/New_York:20280622T210000
DTSTAMP:20260421T214232
CREATED:20260129T173622Z
LAST-MODIFIED:20260129T173622Z
UID:10014060-1845309600-1845320400@newportricheyelks.org
SUMMARY:Open Mic Jam Night
DESCRIPTION:Open to members and their guests.
URL:https://newportricheyelks.org/event-calendar/open-mic-jam-night/2028-06-22/
CATEGORIES:Members & Their Guests
ATTACH;FMTTYPE=image/jpeg:https://newportricheyelks.org/wp-content/uploads/2026/01/Open-Mic-Jam-Night-720-x-576-Events-Calendar-Image.jpg
END:VEVENT
BEGIN:VEVENT
DTSTART;TZID=America/New_York:20280629T180000
DTEND;TZID=America/New_York:20280629T210000
DTSTAMP:20260421T214232
CREATED:20260129T173622Z
LAST-MODIFIED:20260129T173622Z
UID:10014061-1845914400-1845925200@newportricheyelks.org
SUMMARY:Open Mic Jam Night
DESCRIPTION:Open to members and their guests.
URL:https://newportricheyelks.org/event-calendar/open-mic-jam-night/2028-06-29/
CATEGORIES:Members & Their Guests
ATTACH;FMTTYPE=image/jpeg:https://newportricheyelks.org/wp-content/uploads/2026/01/Open-Mic-Jam-Night-720-x-576-Events-Calendar-Image.jpg
END:VEVENT
BEGIN:VEVENT
DTSTART;TZID=America/New_York:20280706T180000
DTEND;TZID=America/New_York:20280706T210000
DTSTAMP:20260421T214232
CREATED:20260129T173622Z
LAST-MODIFIED:20260129T173622Z
UID:10014062-1846519200-1846530000@newportricheyelks.org
SUMMARY:Open Mic Jam Night
DESCRIPTION:Open to members and their guests.
URL:https://newportricheyelks.org/event-calendar/open-mic-jam-night/2028-07-06/
CATEGORIES:Members & Their Guests
ATTACH;FMTTYPE=image/jpeg:https://newportricheyelks.org/wp-content/uploads/2026/01/Open-Mic-Jam-Night-720-x-576-Events-Calendar-Image.jpg
END:VEVENT
BEGIN:VEVENT
DTSTART;TZID=America/New_York:20280713T180000
DTEND;TZID=America/New_York:20280713T210000
DTSTAMP:20260421T214232
CREATED:20260129T173622Z
LAST-MODIFIED:20260129T173622Z
UID:10014063-1847124000-1847134800@newportricheyelks.org
SUMMARY:Open Mic Jam Night
DESCRIPTION:Open to members and their guests.
URL:https://newportricheyelks.org/event-calendar/open-mic-jam-night/2028-07-13/
CATEGORIES:Members & Their Guests
ATTACH;FMTTYPE=image/jpeg:https://newportricheyelks.org/wp-content/uploads/2026/01/Open-Mic-Jam-Night-720-x-576-Events-Calendar-Image.jpg
END:VEVENT
BEGIN:VEVENT
DTSTART;TZID=America/New_York:20280720T180000
DTEND;TZID=America/New_York:20280720T210000
DTSTAMP:20260421T214232
CREATED:20260129T173622Z
LAST-MODIFIED:20260129T173622Z
UID:10014064-1847728800-1847739600@newportricheyelks.org
SUMMARY:Open Mic Jam Night
DESCRIPTION:Open to members and their guests.
URL:https://newportricheyelks.org/event-calendar/open-mic-jam-night/2028-07-20/
CATEGORIES:Members & Their Guests
ATTACH;FMTTYPE=image/jpeg:https://newportricheyelks.org/wp-content/uploads/2026/01/Open-Mic-Jam-Night-720-x-576-Events-Calendar-Image.jpg
END:VEVENT
BEGIN:VEVENT
DTSTART;TZID=America/New_York:20280727T180000
DTEND;TZID=America/New_York:20280727T210000
DTSTAMP:20260421T214232
CREATED:20260129T173622Z
LAST-MODIFIED:20260129T173622Z
UID:10014065-1848333600-1848344400@newportricheyelks.org
SUMMARY:Open Mic Jam Night
DESCRIPTION:Open to members and their guests.
URL:https://newportricheyelks.org/event-calendar/open-mic-jam-night/2028-07-27/
CATEGORIES:Members & Their Guests
ATTACH;FMTTYPE=image/jpeg:https://newportricheyelks.org/wp-content/uploads/2026/01/Open-Mic-Jam-Night-720-x-576-Events-Calendar-Image.jpg
END:VEVENT
BEGIN:VEVENT
DTSTART;TZID=America/New_York:20280803T180000
DTEND;TZID=America/New_York:20280803T210000
DTSTAMP:20260421T214232
CREATED:20260129T173622Z
LAST-MODIFIED:20260129T173622Z
UID:10014066-1848938400-1848949200@newportricheyelks.org
SUMMARY:Open Mic Jam Night
DESCRIPTION:Open to members and their guests.
URL:https://newportricheyelks.org/event-calendar/open-mic-jam-night/2028-08-03/
CATEGORIES:Members & Their Guests
ATTACH;FMTTYPE=image/jpeg:https://newportricheyelks.org/wp-content/uploads/2026/01/Open-Mic-Jam-Night-720-x-576-Events-Calendar-Image.jpg
END:VEVENT
BEGIN:VEVENT
DTSTART;TZID=America/New_York:20280810T180000
DTEND;TZID=America/New_York:20280810T210000
DTSTAMP:20260421T214232
CREATED:20260129T173622Z
LAST-MODIFIED:20260129T173622Z
UID:10014067-1849543200-1849554000@newportricheyelks.org
SUMMARY:Open Mic Jam Night
DESCRIPTION:Open to members and their guests.
URL:https://newportricheyelks.org/event-calendar/open-mic-jam-night/2028-08-10/
CATEGORIES:Members & Their Guests
ATTACH;FMTTYPE=image/jpeg:https://newportricheyelks.org/wp-content/uploads/2026/01/Open-Mic-Jam-Night-720-x-576-Events-Calendar-Image.jpg
END:VEVENT
BEGIN:VEVENT
DTSTART;TZID=America/New_York:20280817T180000
DTEND;TZID=America/New_York:20280817T210000
DTSTAMP:20260421T214232
CREATED:20260129T173622Z
LAST-MODIFIED:20260129T173622Z
UID:10014068-1850148000-1850158800@newportricheyelks.org
SUMMARY:Open Mic Jam Night
DESCRIPTION:Open to members and their guests.
URL:https://newportricheyelks.org/event-calendar/open-mic-jam-night/2028-08-17/
CATEGORIES:Members & Their Guests
ATTACH;FMTTYPE=image/jpeg:https://newportricheyelks.org/wp-content/uploads/2026/01/Open-Mic-Jam-Night-720-x-576-Events-Calendar-Image.jpg
END:VEVENT
BEGIN:VEVENT
DTSTART;TZID=America/New_York:20280824T180000
DTEND;TZID=America/New_York:20280824T210000
DTSTAMP:20260421T214232
CREATED:20260129T173622Z
LAST-MODIFIED:20260129T173622Z
UID:10014069-1850752800-1850763600@newportricheyelks.org
SUMMARY:Open Mic Jam Night
DESCRIPTION:Open to members and their guests.
URL:https://newportricheyelks.org/event-calendar/open-mic-jam-night/2028-08-24/
CATEGORIES:Members & Their Guests
ATTACH;FMTTYPE=image/jpeg:https://newportricheyelks.org/wp-content/uploads/2026/01/Open-Mic-Jam-Night-720-x-576-Events-Calendar-Image.jpg
END:VEVENT
BEGIN:VEVENT
DTSTART;TZID=America/New_York:20280831T180000
DTEND;TZID=America/New_York:20280831T210000
DTSTAMP:20260421T214232
CREATED:20260129T173622Z
LAST-MODIFIED:20260129T173622Z
UID:10014070-1851357600-1851368400@newportricheyelks.org
SUMMARY:Open Mic Jam Night
DESCRIPTION:Open to members and their guests.
URL:https://newportricheyelks.org/event-calendar/open-mic-jam-night/2028-08-31/
CATEGORIES:Members & Their Guests
ATTACH;FMTTYPE=image/jpeg:https://newportricheyelks.org/wp-content/uploads/2026/01/Open-Mic-Jam-Night-720-x-576-Events-Calendar-Image.jpg
END:VEVENT
BEGIN:VEVENT
DTSTART;TZID=America/New_York:20280907T180000
DTEND;TZID=America/New_York:20280907T210000
DTSTAMP:20260421T214232
CREATED:20260129T173622Z
LAST-MODIFIED:20260129T173622Z
UID:10014071-1851962400-1851973200@newportricheyelks.org
SUMMARY:Open Mic Jam Night
DESCRIPTION:Open to members and their guests.
URL:https://newportricheyelks.org/event-calendar/open-mic-jam-night/2028-09-07/
CATEGORIES:Members & Their Guests
ATTACH;FMTTYPE=image/jpeg:https://newportricheyelks.org/wp-content/uploads/2026/01/Open-Mic-Jam-Night-720-x-576-Events-Calendar-Image.jpg
END:VEVENT
BEGIN:VEVENT
DTSTART;TZID=America/New_York:20280914T180000
DTEND;TZID=America/New_York:20280914T210000
DTSTAMP:20260421T214232
CREATED:20260129T173622Z
LAST-MODIFIED:20260129T173622Z
UID:10014072-1852567200-1852578000@newportricheyelks.org
SUMMARY:Open Mic Jam Night
DESCRIPTION:Open to members and their guests.
URL:https://newportricheyelks.org/event-calendar/open-mic-jam-night/2028-09-14/
CATEGORIES:Members & Their Guests
ATTACH;FMTTYPE=image/jpeg:https://newportricheyelks.org/wp-content/uploads/2026/01/Open-Mic-Jam-Night-720-x-576-Events-Calendar-Image.jpg
END:VEVENT
END:VCALENDAR