BEGIN:VCALENDAR
VERSION:2.0
PRODID:-//New Port Richey Elks Lodge 2284 - ECPv6.15.20//NONSGML v1.0//EN
CALSCALE:GREGORIAN
METHOD:PUBLISH
X-WR-CALNAME:New Port Richey Elks Lodge 2284
X-ORIGINAL-URL:https://newportricheyelks.org
X-WR-CALDESC:Events for New Port Richey Elks Lodge 2284
REFRESH-INTERVAL;VALUE=DURATION:PT1H
X-Robots-Tag:noindex
X-PUBLISHED-TTL:PT1H
BEGIN:VTIMEZONE
TZID:America/New_York
BEGIN:DAYLIGHT
TZOFFSETFROM:-0500
TZOFFSETTO:-0400
TZNAME:EDT
DTSTART:20250309T070000
END:DAYLIGHT
BEGIN:STANDARD
TZOFFSETFROM:-0400
TZOFFSETTO:-0500
TZNAME:EST
DTSTART:20251102T060000
END:STANDARD
BEGIN:DAYLIGHT
TZOFFSETFROM:-0500
TZOFFSETTO:-0400
TZNAME:EDT
DTSTART:20260308T070000
END:DAYLIGHT
BEGIN:STANDARD
TZOFFSETFROM:-0400
TZOFFSETTO:-0500
TZNAME:EST
DTSTART:20261101T060000
END:STANDARD
BEGIN:DAYLIGHT
TZOFFSETFROM:-0500
TZOFFSETTO:-0400
TZNAME:EDT
DTSTART:20270314T070000
END:DAYLIGHT
BEGIN:STANDARD
TZOFFSETFROM:-0400
TZOFFSETTO:-0500
TZNAME:EST
DTSTART:20271107T060000
END:STANDARD
END:VTIMEZONE
BEGIN:VEVENT
DTSTART;TZID=America/New_York:20260417T170000
DTEND;TZID=America/New_York:20260417T190000
DTSTAMP:20260419T114245
CREATED:20250507T173212Z
LAST-MODIFIED:20260302T012215Z
UID:10011466-1776445200-1776452400@newportricheyelks.org
SUMMARY:Kitchen Hours
DESCRIPTION:Open to Members & Their Guests \nClick here for the menu.
URL:https://newportricheyelks.org/event-calendar/kitchen-hours/2026-04-17/
CATEGORIES:Members & Their Guests
ATTACH;FMTTYPE=image/png:https://newportricheyelks.org/wp-content/uploads/2023/07/Dinner-Lounge.png
END:VEVENT
BEGIN:VEVENT
DTSTART;TZID=America/New_York:20260416T180000
DTEND;TZID=America/New_York:20260416T210000
DTSTAMP:20260419T114245
CREATED:20260129T173622Z
LAST-MODIFIED:20260129T173622Z
UID:10013946-1776362400-1776373200@newportricheyelks.org
SUMMARY:Open Mic Jam Night
DESCRIPTION:Open to members and their guests.
URL:https://newportricheyelks.org/event-calendar/open-mic-jam-night/2026-04-16/
CATEGORIES:Members & Their Guests
ATTACH;FMTTYPE=image/jpeg:https://newportricheyelks.org/wp-content/uploads/2026/01/Open-Mic-Jam-Night-720-x-576-Events-Calendar-Image.jpg
END:VEVENT
BEGIN:VEVENT
DTSTART;TZID=America/New_York:20260410T170000
DTEND;TZID=America/New_York:20260410T190000
DTSTAMP:20260419T114245
CREATED:20250507T173212Z
LAST-MODIFIED:20260302T012215Z
UID:10011465-1775840400-1775847600@newportricheyelks.org
SUMMARY:Kitchen Hours
DESCRIPTION:Open to Members & Their Guests \nClick here for the menu.
URL:https://newportricheyelks.org/event-calendar/kitchen-hours/2026-04-10/
CATEGORIES:Members & Their Guests
ATTACH;FMTTYPE=image/png:https://newportricheyelks.org/wp-content/uploads/2023/07/Dinner-Lounge.png
END:VEVENT
BEGIN:VEVENT
DTSTART;TZID=America/New_York:20260409T180000
DTEND;TZID=America/New_York:20260409T210000
DTSTAMP:20260419T114245
CREATED:20260129T173622Z
LAST-MODIFIED:20260129T173622Z
UID:10013945-1775757600-1775768400@newportricheyelks.org
SUMMARY:Open Mic Jam Night
DESCRIPTION:Open to members and their guests.
URL:https://newportricheyelks.org/event-calendar/open-mic-jam-night/2026-04-09/
CATEGORIES:Members & Their Guests
ATTACH;FMTTYPE=image/jpeg:https://newportricheyelks.org/wp-content/uploads/2026/01/Open-Mic-Jam-Night-720-x-576-Events-Calendar-Image.jpg
END:VEVENT
BEGIN:VEVENT
DTSTART;TZID=America/New_York:20260403T170000
DTEND;TZID=America/New_York:20260403T190000
DTSTAMP:20260419T114245
CREATED:20250507T173212Z
LAST-MODIFIED:20260302T012215Z
UID:10011464-1775235600-1775242800@newportricheyelks.org
SUMMARY:Kitchen Hours
DESCRIPTION:Open to Members & Their Guests \nClick here for the menu.
URL:https://newportricheyelks.org/event-calendar/kitchen-hours/2026-04-03/
CATEGORIES:Members & Their Guests
ATTACH;FMTTYPE=image/png:https://newportricheyelks.org/wp-content/uploads/2023/07/Dinner-Lounge.png
END:VEVENT
BEGIN:VEVENT
DTSTART;TZID=America/New_York:20260402T180000
DTEND;TZID=America/New_York:20260402T210000
DTSTAMP:20260419T114245
CREATED:20260129T173622Z
LAST-MODIFIED:20260129T173622Z
UID:10013944-1775152800-1775163600@newportricheyelks.org
SUMMARY:Open Mic Jam Night
DESCRIPTION:Open to members and their guests.
URL:https://newportricheyelks.org/event-calendar/open-mic-jam-night/2026-04-02/
CATEGORIES:Members & Their Guests
ATTACH;FMTTYPE=image/jpeg:https://newportricheyelks.org/wp-content/uploads/2026/01/Open-Mic-Jam-Night-720-x-576-Events-Calendar-Image.jpg
END:VEVENT
BEGIN:VEVENT
DTSTART;TZID=America/New_York:20260327T170000
DTEND;TZID=America/New_York:20260327T190000
DTSTAMP:20260419T114245
CREATED:20250507T173212Z
LAST-MODIFIED:20260302T012215Z
UID:10011463-1774630800-1774638000@newportricheyelks.org
SUMMARY:Kitchen Hours
DESCRIPTION:Open to Members & Their Guests \nClick here for the menu.
URL:https://newportricheyelks.org/event-calendar/kitchen-hours/2026-03-27/
CATEGORIES:Members & Their Guests
ATTACH;FMTTYPE=image/png:https://newportricheyelks.org/wp-content/uploads/2023/07/Dinner-Lounge.png
END:VEVENT
BEGIN:VEVENT
DTSTART;TZID=America/New_York:20260326T180000
DTEND;TZID=America/New_York:20260326T210000
DTSTAMP:20260419T114245
CREATED:20260129T173622Z
LAST-MODIFIED:20260129T173622Z
UID:10013943-1774548000-1774558800@newportricheyelks.org
SUMMARY:Open Mic Jam Night
DESCRIPTION:Open to members and their guests.
URL:https://newportricheyelks.org/event-calendar/open-mic-jam-night/2026-03-26/
CATEGORIES:Members & Their Guests
ATTACH;FMTTYPE=image/jpeg:https://newportricheyelks.org/wp-content/uploads/2026/01/Open-Mic-Jam-Night-720-x-576-Events-Calendar-Image.jpg
END:VEVENT
BEGIN:VEVENT
DTSTART;TZID=America/New_York:20260320T170000
DTEND;TZID=America/New_York:20260320T190000
DTSTAMP:20260419T114245
CREATED:20250507T173212Z
LAST-MODIFIED:20260302T012215Z
UID:10011462-1774026000-1774033200@newportricheyelks.org
SUMMARY:Kitchen Hours
DESCRIPTION:Open to Members & Their Guests \nClick here for the menu.
URL:https://newportricheyelks.org/event-calendar/kitchen-hours/2026-03-20/
CATEGORIES:Members & Their Guests
ATTACH;FMTTYPE=image/png:https://newportricheyelks.org/wp-content/uploads/2023/07/Dinner-Lounge.png
END:VEVENT
BEGIN:VEVENT
DTSTART;TZID=America/New_York:20260319T180000
DTEND;TZID=America/New_York:20260319T210000
DTSTAMP:20260419T114245
CREATED:20260129T173622Z
LAST-MODIFIED:20260129T173622Z
UID:10013942-1773943200-1773954000@newportricheyelks.org
SUMMARY:Open Mic Jam Night
DESCRIPTION:Open to members and their guests.
URL:https://newportricheyelks.org/event-calendar/open-mic-jam-night/2026-03-19/
CATEGORIES:Members & Their Guests
ATTACH;FMTTYPE=image/jpeg:https://newportricheyelks.org/wp-content/uploads/2026/01/Open-Mic-Jam-Night-720-x-576-Events-Calendar-Image.jpg
END:VEVENT
BEGIN:VEVENT
DTSTART;TZID=America/New_York:20260313T170000
DTEND;TZID=America/New_York:20260313T190000
DTSTAMP:20260419T114245
CREATED:20250507T173212Z
LAST-MODIFIED:20260302T012215Z
UID:10011461-1773421200-1773428400@newportricheyelks.org
SUMMARY:Kitchen Hours
DESCRIPTION:Open to Members & Their Guests \nClick here for the menu.
URL:https://newportricheyelks.org/event-calendar/kitchen-hours/2026-03-13/
CATEGORIES:Members & Their Guests
ATTACH;FMTTYPE=image/png:https://newportricheyelks.org/wp-content/uploads/2023/07/Dinner-Lounge.png
END:VEVENT
BEGIN:VEVENT
DTSTART;TZID=America/New_York:20260312T180000
DTEND;TZID=America/New_York:20260312T210000
DTSTAMP:20260419T114245
CREATED:20260129T173622Z
LAST-MODIFIED:20260129T173622Z
UID:10013941-1773338400-1773349200@newportricheyelks.org
SUMMARY:Open Mic Jam Night
DESCRIPTION:Open to members and their guests.
URL:https://newportricheyelks.org/event-calendar/open-mic-jam-night/2026-03-12/
CATEGORIES:Members & Their Guests
ATTACH;FMTTYPE=image/jpeg:https://newportricheyelks.org/wp-content/uploads/2026/01/Open-Mic-Jam-Night-720-x-576-Events-Calendar-Image.jpg
END:VEVENT
BEGIN:VEVENT
DTSTART;TZID=America/New_York:20260306T170000
DTEND;TZID=America/New_York:20260306T190000
DTSTAMP:20260419T114245
CREATED:20250507T173212Z
LAST-MODIFIED:20260302T012215Z
UID:10011460-1772816400-1772823600@newportricheyelks.org
SUMMARY:Kitchen Hours
DESCRIPTION:Open to Members & Their Guests \nClick here for the menu.
URL:https://newportricheyelks.org/event-calendar/kitchen-hours/2026-03-06/
CATEGORIES:Members & Their Guests
ATTACH;FMTTYPE=image/png:https://newportricheyelks.org/wp-content/uploads/2023/07/Dinner-Lounge.png
END:VEVENT
BEGIN:VEVENT
DTSTART;TZID=America/New_York:20260305T180000
DTEND;TZID=America/New_York:20260305T210000
DTSTAMP:20260419T114245
CREATED:20260129T173622Z
LAST-MODIFIED:20260129T173622Z
UID:10013940-1772733600-1772744400@newportricheyelks.org
SUMMARY:Open Mic Jam Night
DESCRIPTION:Open to members and their guests.
URL:https://newportricheyelks.org/event-calendar/open-mic-jam-night/2026-03-05/
CATEGORIES:Members & Their Guests
ATTACH;FMTTYPE=image/jpeg:https://newportricheyelks.org/wp-content/uploads/2026/01/Open-Mic-Jam-Night-720-x-576-Events-Calendar-Image.jpg
END:VEVENT
BEGIN:VEVENT
DTSTART;TZID=America/New_York:20260227T170000
DTEND;TZID=America/New_York:20260227T190000
DTSTAMP:20260419T114245
CREATED:20250507T173212Z
LAST-MODIFIED:20260302T012215Z
UID:10011459-1772211600-1772218800@newportricheyelks.org
SUMMARY:Kitchen Hours
DESCRIPTION:Open to Members & Their Guests \nClick here for the menu.
URL:https://newportricheyelks.org/event-calendar/kitchen-hours/2026-02-27/
CATEGORIES:Members & Their Guests
ATTACH;FMTTYPE=image/png:https://newportricheyelks.org/wp-content/uploads/2023/07/Dinner-Lounge.png
END:VEVENT
BEGIN:VEVENT
DTSTART;TZID=America/New_York:20260226T180000
DTEND;TZID=America/New_York:20260226T210000
DTSTAMP:20260419T114245
CREATED:20260129T173622Z
LAST-MODIFIED:20260129T173622Z
UID:10013939-1772128800-1772139600@newportricheyelks.org
SUMMARY:Open Mic Jam Night
DESCRIPTION:Open to members and their guests.
URL:https://newportricheyelks.org/event-calendar/open-mic-jam-night/2026-02-26/
CATEGORIES:Members & Their Guests
ATTACH;FMTTYPE=image/jpeg:https://newportricheyelks.org/wp-content/uploads/2026/01/Open-Mic-Jam-Night-720-x-576-Events-Calendar-Image.jpg
END:VEVENT
BEGIN:VEVENT
DTSTART;TZID=America/New_York:20260220T170000
DTEND;TZID=America/New_York:20260220T190000
DTSTAMP:20260419T114245
CREATED:20250507T173212Z
LAST-MODIFIED:20260302T012215Z
UID:10011458-1771606800-1771614000@newportricheyelks.org
SUMMARY:Kitchen Hours
DESCRIPTION:Open to Members & Their Guests \nClick here for the menu.
URL:https://newportricheyelks.org/event-calendar/kitchen-hours/2026-02-20/
CATEGORIES:Members & Their Guests
ATTACH;FMTTYPE=image/png:https://newportricheyelks.org/wp-content/uploads/2023/07/Dinner-Lounge.png
END:VEVENT
BEGIN:VEVENT
DTSTART;TZID=America/New_York:20260219T180000
DTEND;TZID=America/New_York:20260219T210000
DTSTAMP:20260419T114245
CREATED:20260129T173622Z
LAST-MODIFIED:20260129T173622Z
UID:10013938-1771524000-1771534800@newportricheyelks.org
SUMMARY:Open Mic Jam Night
DESCRIPTION:Open to members and their guests.
URL:https://newportricheyelks.org/event-calendar/open-mic-jam-night/2026-02-19/
CATEGORIES:Members & Their Guests
ATTACH;FMTTYPE=image/jpeg:https://newportricheyelks.org/wp-content/uploads/2026/01/Open-Mic-Jam-Night-720-x-576-Events-Calendar-Image.jpg
END:VEVENT
BEGIN:VEVENT
DTSTART;TZID=America/New_York:20260213T170000
DTEND;TZID=America/New_York:20260213T190000
DTSTAMP:20260419T114245
CREATED:20250507T173212Z
LAST-MODIFIED:20260302T012215Z
UID:10011457-1771002000-1771009200@newportricheyelks.org
SUMMARY:Kitchen Hours
DESCRIPTION:Open to Members & Their Guests \nClick here for the menu.
URL:https://newportricheyelks.org/event-calendar/kitchen-hours/2026-02-13/
CATEGORIES:Members & Their Guests
ATTACH;FMTTYPE=image/png:https://newportricheyelks.org/wp-content/uploads/2023/07/Dinner-Lounge.png
END:VEVENT
BEGIN:VEVENT
DTSTART;TZID=America/New_York:20260212T180000
DTEND;TZID=America/New_York:20260212T210000
DTSTAMP:20260419T114245
CREATED:20260129T173622Z
LAST-MODIFIED:20260129T173622Z
UID:10013937-1770919200-1770930000@newportricheyelks.org
SUMMARY:Open Mic Jam Night
DESCRIPTION:Open to members and their guests.
URL:https://newportricheyelks.org/event-calendar/open-mic-jam-night/2026-02-12/
CATEGORIES:Members & Their Guests
ATTACH;FMTTYPE=image/jpeg:https://newportricheyelks.org/wp-content/uploads/2026/01/Open-Mic-Jam-Night-720-x-576-Events-Calendar-Image.jpg
END:VEVENT
BEGIN:VEVENT
DTSTART;TZID=America/New_York:20260206T170000
DTEND;TZID=America/New_York:20260206T190000
DTSTAMP:20260419T114245
CREATED:20250507T173212Z
LAST-MODIFIED:20260302T012215Z
UID:10011456-1770397200-1770404400@newportricheyelks.org
SUMMARY:Kitchen Hours
DESCRIPTION:Open to Members & Their Guests \nClick here for the menu.
URL:https://newportricheyelks.org/event-calendar/kitchen-hours/2026-02-06/
CATEGORIES:Members & Their Guests
ATTACH;FMTTYPE=image/png:https://newportricheyelks.org/wp-content/uploads/2023/07/Dinner-Lounge.png
END:VEVENT
BEGIN:VEVENT
DTSTART;TZID=America/New_York:20260205T180000
DTEND;TZID=America/New_York:20260205T210000
DTSTAMP:20260419T114245
CREATED:20260129T173622Z
LAST-MODIFIED:20260129T173622Z
UID:10013936-1770314400-1770325200@newportricheyelks.org
SUMMARY:Open Mic Jam Night
DESCRIPTION:Open to members and their guests.
URL:https://newportricheyelks.org/event-calendar/open-mic-jam-night/2026-02-05/
CATEGORIES:Members & Their Guests
ATTACH;FMTTYPE=image/jpeg:https://newportricheyelks.org/wp-content/uploads/2026/01/Open-Mic-Jam-Night-720-x-576-Events-Calendar-Image.jpg
END:VEVENT
BEGIN:VEVENT
DTSTART;TZID=America/New_York:20260130T170000
DTEND;TZID=America/New_York:20260130T190000
DTSTAMP:20260419T114245
CREATED:20250507T173212Z
LAST-MODIFIED:20260302T012215Z
UID:10011455-1769792400-1769799600@newportricheyelks.org
SUMMARY:Kitchen Hours
DESCRIPTION:Open to Members & Their Guests \nClick here for the menu.
URL:https://newportricheyelks.org/event-calendar/kitchen-hours/2026-01-30/
CATEGORIES:Members & Their Guests
ATTACH;FMTTYPE=image/png:https://newportricheyelks.org/wp-content/uploads/2023/07/Dinner-Lounge.png
END:VEVENT
BEGIN:VEVENT
DTSTART;TZID=America/New_York:20260129T180000
DTEND;TZID=America/New_York:20260129T210000
DTSTAMP:20260419T114245
CREATED:20260129T173622Z
LAST-MODIFIED:20260129T173622Z
UID:10013935-1769709600-1769720400@newportricheyelks.org
SUMMARY:Open Mic Jam Night
DESCRIPTION:Open to members and their guests.
URL:https://newportricheyelks.org/event-calendar/open-mic-jam-night/2026-01-29/
CATEGORIES:Members & Their Guests
ATTACH;FMTTYPE=image/jpeg:https://newportricheyelks.org/wp-content/uploads/2026/01/Open-Mic-Jam-Night-720-x-576-Events-Calendar-Image.jpg
END:VEVENT
BEGIN:VEVENT
DTSTART;TZID=America/New_York:20260123T170000
DTEND;TZID=America/New_York:20260123T190000
DTSTAMP:20260419T114245
CREATED:20250507T173212Z
LAST-MODIFIED:20260302T012215Z
UID:10011454-1769187600-1769194800@newportricheyelks.org
SUMMARY:Kitchen Hours
DESCRIPTION:Open to Members & Their Guests \nClick here for the menu.
URL:https://newportricheyelks.org/event-calendar/kitchen-hours/2026-01-23/
CATEGORIES:Members & Their Guests
ATTACH;FMTTYPE=image/png:https://newportricheyelks.org/wp-content/uploads/2023/07/Dinner-Lounge.png
END:VEVENT
END:VCALENDAR