BEGIN:VCALENDAR
VERSION:2.0
PRODID:-//New Port Richey Elks Lodge 2284 - ECPv6.15.20//NONSGML v1.0//EN
CALSCALE:GREGORIAN
METHOD:PUBLISH
X-ORIGINAL-URL:https://newportricheyelks.org
X-WR-CALDESC:Events for New Port Richey Elks Lodge 2284
REFRESH-INTERVAL;VALUE=DURATION:PT1H
X-Robots-Tag:noindex
X-PUBLISHED-TTL:PT1H
BEGIN:VTIMEZONE
TZID:America/New_York
BEGIN:DAYLIGHT
TZOFFSETFROM:-0500
TZOFFSETTO:-0400
TZNAME:EDT
DTSTART:20260308T070000
END:DAYLIGHT
BEGIN:STANDARD
TZOFFSETFROM:-0400
TZOFFSETTO:-0500
TZNAME:EST
DTSTART:20261101T060000
END:STANDARD
BEGIN:DAYLIGHT
TZOFFSETFROM:-0500
TZOFFSETTO:-0400
TZNAME:EDT
DTSTART:20270314T070000
END:DAYLIGHT
BEGIN:STANDARD
TZOFFSETFROM:-0400
TZOFFSETTO:-0500
TZNAME:EST
DTSTART:20271107T060000
END:STANDARD
BEGIN:DAYLIGHT
TZOFFSETFROM:-0500
TZOFFSETTO:-0400
TZNAME:EDT
DTSTART:20280312T070000
END:DAYLIGHT
BEGIN:STANDARD
TZOFFSETFROM:-0400
TZOFFSETTO:-0500
TZNAME:EST
DTSTART:20281105T060000
END:STANDARD
BEGIN:DAYLIGHT
TZOFFSETFROM:-0500
TZOFFSETTO:-0400
TZNAME:EDT
DTSTART:20290311T070000
END:DAYLIGHT
BEGIN:STANDARD
TZOFFSETFROM:-0400
TZOFFSETTO:-0500
TZNAME:EST
DTSTART:20291104T060000
END:STANDARD
END:VTIMEZONE
BEGIN:VEVENT
DTSTART;TZID=America/New_York:20271015T170000
DTEND;TZID=America/New_York:20271015T190000
DTSTAMP:20260420T070854
CREATED:20250507T173212Z
LAST-MODIFIED:20260302T012215Z
UID:10011544-1823619600-1823626800@newportricheyelks.org
SUMMARY:Kitchen Hours
DESCRIPTION:Open to Members & Their Guests \nClick here for the menu.
URL:https://newportricheyelks.org/event-calendar/kitchen-hours/2027-10-15/
CATEGORIES:Members & Their Guests
ATTACH;FMTTYPE=image/png:https://newportricheyelks.org/wp-content/uploads/2023/07/Dinner-Lounge.png
END:VEVENT
BEGIN:VEVENT
DTSTART;TZID=America/New_York:20271021T180000
DTEND;TZID=America/New_York:20271021T210000
DTSTAMP:20260420T070854
CREATED:20260129T173622Z
LAST-MODIFIED:20260129T173622Z
UID:10014025-1824141600-1824152400@newportricheyelks.org
SUMMARY:Open Mic Jam Night
DESCRIPTION:Open to members and their guests.
URL:https://newportricheyelks.org/event-calendar/open-mic-jam-night/2027-10-21/
CATEGORIES:Members & Their Guests
ATTACH;FMTTYPE=image/jpeg:https://newportricheyelks.org/wp-content/uploads/2026/01/Open-Mic-Jam-Night-720-x-576-Events-Calendar-Image.jpg
END:VEVENT
BEGIN:VEVENT
DTSTART;TZID=America/New_York:20271022T170000
DTEND;TZID=America/New_York:20271022T190000
DTSTAMP:20260420T070854
CREATED:20250507T173212Z
LAST-MODIFIED:20260302T012215Z
UID:10011545-1824224400-1824231600@newportricheyelks.org
SUMMARY:Kitchen Hours
DESCRIPTION:Open to Members & Their Guests \nClick here for the menu.
URL:https://newportricheyelks.org/event-calendar/kitchen-hours/2027-10-22/
CATEGORIES:Members & Their Guests
ATTACH;FMTTYPE=image/png:https://newportricheyelks.org/wp-content/uploads/2023/07/Dinner-Lounge.png
END:VEVENT
BEGIN:VEVENT
DTSTART;TZID=America/New_York:20271028T180000
DTEND;TZID=America/New_York:20271028T210000
DTSTAMP:20260420T070854
CREATED:20260129T173622Z
LAST-MODIFIED:20260129T173622Z
UID:10014026-1824746400-1824757200@newportricheyelks.org
SUMMARY:Open Mic Jam Night
DESCRIPTION:Open to members and their guests.
URL:https://newportricheyelks.org/event-calendar/open-mic-jam-night/2027-10-28/
CATEGORIES:Members & Their Guests
ATTACH;FMTTYPE=image/jpeg:https://newportricheyelks.org/wp-content/uploads/2026/01/Open-Mic-Jam-Night-720-x-576-Events-Calendar-Image.jpg
END:VEVENT
BEGIN:VEVENT
DTSTART;TZID=America/New_York:20271029T170000
DTEND;TZID=America/New_York:20271029T190000
DTSTAMP:20260420T070854
CREATED:20250507T173212Z
LAST-MODIFIED:20260302T012215Z
UID:10011546-1824829200-1824836400@newportricheyelks.org
SUMMARY:Kitchen Hours
DESCRIPTION:Open to Members & Their Guests \nClick here for the menu.
URL:https://newportricheyelks.org/event-calendar/kitchen-hours/2027-10-29/
CATEGORIES:Members & Their Guests
ATTACH;FMTTYPE=image/png:https://newportricheyelks.org/wp-content/uploads/2023/07/Dinner-Lounge.png
END:VEVENT
BEGIN:VEVENT
DTSTART;TZID=America/New_York:20271104T180000
DTEND;TZID=America/New_York:20271104T210000
DTSTAMP:20260420T070854
CREATED:20260129T173622Z
LAST-MODIFIED:20260129T173622Z
UID:10014027-1825351200-1825362000@newportricheyelks.org
SUMMARY:Open Mic Jam Night
DESCRIPTION:Open to members and their guests.
URL:https://newportricheyelks.org/event-calendar/open-mic-jam-night/2027-11-04/
CATEGORIES:Members & Their Guests
ATTACH;FMTTYPE=image/jpeg:https://newportricheyelks.org/wp-content/uploads/2026/01/Open-Mic-Jam-Night-720-x-576-Events-Calendar-Image.jpg
END:VEVENT
BEGIN:VEVENT
DTSTART;TZID=America/New_York:20271105T170000
DTEND;TZID=America/New_York:20271105T190000
DTSTAMP:20260420T070854
CREATED:20250507T173212Z
LAST-MODIFIED:20260302T012215Z
UID:10011547-1825434000-1825441200@newportricheyelks.org
SUMMARY:Kitchen Hours
DESCRIPTION:Open to Members & Their Guests \nClick here for the menu.
URL:https://newportricheyelks.org/event-calendar/kitchen-hours/2027-11-05/
CATEGORIES:Members & Their Guests
ATTACH;FMTTYPE=image/png:https://newportricheyelks.org/wp-content/uploads/2023/07/Dinner-Lounge.png
END:VEVENT
BEGIN:VEVENT
DTSTART;TZID=America/New_York:20271111T180000
DTEND;TZID=America/New_York:20271111T210000
DTSTAMP:20260420T070854
CREATED:20260129T173622Z
LAST-MODIFIED:20260129T173622Z
UID:10014028-1825956000-1825966800@newportricheyelks.org
SUMMARY:Open Mic Jam Night
DESCRIPTION:Open to members and their guests.
URL:https://newportricheyelks.org/event-calendar/open-mic-jam-night/2027-11-11/
CATEGORIES:Members & Their Guests
ATTACH;FMTTYPE=image/jpeg:https://newportricheyelks.org/wp-content/uploads/2026/01/Open-Mic-Jam-Night-720-x-576-Events-Calendar-Image.jpg
END:VEVENT
BEGIN:VEVENT
DTSTART;TZID=America/New_York:20271112T170000
DTEND;TZID=America/New_York:20271112T190000
DTSTAMP:20260420T070854
CREATED:20250507T173212Z
LAST-MODIFIED:20260302T012215Z
UID:10011548-1826038800-1826046000@newportricheyelks.org
SUMMARY:Kitchen Hours
DESCRIPTION:Open to Members & Their Guests \nClick here for the menu.
URL:https://newportricheyelks.org/event-calendar/kitchen-hours/2027-11-12/
CATEGORIES:Members & Their Guests
ATTACH;FMTTYPE=image/png:https://newportricheyelks.org/wp-content/uploads/2023/07/Dinner-Lounge.png
END:VEVENT
BEGIN:VEVENT
DTSTART;TZID=America/New_York:20271118T180000
DTEND;TZID=America/New_York:20271118T210000
DTSTAMP:20260420T070854
CREATED:20260129T173622Z
LAST-MODIFIED:20260129T173622Z
UID:10014029-1826560800-1826571600@newportricheyelks.org
SUMMARY:Open Mic Jam Night
DESCRIPTION:Open to members and their guests.
URL:https://newportricheyelks.org/event-calendar/open-mic-jam-night/2027-11-18/
CATEGORIES:Members & Their Guests
ATTACH;FMTTYPE=image/jpeg:https://newportricheyelks.org/wp-content/uploads/2026/01/Open-Mic-Jam-Night-720-x-576-Events-Calendar-Image.jpg
END:VEVENT
BEGIN:VEVENT
DTSTART;TZID=America/New_York:20271119T170000
DTEND;TZID=America/New_York:20271119T190000
DTSTAMP:20260420T070854
CREATED:20250507T173212Z
LAST-MODIFIED:20260302T012215Z
UID:10011549-1826643600-1826650800@newportricheyelks.org
SUMMARY:Kitchen Hours
DESCRIPTION:Open to Members & Their Guests \nClick here for the menu.
URL:https://newportricheyelks.org/event-calendar/kitchen-hours/2027-11-19/
CATEGORIES:Members & Their Guests
ATTACH;FMTTYPE=image/png:https://newportricheyelks.org/wp-content/uploads/2023/07/Dinner-Lounge.png
END:VEVENT
BEGIN:VEVENT
DTSTART;TZID=America/New_York:20271125T180000
DTEND;TZID=America/New_York:20271125T210000
DTSTAMP:20260420T070854
CREATED:20260129T173622Z
LAST-MODIFIED:20260129T173622Z
UID:10014030-1827165600-1827176400@newportricheyelks.org
SUMMARY:Open Mic Jam Night
DESCRIPTION:Open to members and their guests.
URL:https://newportricheyelks.org/event-calendar/open-mic-jam-night/2027-11-25/
CATEGORIES:Members & Their Guests
ATTACH;FMTTYPE=image/jpeg:https://newportricheyelks.org/wp-content/uploads/2026/01/Open-Mic-Jam-Night-720-x-576-Events-Calendar-Image.jpg
END:VEVENT
BEGIN:VEVENT
DTSTART;TZID=America/New_York:20271126T170000
DTEND;TZID=America/New_York:20271126T190000
DTSTAMP:20260420T070854
CREATED:20250507T173212Z
LAST-MODIFIED:20260302T012215Z
UID:10011550-1827248400-1827255600@newportricheyelks.org
SUMMARY:Kitchen Hours
DESCRIPTION:Open to Members & Their Guests \nClick here for the menu.
URL:https://newportricheyelks.org/event-calendar/kitchen-hours/2027-11-26/
CATEGORIES:Members & Their Guests
ATTACH;FMTTYPE=image/png:https://newportricheyelks.org/wp-content/uploads/2023/07/Dinner-Lounge.png
END:VEVENT
BEGIN:VEVENT
DTSTART;TZID=America/New_York:20271202T180000
DTEND;TZID=America/New_York:20271202T210000
DTSTAMP:20260420T070854
CREATED:20260129T173622Z
LAST-MODIFIED:20260129T173622Z
UID:10014031-1827770400-1827781200@newportricheyelks.org
SUMMARY:Open Mic Jam Night
DESCRIPTION:Open to members and their guests.
URL:https://newportricheyelks.org/event-calendar/open-mic-jam-night/2027-12-02/
CATEGORIES:Members & Their Guests
ATTACH;FMTTYPE=image/jpeg:https://newportricheyelks.org/wp-content/uploads/2026/01/Open-Mic-Jam-Night-720-x-576-Events-Calendar-Image.jpg
END:VEVENT
BEGIN:VEVENT
DTSTART;TZID=America/New_York:20271203T170000
DTEND;TZID=America/New_York:20271203T190000
DTSTAMP:20260420T070854
CREATED:20250507T173212Z
LAST-MODIFIED:20260302T012215Z
UID:10011551-1827853200-1827860400@newportricheyelks.org
SUMMARY:Kitchen Hours
DESCRIPTION:Open to Members & Their Guests \nClick here for the menu.
URL:https://newportricheyelks.org/event-calendar/kitchen-hours/2027-12-03/
CATEGORIES:Members & Their Guests
ATTACH;FMTTYPE=image/png:https://newportricheyelks.org/wp-content/uploads/2023/07/Dinner-Lounge.png
END:VEVENT
BEGIN:VEVENT
DTSTART;TZID=America/New_York:20271209T180000
DTEND;TZID=America/New_York:20271209T210000
DTSTAMP:20260420T070854
CREATED:20260129T173622Z
LAST-MODIFIED:20260129T173622Z
UID:10014032-1828375200-1828386000@newportricheyelks.org
SUMMARY:Open Mic Jam Night
DESCRIPTION:Open to members and their guests.
URL:https://newportricheyelks.org/event-calendar/open-mic-jam-night/2027-12-09/
CATEGORIES:Members & Their Guests
ATTACH;FMTTYPE=image/jpeg:https://newportricheyelks.org/wp-content/uploads/2026/01/Open-Mic-Jam-Night-720-x-576-Events-Calendar-Image.jpg
END:VEVENT
BEGIN:VEVENT
DTSTART;TZID=America/New_York:20271210T170000
DTEND;TZID=America/New_York:20271210T190000
DTSTAMP:20260420T070854
CREATED:20250507T173212Z
LAST-MODIFIED:20260302T012215Z
UID:10011552-1828458000-1828465200@newportricheyelks.org
SUMMARY:Kitchen Hours
DESCRIPTION:Open to Members & Their Guests \nClick here for the menu.
URL:https://newportricheyelks.org/event-calendar/kitchen-hours/2027-12-10/
CATEGORIES:Members & Their Guests
ATTACH;FMTTYPE=image/png:https://newportricheyelks.org/wp-content/uploads/2023/07/Dinner-Lounge.png
END:VEVENT
BEGIN:VEVENT
DTSTART;TZID=America/New_York:20271216T180000
DTEND;TZID=America/New_York:20271216T210000
DTSTAMP:20260420T070854
CREATED:20260129T173622Z
LAST-MODIFIED:20260129T173622Z
UID:10014033-1828980000-1828990800@newportricheyelks.org
SUMMARY:Open Mic Jam Night
DESCRIPTION:Open to members and their guests.
URL:https://newportricheyelks.org/event-calendar/open-mic-jam-night/2027-12-16/
CATEGORIES:Members & Their Guests
ATTACH;FMTTYPE=image/jpeg:https://newportricheyelks.org/wp-content/uploads/2026/01/Open-Mic-Jam-Night-720-x-576-Events-Calendar-Image.jpg
END:VEVENT
BEGIN:VEVENT
DTSTART;TZID=America/New_York:20271217T170000
DTEND;TZID=America/New_York:20271217T190000
DTSTAMP:20260420T070854
CREATED:20250507T173212Z
LAST-MODIFIED:20260302T012215Z
UID:10011553-1829062800-1829070000@newportricheyelks.org
SUMMARY:Kitchen Hours
DESCRIPTION:Open to Members & Their Guests \nClick here for the menu.
URL:https://newportricheyelks.org/event-calendar/kitchen-hours/2027-12-17/
CATEGORIES:Members & Their Guests
ATTACH;FMTTYPE=image/png:https://newportricheyelks.org/wp-content/uploads/2023/07/Dinner-Lounge.png
END:VEVENT
BEGIN:VEVENT
DTSTART;TZID=America/New_York:20271223T180000
DTEND;TZID=America/New_York:20271223T210000
DTSTAMP:20260420T070854
CREATED:20260129T173622Z
LAST-MODIFIED:20260129T173622Z
UID:10014034-1829584800-1829595600@newportricheyelks.org
SUMMARY:Open Mic Jam Night
DESCRIPTION:Open to members and their guests.
URL:https://newportricheyelks.org/event-calendar/open-mic-jam-night/2027-12-23/
CATEGORIES:Members & Their Guests
ATTACH;FMTTYPE=image/jpeg:https://newportricheyelks.org/wp-content/uploads/2026/01/Open-Mic-Jam-Night-720-x-576-Events-Calendar-Image.jpg
END:VEVENT
BEGIN:VEVENT
DTSTART;TZID=America/New_York:20271224T170000
DTEND;TZID=America/New_York:20271224T190000
DTSTAMP:20260420T070855
CREATED:20250507T173212Z
LAST-MODIFIED:20260302T012215Z
UID:10011554-1829667600-1829674800@newportricheyelks.org
SUMMARY:Kitchen Hours
DESCRIPTION:Open to Members & Their Guests \nClick here for the menu.
URL:https://newportricheyelks.org/event-calendar/kitchen-hours/2027-12-24/
CATEGORIES:Members & Their Guests
ATTACH;FMTTYPE=image/png:https://newportricheyelks.org/wp-content/uploads/2023/07/Dinner-Lounge.png
END:VEVENT
BEGIN:VEVENT
DTSTART;TZID=America/New_York:20271230T180000
DTEND;TZID=America/New_York:20271230T210000
DTSTAMP:20260420T070855
CREATED:20260129T173622Z
LAST-MODIFIED:20260129T173622Z
UID:10014035-1830189600-1830200400@newportricheyelks.org
SUMMARY:Open Mic Jam Night
DESCRIPTION:Open to members and their guests.
URL:https://newportricheyelks.org/event-calendar/open-mic-jam-night/2027-12-30/
CATEGORIES:Members & Their Guests
ATTACH;FMTTYPE=image/jpeg:https://newportricheyelks.org/wp-content/uploads/2026/01/Open-Mic-Jam-Night-720-x-576-Events-Calendar-Image.jpg
END:VEVENT
BEGIN:VEVENT
DTSTART;TZID=America/New_York:20271231T170000
DTEND;TZID=America/New_York:20271231T190000
DTSTAMP:20260420T070855
CREATED:20250507T173212Z
LAST-MODIFIED:20260302T012215Z
UID:10011555-1830272400-1830279600@newportricheyelks.org
SUMMARY:Kitchen Hours
DESCRIPTION:Open to Members & Their Guests \nClick here for the menu.
URL:https://newportricheyelks.org/event-calendar/kitchen-hours/2027-12-31/
CATEGORIES:Members & Their Guests
ATTACH;FMTTYPE=image/png:https://newportricheyelks.org/wp-content/uploads/2023/07/Dinner-Lounge.png
END:VEVENT
BEGIN:VEVENT
DTSTART;TZID=America/New_York:20280106T180000
DTEND;TZID=America/New_York:20280106T210000
DTSTAMP:20260420T070855
CREATED:20260129T173622Z
LAST-MODIFIED:20260129T173622Z
UID:10014036-1830794400-1830805200@newportricheyelks.org
SUMMARY:Open Mic Jam Night
DESCRIPTION:Open to members and their guests.
URL:https://newportricheyelks.org/event-calendar/open-mic-jam-night/2028-01-06/
CATEGORIES:Members & Their Guests
ATTACH;FMTTYPE=image/jpeg:https://newportricheyelks.org/wp-content/uploads/2026/01/Open-Mic-Jam-Night-720-x-576-Events-Calendar-Image.jpg
END:VEVENT
BEGIN:VEVENT
DTSTART;TZID=America/New_York:20280107T170000
DTEND;TZID=America/New_York:20280107T190000
DTSTAMP:20260420T070855
CREATED:20250507T173212Z
LAST-MODIFIED:20260302T012215Z
UID:10011556-1830877200-1830884400@newportricheyelks.org
SUMMARY:Kitchen Hours
DESCRIPTION:Open to Members & Their Guests \nClick here for the menu.
URL:https://newportricheyelks.org/event-calendar/kitchen-hours/2028-01-07/
CATEGORIES:Members & Their Guests
ATTACH;FMTTYPE=image/png:https://newportricheyelks.org/wp-content/uploads/2023/07/Dinner-Lounge.png
END:VEVENT
BEGIN:VEVENT
DTSTART;TZID=America/New_York:20280113T180000
DTEND;TZID=America/New_York:20280113T210000
DTSTAMP:20260420T070855
CREATED:20260129T173622Z
LAST-MODIFIED:20260129T173622Z
UID:10014037-1831399200-1831410000@newportricheyelks.org
SUMMARY:Open Mic Jam Night
DESCRIPTION:Open to members and their guests.
URL:https://newportricheyelks.org/event-calendar/open-mic-jam-night/2028-01-13/
CATEGORIES:Members & Their Guests
ATTACH;FMTTYPE=image/jpeg:https://newportricheyelks.org/wp-content/uploads/2026/01/Open-Mic-Jam-Night-720-x-576-Events-Calendar-Image.jpg
END:VEVENT
BEGIN:VEVENT
DTSTART;TZID=America/New_York:20280114T170000
DTEND;TZID=America/New_York:20280114T190000
DTSTAMP:20260420T070855
CREATED:20250507T173212Z
LAST-MODIFIED:20260302T012215Z
UID:10011557-1831482000-1831489200@newportricheyelks.org
SUMMARY:Kitchen Hours
DESCRIPTION:Open to Members & Their Guests \nClick here for the menu.
URL:https://newportricheyelks.org/event-calendar/kitchen-hours/2028-01-14/
CATEGORIES:Members & Their Guests
ATTACH;FMTTYPE=image/png:https://newportricheyelks.org/wp-content/uploads/2023/07/Dinner-Lounge.png
END:VEVENT
BEGIN:VEVENT
DTSTART;TZID=America/New_York:20280120T180000
DTEND;TZID=America/New_York:20280120T210000
DTSTAMP:20260420T070855
CREATED:20260129T173622Z
LAST-MODIFIED:20260129T173622Z
UID:10014038-1832004000-1832014800@newportricheyelks.org
SUMMARY:Open Mic Jam Night
DESCRIPTION:Open to members and their guests.
URL:https://newportricheyelks.org/event-calendar/open-mic-jam-night/2028-01-20/
CATEGORIES:Members & Their Guests
ATTACH;FMTTYPE=image/jpeg:https://newportricheyelks.org/wp-content/uploads/2026/01/Open-Mic-Jam-Night-720-x-576-Events-Calendar-Image.jpg
END:VEVENT
BEGIN:VEVENT
DTSTART;TZID=America/New_York:20280121T170000
DTEND;TZID=America/New_York:20280121T190000
DTSTAMP:20260420T070855
CREATED:20250507T173212Z
LAST-MODIFIED:20260302T012215Z
UID:10011558-1832086800-1832094000@newportricheyelks.org
SUMMARY:Kitchen Hours
DESCRIPTION:Open to Members & Their Guests \nClick here for the menu.
URL:https://newportricheyelks.org/event-calendar/kitchen-hours/2028-01-21/
CATEGORIES:Members & Their Guests
ATTACH;FMTTYPE=image/png:https://newportricheyelks.org/wp-content/uploads/2023/07/Dinner-Lounge.png
END:VEVENT
BEGIN:VEVENT
DTSTART;TZID=America/New_York:20280127T180000
DTEND;TZID=America/New_York:20280127T210000
DTSTAMP:20260420T070855
CREATED:20260129T173622Z
LAST-MODIFIED:20260129T173622Z
UID:10014039-1832608800-1832619600@newportricheyelks.org
SUMMARY:Open Mic Jam Night
DESCRIPTION:Open to members and their guests.
URL:https://newportricheyelks.org/event-calendar/open-mic-jam-night/2028-01-27/
CATEGORIES:Members & Their Guests
ATTACH;FMTTYPE=image/jpeg:https://newportricheyelks.org/wp-content/uploads/2026/01/Open-Mic-Jam-Night-720-x-576-Events-Calendar-Image.jpg
END:VEVENT
END:VCALENDAR