BEGIN:VCALENDAR
VERSION:2.0
PRODID:-//New Port Richey Elks Lodge 2284 - ECPv6.15.20//NONSGML v1.0//EN
CALSCALE:GREGORIAN
METHOD:PUBLISH
X-WR-CALNAME:New Port Richey Elks Lodge 2284
X-ORIGINAL-URL:https://newportricheyelks.org
X-WR-CALDESC:Events for New Port Richey Elks Lodge 2284
REFRESH-INTERVAL;VALUE=DURATION:PT1H
X-Robots-Tag:noindex
X-PUBLISHED-TTL:PT1H
BEGIN:VTIMEZONE
TZID:America/New_York
BEGIN:DAYLIGHT
TZOFFSETFROM:-0500
TZOFFSETTO:-0400
TZNAME:EDT
DTSTART:20250309T070000
END:DAYLIGHT
BEGIN:STANDARD
TZOFFSETFROM:-0400
TZOFFSETTO:-0500
TZNAME:EST
DTSTART:20251102T060000
END:STANDARD
BEGIN:DAYLIGHT
TZOFFSETFROM:-0500
TZOFFSETTO:-0400
TZNAME:EDT
DTSTART:20260308T070000
END:DAYLIGHT
BEGIN:STANDARD
TZOFFSETFROM:-0400
TZOFFSETTO:-0500
TZNAME:EST
DTSTART:20261101T060000
END:STANDARD
BEGIN:DAYLIGHT
TZOFFSETFROM:-0500
TZOFFSETTO:-0400
TZNAME:EDT
DTSTART:20270314T070000
END:DAYLIGHT
BEGIN:STANDARD
TZOFFSETFROM:-0400
TZOFFSETTO:-0500
TZNAME:EST
DTSTART:20271107T060000
END:STANDARD
END:VTIMEZONE
BEGIN:VEVENT
DTSTART;TZID=America/New_York:20260604T180000
DTEND;TZID=America/New_York:20260604T210000
DTSTAMP:20260419T095515
CREATED:20260129T173622Z
LAST-MODIFIED:20260129T173622Z
UID:10013953-1780596000-1780606800@newportricheyelks.org
SUMMARY:Open Mic Jam Night
DESCRIPTION:Open to members and their guests.
URL:https://newportricheyelks.org/event-calendar/open-mic-jam-night/2026-06-04/
CATEGORIES:Members & Their Guests
ATTACH;FMTTYPE=image/jpeg:https://newportricheyelks.org/wp-content/uploads/2026/01/Open-Mic-Jam-Night-720-x-576-Events-Calendar-Image.jpg
END:VEVENT
BEGIN:VEVENT
DTSTART;TZID=America/New_York:20260605T170000
DTEND;TZID=America/New_York:20260605T190000
DTSTAMP:20260419T095515
CREATED:20250507T173212Z
LAST-MODIFIED:20260302T012215Z
UID:10011473-1780678800-1780686000@newportricheyelks.org
SUMMARY:Kitchen Hours
DESCRIPTION:Open to Members & Their Guests \nClick here for the menu.
URL:https://newportricheyelks.org/event-calendar/kitchen-hours/2026-06-05/
CATEGORIES:Members & Their Guests
ATTACH;FMTTYPE=image/png:https://newportricheyelks.org/wp-content/uploads/2023/07/Dinner-Lounge.png
END:VEVENT
BEGIN:VEVENT
DTSTART;TZID=America/New_York:20260611T180000
DTEND;TZID=America/New_York:20260611T210000
DTSTAMP:20260419T095515
CREATED:20260129T173622Z
LAST-MODIFIED:20260129T173622Z
UID:10013954-1781200800-1781211600@newportricheyelks.org
SUMMARY:Open Mic Jam Night
DESCRIPTION:Open to members and their guests.
URL:https://newportricheyelks.org/event-calendar/open-mic-jam-night/2026-06-11/
CATEGORIES:Members & Their Guests
ATTACH;FMTTYPE=image/jpeg:https://newportricheyelks.org/wp-content/uploads/2026/01/Open-Mic-Jam-Night-720-x-576-Events-Calendar-Image.jpg
END:VEVENT
BEGIN:VEVENT
DTSTART;TZID=America/New_York:20260612T170000
DTEND;TZID=America/New_York:20260612T190000
DTSTAMP:20260419T095515
CREATED:20250507T173212Z
LAST-MODIFIED:20260302T012215Z
UID:10011474-1781283600-1781290800@newportricheyelks.org
SUMMARY:Kitchen Hours
DESCRIPTION:Open to Members & Their Guests \nClick here for the menu.
URL:https://newportricheyelks.org/event-calendar/kitchen-hours/2026-06-12/
CATEGORIES:Members & Their Guests
ATTACH;FMTTYPE=image/png:https://newportricheyelks.org/wp-content/uploads/2023/07/Dinner-Lounge.png
END:VEVENT
BEGIN:VEVENT
DTSTART;TZID=America/New_York:20260618T180000
DTEND;TZID=America/New_York:20260618T210000
DTSTAMP:20260419T095515
CREATED:20260129T173622Z
LAST-MODIFIED:20260129T173622Z
UID:10013955-1781805600-1781816400@newportricheyelks.org
SUMMARY:Open Mic Jam Night
DESCRIPTION:Open to members and their guests.
URL:https://newportricheyelks.org/event-calendar/open-mic-jam-night/2026-06-18/
CATEGORIES:Members & Their Guests
ATTACH;FMTTYPE=image/jpeg:https://newportricheyelks.org/wp-content/uploads/2026/01/Open-Mic-Jam-Night-720-x-576-Events-Calendar-Image.jpg
END:VEVENT
BEGIN:VEVENT
DTSTART;TZID=America/New_York:20260619T170000
DTEND;TZID=America/New_York:20260619T190000
DTSTAMP:20260419T095515
CREATED:20250507T173212Z
LAST-MODIFIED:20260302T012215Z
UID:10011475-1781888400-1781895600@newportricheyelks.org
SUMMARY:Kitchen Hours
DESCRIPTION:Open to Members & Their Guests \nClick here for the menu.
URL:https://newportricheyelks.org/event-calendar/kitchen-hours/2026-06-19/
CATEGORIES:Members & Their Guests
ATTACH;FMTTYPE=image/png:https://newportricheyelks.org/wp-content/uploads/2023/07/Dinner-Lounge.png
END:VEVENT
BEGIN:VEVENT
DTSTART;TZID=America/New_York:20260625T180000
DTEND;TZID=America/New_York:20260625T210000
DTSTAMP:20260419T095515
CREATED:20260129T173622Z
LAST-MODIFIED:20260129T173622Z
UID:10013956-1782410400-1782421200@newportricheyelks.org
SUMMARY:Open Mic Jam Night
DESCRIPTION:Open to members and their guests.
URL:https://newportricheyelks.org/event-calendar/open-mic-jam-night/2026-06-25/
CATEGORIES:Members & Their Guests
ATTACH;FMTTYPE=image/jpeg:https://newportricheyelks.org/wp-content/uploads/2026/01/Open-Mic-Jam-Night-720-x-576-Events-Calendar-Image.jpg
END:VEVENT
BEGIN:VEVENT
DTSTART;TZID=America/New_York:20260626T170000
DTEND;TZID=America/New_York:20260626T190000
DTSTAMP:20260419T095515
CREATED:20250507T173212Z
LAST-MODIFIED:20260302T012215Z
UID:10011476-1782493200-1782500400@newportricheyelks.org
SUMMARY:Kitchen Hours
DESCRIPTION:Open to Members & Their Guests \nClick here for the menu.
URL:https://newportricheyelks.org/event-calendar/kitchen-hours/2026-06-26/
CATEGORIES:Members & Their Guests
ATTACH;FMTTYPE=image/png:https://newportricheyelks.org/wp-content/uploads/2023/07/Dinner-Lounge.png
END:VEVENT
BEGIN:VEVENT
DTSTART;TZID=America/New_York:20260702T180000
DTEND;TZID=America/New_York:20260702T210000
DTSTAMP:20260419T095515
CREATED:20260129T173622Z
LAST-MODIFIED:20260129T173622Z
UID:10013957-1783015200-1783026000@newportricheyelks.org
SUMMARY:Open Mic Jam Night
DESCRIPTION:Open to members and their guests.
URL:https://newportricheyelks.org/event-calendar/open-mic-jam-night/2026-07-02/
CATEGORIES:Members & Their Guests
ATTACH;FMTTYPE=image/jpeg:https://newportricheyelks.org/wp-content/uploads/2026/01/Open-Mic-Jam-Night-720-x-576-Events-Calendar-Image.jpg
END:VEVENT
BEGIN:VEVENT
DTSTART;TZID=America/New_York:20260703T170000
DTEND;TZID=America/New_York:20260703T190000
DTSTAMP:20260419T095516
CREATED:20250507T173212Z
LAST-MODIFIED:20260302T012215Z
UID:10011477-1783098000-1783105200@newportricheyelks.org
SUMMARY:Kitchen Hours
DESCRIPTION:Open to Members & Their Guests \nClick here for the menu.
URL:https://newportricheyelks.org/event-calendar/kitchen-hours/2026-07-03/
CATEGORIES:Members & Their Guests
ATTACH;FMTTYPE=image/png:https://newportricheyelks.org/wp-content/uploads/2023/07/Dinner-Lounge.png
END:VEVENT
BEGIN:VEVENT
DTSTART;TZID=America/New_York:20260709T180000
DTEND;TZID=America/New_York:20260709T210000
DTSTAMP:20260419T095516
CREATED:20260129T173622Z
LAST-MODIFIED:20260129T173622Z
UID:10013958-1783620000-1783630800@newportricheyelks.org
SUMMARY:Open Mic Jam Night
DESCRIPTION:Open to members and their guests.
URL:https://newportricheyelks.org/event-calendar/open-mic-jam-night/2026-07-09/
CATEGORIES:Members & Their Guests
ATTACH;FMTTYPE=image/jpeg:https://newportricheyelks.org/wp-content/uploads/2026/01/Open-Mic-Jam-Night-720-x-576-Events-Calendar-Image.jpg
END:VEVENT
BEGIN:VEVENT
DTSTART;TZID=America/New_York:20260710T170000
DTEND;TZID=America/New_York:20260710T190000
DTSTAMP:20260419T095516
CREATED:20250507T173212Z
LAST-MODIFIED:20260302T012215Z
UID:10011478-1783702800-1783710000@newportricheyelks.org
SUMMARY:Kitchen Hours
DESCRIPTION:Open to Members & Their Guests \nClick here for the menu.
URL:https://newportricheyelks.org/event-calendar/kitchen-hours/2026-07-10/
CATEGORIES:Members & Their Guests
ATTACH;FMTTYPE=image/png:https://newportricheyelks.org/wp-content/uploads/2023/07/Dinner-Lounge.png
END:VEVENT
BEGIN:VEVENT
DTSTART;TZID=America/New_York:20260716T180000
DTEND;TZID=America/New_York:20260716T210000
DTSTAMP:20260419T095516
CREATED:20260129T173622Z
LAST-MODIFIED:20260129T173622Z
UID:10013959-1784224800-1784235600@newportricheyelks.org
SUMMARY:Open Mic Jam Night
DESCRIPTION:Open to members and their guests.
URL:https://newportricheyelks.org/event-calendar/open-mic-jam-night/2026-07-16/
CATEGORIES:Members & Their Guests
ATTACH;FMTTYPE=image/jpeg:https://newportricheyelks.org/wp-content/uploads/2026/01/Open-Mic-Jam-Night-720-x-576-Events-Calendar-Image.jpg
END:VEVENT
BEGIN:VEVENT
DTSTART;TZID=America/New_York:20260717T170000
DTEND;TZID=America/New_York:20260717T190000
DTSTAMP:20260419T095516
CREATED:20250507T173212Z
LAST-MODIFIED:20260302T012215Z
UID:10011479-1784307600-1784314800@newportricheyelks.org
SUMMARY:Kitchen Hours
DESCRIPTION:Open to Members & Their Guests \nClick here for the menu.
URL:https://newportricheyelks.org/event-calendar/kitchen-hours/2026-07-17/
CATEGORIES:Members & Their Guests
ATTACH;FMTTYPE=image/png:https://newportricheyelks.org/wp-content/uploads/2023/07/Dinner-Lounge.png
END:VEVENT
BEGIN:VEVENT
DTSTART;TZID=America/New_York:20260723T180000
DTEND;TZID=America/New_York:20260723T210000
DTSTAMP:20260419T095516
CREATED:20260129T173622Z
LAST-MODIFIED:20260129T173622Z
UID:10013960-1784829600-1784840400@newportricheyelks.org
SUMMARY:Open Mic Jam Night
DESCRIPTION:Open to members and their guests.
URL:https://newportricheyelks.org/event-calendar/open-mic-jam-night/2026-07-23/
CATEGORIES:Members & Their Guests
ATTACH;FMTTYPE=image/jpeg:https://newportricheyelks.org/wp-content/uploads/2026/01/Open-Mic-Jam-Night-720-x-576-Events-Calendar-Image.jpg
END:VEVENT
BEGIN:VEVENT
DTSTART;TZID=America/New_York:20260724T170000
DTEND;TZID=America/New_York:20260724T190000
DTSTAMP:20260419T095516
CREATED:20250507T173212Z
LAST-MODIFIED:20260302T012215Z
UID:10011480-1784912400-1784919600@newportricheyelks.org
SUMMARY:Kitchen Hours
DESCRIPTION:Open to Members & Their Guests \nClick here for the menu.
URL:https://newportricheyelks.org/event-calendar/kitchen-hours/2026-07-24/
CATEGORIES:Members & Their Guests
ATTACH;FMTTYPE=image/png:https://newportricheyelks.org/wp-content/uploads/2023/07/Dinner-Lounge.png
END:VEVENT
BEGIN:VEVENT
DTSTART;TZID=America/New_York:20260730T180000
DTEND;TZID=America/New_York:20260730T210000
DTSTAMP:20260419T095516
CREATED:20260129T173622Z
LAST-MODIFIED:20260129T173622Z
UID:10013961-1785434400-1785445200@newportricheyelks.org
SUMMARY:Open Mic Jam Night
DESCRIPTION:Open to members and their guests.
URL:https://newportricheyelks.org/event-calendar/open-mic-jam-night/2026-07-30/
CATEGORIES:Members & Their Guests
ATTACH;FMTTYPE=image/jpeg:https://newportricheyelks.org/wp-content/uploads/2026/01/Open-Mic-Jam-Night-720-x-576-Events-Calendar-Image.jpg
END:VEVENT
BEGIN:VEVENT
DTSTART;TZID=America/New_York:20260731T170000
DTEND;TZID=America/New_York:20260731T190000
DTSTAMP:20260419T095516
CREATED:20250507T173212Z
LAST-MODIFIED:20260302T012215Z
UID:10011481-1785517200-1785524400@newportricheyelks.org
SUMMARY:Kitchen Hours
DESCRIPTION:Open to Members & Their Guests \nClick here for the menu.
URL:https://newportricheyelks.org/event-calendar/kitchen-hours/2026-07-31/
CATEGORIES:Members & Their Guests
ATTACH;FMTTYPE=image/png:https://newportricheyelks.org/wp-content/uploads/2023/07/Dinner-Lounge.png
END:VEVENT
BEGIN:VEVENT
DTSTART;TZID=America/New_York:20260806T180000
DTEND;TZID=America/New_York:20260806T210000
DTSTAMP:20260419T095516
CREATED:20260129T173622Z
LAST-MODIFIED:20260129T173622Z
UID:10013962-1786039200-1786050000@newportricheyelks.org
SUMMARY:Open Mic Jam Night
DESCRIPTION:Open to members and their guests.
URL:https://newportricheyelks.org/event-calendar/open-mic-jam-night/2026-08-06/
CATEGORIES:Members & Their Guests
ATTACH;FMTTYPE=image/jpeg:https://newportricheyelks.org/wp-content/uploads/2026/01/Open-Mic-Jam-Night-720-x-576-Events-Calendar-Image.jpg
END:VEVENT
BEGIN:VEVENT
DTSTART;TZID=America/New_York:20260807T170000
DTEND;TZID=America/New_York:20260807T190000
DTSTAMP:20260419T095516
CREATED:20250507T173212Z
LAST-MODIFIED:20260302T012215Z
UID:10011482-1786122000-1786129200@newportricheyelks.org
SUMMARY:Kitchen Hours
DESCRIPTION:Open to Members & Their Guests \nClick here for the menu.
URL:https://newportricheyelks.org/event-calendar/kitchen-hours/2026-08-07/
CATEGORIES:Members & Their Guests
ATTACH;FMTTYPE=image/png:https://newportricheyelks.org/wp-content/uploads/2023/07/Dinner-Lounge.png
END:VEVENT
BEGIN:VEVENT
DTSTART;TZID=America/New_York:20260813T180000
DTEND;TZID=America/New_York:20260813T210000
DTSTAMP:20260419T095516
CREATED:20260129T173622Z
LAST-MODIFIED:20260129T173622Z
UID:10013963-1786644000-1786654800@newportricheyelks.org
SUMMARY:Open Mic Jam Night
DESCRIPTION:Open to members and their guests.
URL:https://newportricheyelks.org/event-calendar/open-mic-jam-night/2026-08-13/
CATEGORIES:Members & Their Guests
ATTACH;FMTTYPE=image/jpeg:https://newportricheyelks.org/wp-content/uploads/2026/01/Open-Mic-Jam-Night-720-x-576-Events-Calendar-Image.jpg
END:VEVENT
BEGIN:VEVENT
DTSTART;TZID=America/New_York:20260814T170000
DTEND;TZID=America/New_York:20260814T190000
DTSTAMP:20260419T095516
CREATED:20250507T173212Z
LAST-MODIFIED:20260302T012215Z
UID:10011483-1786726800-1786734000@newportricheyelks.org
SUMMARY:Kitchen Hours
DESCRIPTION:Open to Members & Their Guests \nClick here for the menu.
URL:https://newportricheyelks.org/event-calendar/kitchen-hours/2026-08-14/
CATEGORIES:Members & Their Guests
ATTACH;FMTTYPE=image/png:https://newportricheyelks.org/wp-content/uploads/2023/07/Dinner-Lounge.png
END:VEVENT
BEGIN:VEVENT
DTSTART;TZID=America/New_York:20260820T180000
DTEND;TZID=America/New_York:20260820T210000
DTSTAMP:20260419T095516
CREATED:20260129T173622Z
LAST-MODIFIED:20260129T173622Z
UID:10013964-1787248800-1787259600@newportricheyelks.org
SUMMARY:Open Mic Jam Night
DESCRIPTION:Open to members and their guests.
URL:https://newportricheyelks.org/event-calendar/open-mic-jam-night/2026-08-20/
CATEGORIES:Members & Their Guests
ATTACH;FMTTYPE=image/jpeg:https://newportricheyelks.org/wp-content/uploads/2026/01/Open-Mic-Jam-Night-720-x-576-Events-Calendar-Image.jpg
END:VEVENT
BEGIN:VEVENT
DTSTART;TZID=America/New_York:20260821T170000
DTEND;TZID=America/New_York:20260821T190000
DTSTAMP:20260419T095516
CREATED:20250507T173212Z
LAST-MODIFIED:20260302T012215Z
UID:10011484-1787331600-1787338800@newportricheyelks.org
SUMMARY:Kitchen Hours
DESCRIPTION:Open to Members & Their Guests \nClick here for the menu.
URL:https://newportricheyelks.org/event-calendar/kitchen-hours/2026-08-21/
CATEGORIES:Members & Their Guests
ATTACH;FMTTYPE=image/png:https://newportricheyelks.org/wp-content/uploads/2023/07/Dinner-Lounge.png
END:VEVENT
BEGIN:VEVENT
DTSTART;TZID=America/New_York:20260827T180000
DTEND;TZID=America/New_York:20260827T210000
DTSTAMP:20260419T095516
CREATED:20260129T173622Z
LAST-MODIFIED:20260129T173622Z
UID:10013965-1787853600-1787864400@newportricheyelks.org
SUMMARY:Open Mic Jam Night
DESCRIPTION:Open to members and their guests.
URL:https://newportricheyelks.org/event-calendar/open-mic-jam-night/2026-08-27/
CATEGORIES:Members & Their Guests
ATTACH;FMTTYPE=image/jpeg:https://newportricheyelks.org/wp-content/uploads/2026/01/Open-Mic-Jam-Night-720-x-576-Events-Calendar-Image.jpg
END:VEVENT
BEGIN:VEVENT
DTSTART;TZID=America/New_York:20260828T170000
DTEND;TZID=America/New_York:20260828T190000
DTSTAMP:20260419T095516
CREATED:20250507T173212Z
LAST-MODIFIED:20260302T012215Z
UID:10011485-1787936400-1787943600@newportricheyelks.org
SUMMARY:Kitchen Hours
DESCRIPTION:Open to Members & Their Guests \nClick here for the menu.
URL:https://newportricheyelks.org/event-calendar/kitchen-hours/2026-08-28/
CATEGORIES:Members & Their Guests
ATTACH;FMTTYPE=image/png:https://newportricheyelks.org/wp-content/uploads/2023/07/Dinner-Lounge.png
END:VEVENT
BEGIN:VEVENT
DTSTART;TZID=America/New_York:20260903T180000
DTEND;TZID=America/New_York:20260903T210000
DTSTAMP:20260419T095517
CREATED:20260129T173622Z
LAST-MODIFIED:20260129T173622Z
UID:10013966-1788458400-1788469200@newportricheyelks.org
SUMMARY:Open Mic Jam Night
DESCRIPTION:Open to members and their guests.
URL:https://newportricheyelks.org/event-calendar/open-mic-jam-night/2026-09-03/
CATEGORIES:Members & Their Guests
ATTACH;FMTTYPE=image/jpeg:https://newportricheyelks.org/wp-content/uploads/2026/01/Open-Mic-Jam-Night-720-x-576-Events-Calendar-Image.jpg
END:VEVENT
BEGIN:VEVENT
DTSTART;TZID=America/New_York:20260904T170000
DTEND;TZID=America/New_York:20260904T190000
DTSTAMP:20260419T095517
CREATED:20250507T173212Z
LAST-MODIFIED:20260302T012215Z
UID:10011486-1788541200-1788548400@newportricheyelks.org
SUMMARY:Kitchen Hours
DESCRIPTION:Open to Members & Their Guests \nClick here for the menu.
URL:https://newportricheyelks.org/event-calendar/kitchen-hours/2026-09-04/
CATEGORIES:Members & Their Guests
ATTACH;FMTTYPE=image/png:https://newportricheyelks.org/wp-content/uploads/2023/07/Dinner-Lounge.png
END:VEVENT
BEGIN:VEVENT
DTSTART;TZID=America/New_York:20260910T180000
DTEND;TZID=America/New_York:20260910T210000
DTSTAMP:20260419T095517
CREATED:20260129T173622Z
LAST-MODIFIED:20260129T173622Z
UID:10013967-1789063200-1789074000@newportricheyelks.org
SUMMARY:Open Mic Jam Night
DESCRIPTION:Open to members and their guests.
URL:https://newportricheyelks.org/event-calendar/open-mic-jam-night/2026-09-10/
CATEGORIES:Members & Their Guests
ATTACH;FMTTYPE=image/jpeg:https://newportricheyelks.org/wp-content/uploads/2026/01/Open-Mic-Jam-Night-720-x-576-Events-Calendar-Image.jpg
END:VEVENT
BEGIN:VEVENT
DTSTART;TZID=America/New_York:20260911T170000
DTEND;TZID=America/New_York:20260911T190000
DTSTAMP:20260419T095517
CREATED:20250507T173212Z
LAST-MODIFIED:20260302T012215Z
UID:10011487-1789146000-1789153200@newportricheyelks.org
SUMMARY:Kitchen Hours
DESCRIPTION:Open to Members & Their Guests \nClick here for the menu.
URL:https://newportricheyelks.org/event-calendar/kitchen-hours/2026-09-11/
CATEGORIES:Members & Their Guests
ATTACH;FMTTYPE=image/png:https://newportricheyelks.org/wp-content/uploads/2023/07/Dinner-Lounge.png
END:VEVENT
END:VCALENDAR