BEGIN:VCALENDAR
VERSION:2.0
PRODID:-//New Port Richey Elks Lodge 2284 - ECPv6.15.20//NONSGML v1.0//EN
CALSCALE:GREGORIAN
METHOD:PUBLISH
X-WR-CALNAME:New Port Richey Elks Lodge 2284
X-ORIGINAL-URL:https://newportricheyelks.org
X-WR-CALDESC:Events for New Port Richey Elks Lodge 2284
REFRESH-INTERVAL;VALUE=DURATION:PT1H
X-Robots-Tag:noindex
X-PUBLISHED-TTL:PT1H
BEGIN:VTIMEZONE
TZID:America/New_York
BEGIN:DAYLIGHT
TZOFFSETFROM:-0500
TZOFFSETTO:-0400
TZNAME:EDT
DTSTART:20250309T070000
END:DAYLIGHT
BEGIN:STANDARD
TZOFFSETFROM:-0400
TZOFFSETTO:-0500
TZNAME:EST
DTSTART:20251102T060000
END:STANDARD
BEGIN:DAYLIGHT
TZOFFSETFROM:-0500
TZOFFSETTO:-0400
TZNAME:EDT
DTSTART:20260308T070000
END:DAYLIGHT
BEGIN:STANDARD
TZOFFSETFROM:-0400
TZOFFSETTO:-0500
TZNAME:EST
DTSTART:20261101T060000
END:STANDARD
BEGIN:DAYLIGHT
TZOFFSETFROM:-0500
TZOFFSETTO:-0400
TZNAME:EDT
DTSTART:20270314T070000
END:DAYLIGHT
BEGIN:STANDARD
TZOFFSETFROM:-0400
TZOFFSETTO:-0500
TZNAME:EST
DTSTART:20271107T060000
END:STANDARD
END:VTIMEZONE
BEGIN:VEVENT
DTSTART;TZID=America/New_York:20260827T180000
DTEND;TZID=America/New_York:20260827T210000
DTSTAMP:20260419T132202
CREATED:20260129T173622Z
LAST-MODIFIED:20260129T173622Z
UID:10013965-1787853600-1787864400@newportricheyelks.org
SUMMARY:Open Mic Jam Night
DESCRIPTION:Open to members and their guests.
URL:https://newportricheyelks.org/event-calendar/open-mic-jam-night/2026-08-27/
CATEGORIES:Members & Their Guests
ATTACH;FMTTYPE=image/jpeg:https://newportricheyelks.org/wp-content/uploads/2026/01/Open-Mic-Jam-Night-720-x-576-Events-Calendar-Image.jpg
END:VEVENT
BEGIN:VEVENT
DTSTART;TZID=America/New_York:20260828T170000
DTEND;TZID=America/New_York:20260828T190000
DTSTAMP:20260419T132202
CREATED:20250507T173212Z
LAST-MODIFIED:20260302T012215Z
UID:10011485-1787936400-1787943600@newportricheyelks.org
SUMMARY:Kitchen Hours
DESCRIPTION:Open to Members & Their Guests \nClick here for the menu.
URL:https://newportricheyelks.org/event-calendar/kitchen-hours/2026-08-28/
CATEGORIES:Members & Their Guests
ATTACH;FMTTYPE=image/png:https://newportricheyelks.org/wp-content/uploads/2023/07/Dinner-Lounge.png
END:VEVENT
BEGIN:VEVENT
DTSTART;TZID=America/New_York:20260903T180000
DTEND;TZID=America/New_York:20260903T210000
DTSTAMP:20260419T132202
CREATED:20260129T173622Z
LAST-MODIFIED:20260129T173622Z
UID:10013966-1788458400-1788469200@newportricheyelks.org
SUMMARY:Open Mic Jam Night
DESCRIPTION:Open to members and their guests.
URL:https://newportricheyelks.org/event-calendar/open-mic-jam-night/2026-09-03/
CATEGORIES:Members & Their Guests
ATTACH;FMTTYPE=image/jpeg:https://newportricheyelks.org/wp-content/uploads/2026/01/Open-Mic-Jam-Night-720-x-576-Events-Calendar-Image.jpg
END:VEVENT
BEGIN:VEVENT
DTSTART;TZID=America/New_York:20260904T170000
DTEND;TZID=America/New_York:20260904T190000
DTSTAMP:20260419T132202
CREATED:20250507T173212Z
LAST-MODIFIED:20260302T012215Z
UID:10011486-1788541200-1788548400@newportricheyelks.org
SUMMARY:Kitchen Hours
DESCRIPTION:Open to Members & Their Guests \nClick here for the menu.
URL:https://newportricheyelks.org/event-calendar/kitchen-hours/2026-09-04/
CATEGORIES:Members & Their Guests
ATTACH;FMTTYPE=image/png:https://newportricheyelks.org/wp-content/uploads/2023/07/Dinner-Lounge.png
END:VEVENT
BEGIN:VEVENT
DTSTART;TZID=America/New_York:20260910T180000
DTEND;TZID=America/New_York:20260910T210000
DTSTAMP:20260419T132202
CREATED:20260129T173622Z
LAST-MODIFIED:20260129T173622Z
UID:10013967-1789063200-1789074000@newportricheyelks.org
SUMMARY:Open Mic Jam Night
DESCRIPTION:Open to members and their guests.
URL:https://newportricheyelks.org/event-calendar/open-mic-jam-night/2026-09-10/
CATEGORIES:Members & Their Guests
ATTACH;FMTTYPE=image/jpeg:https://newportricheyelks.org/wp-content/uploads/2026/01/Open-Mic-Jam-Night-720-x-576-Events-Calendar-Image.jpg
END:VEVENT
BEGIN:VEVENT
DTSTART;TZID=America/New_York:20260911T170000
DTEND;TZID=America/New_York:20260911T190000
DTSTAMP:20260419T132202
CREATED:20250507T173212Z
LAST-MODIFIED:20260302T012215Z
UID:10011487-1789146000-1789153200@newportricheyelks.org
SUMMARY:Kitchen Hours
DESCRIPTION:Open to Members & Their Guests \nClick here for the menu.
URL:https://newportricheyelks.org/event-calendar/kitchen-hours/2026-09-11/
CATEGORIES:Members & Their Guests
ATTACH;FMTTYPE=image/png:https://newportricheyelks.org/wp-content/uploads/2023/07/Dinner-Lounge.png
END:VEVENT
BEGIN:VEVENT
DTSTART;TZID=America/New_York:20260917T180000
DTEND;TZID=America/New_York:20260917T210000
DTSTAMP:20260419T132202
CREATED:20260129T173622Z
LAST-MODIFIED:20260129T173622Z
UID:10013968-1789668000-1789678800@newportricheyelks.org
SUMMARY:Open Mic Jam Night
DESCRIPTION:Open to members and their guests.
URL:https://newportricheyelks.org/event-calendar/open-mic-jam-night/2026-09-17/
CATEGORIES:Members & Their Guests
ATTACH;FMTTYPE=image/jpeg:https://newportricheyelks.org/wp-content/uploads/2026/01/Open-Mic-Jam-Night-720-x-576-Events-Calendar-Image.jpg
END:VEVENT
BEGIN:VEVENT
DTSTART;TZID=America/New_York:20260918T170000
DTEND;TZID=America/New_York:20260918T190000
DTSTAMP:20260419T132202
CREATED:20250507T173212Z
LAST-MODIFIED:20260302T012215Z
UID:10011488-1789750800-1789758000@newportricheyelks.org
SUMMARY:Kitchen Hours
DESCRIPTION:Open to Members & Their Guests \nClick here for the menu.
URL:https://newportricheyelks.org/event-calendar/kitchen-hours/2026-09-18/
CATEGORIES:Members & Their Guests
ATTACH;FMTTYPE=image/png:https://newportricheyelks.org/wp-content/uploads/2023/07/Dinner-Lounge.png
END:VEVENT
BEGIN:VEVENT
DTSTART;TZID=America/New_York:20260924T180000
DTEND;TZID=America/New_York:20260924T210000
DTSTAMP:20260419T132202
CREATED:20260129T173622Z
LAST-MODIFIED:20260129T173622Z
UID:10013969-1790272800-1790283600@newportricheyelks.org
SUMMARY:Open Mic Jam Night
DESCRIPTION:Open to members and their guests.
URL:https://newportricheyelks.org/event-calendar/open-mic-jam-night/2026-09-24/
CATEGORIES:Members & Their Guests
ATTACH;FMTTYPE=image/jpeg:https://newportricheyelks.org/wp-content/uploads/2026/01/Open-Mic-Jam-Night-720-x-576-Events-Calendar-Image.jpg
END:VEVENT
BEGIN:VEVENT
DTSTART;TZID=America/New_York:20260925T170000
DTEND;TZID=America/New_York:20260925T190000
DTSTAMP:20260419T132202
CREATED:20250507T173212Z
LAST-MODIFIED:20260302T012215Z
UID:10011489-1790355600-1790362800@newportricheyelks.org
SUMMARY:Kitchen Hours
DESCRIPTION:Open to Members & Their Guests \nClick here for the menu.
URL:https://newportricheyelks.org/event-calendar/kitchen-hours/2026-09-25/
CATEGORIES:Members & Their Guests
ATTACH;FMTTYPE=image/png:https://newportricheyelks.org/wp-content/uploads/2023/07/Dinner-Lounge.png
END:VEVENT
BEGIN:VEVENT
DTSTART;TZID=America/New_York:20261001T180000
DTEND;TZID=America/New_York:20261001T210000
DTSTAMP:20260419T132202
CREATED:20260129T173622Z
LAST-MODIFIED:20260129T173622Z
UID:10013970-1790877600-1790888400@newportricheyelks.org
SUMMARY:Open Mic Jam Night
DESCRIPTION:Open to members and their guests.
URL:https://newportricheyelks.org/event-calendar/open-mic-jam-night/2026-10-01/
CATEGORIES:Members & Their Guests
ATTACH;FMTTYPE=image/jpeg:https://newportricheyelks.org/wp-content/uploads/2026/01/Open-Mic-Jam-Night-720-x-576-Events-Calendar-Image.jpg
END:VEVENT
BEGIN:VEVENT
DTSTART;TZID=America/New_York:20261002T170000
DTEND;TZID=America/New_York:20261002T190000
DTSTAMP:20260419T132202
CREATED:20250507T173212Z
LAST-MODIFIED:20260302T012215Z
UID:10011490-1790960400-1790967600@newportricheyelks.org
SUMMARY:Kitchen Hours
DESCRIPTION:Open to Members & Their Guests \nClick here for the menu.
URL:https://newportricheyelks.org/event-calendar/kitchen-hours/2026-10-02/
CATEGORIES:Members & Their Guests
ATTACH;FMTTYPE=image/png:https://newportricheyelks.org/wp-content/uploads/2023/07/Dinner-Lounge.png
END:VEVENT
BEGIN:VEVENT
DTSTART;TZID=America/New_York:20261008T180000
DTEND;TZID=America/New_York:20261008T210000
DTSTAMP:20260419T132202
CREATED:20260129T173622Z
LAST-MODIFIED:20260129T173622Z
UID:10013971-1791482400-1791493200@newportricheyelks.org
SUMMARY:Open Mic Jam Night
DESCRIPTION:Open to members and their guests.
URL:https://newportricheyelks.org/event-calendar/open-mic-jam-night/2026-10-08/
CATEGORIES:Members & Their Guests
ATTACH;FMTTYPE=image/jpeg:https://newportricheyelks.org/wp-content/uploads/2026/01/Open-Mic-Jam-Night-720-x-576-Events-Calendar-Image.jpg
END:VEVENT
BEGIN:VEVENT
DTSTART;TZID=America/New_York:20261009T170000
DTEND;TZID=America/New_York:20261009T190000
DTSTAMP:20260419T132202
CREATED:20250507T173212Z
LAST-MODIFIED:20260302T012215Z
UID:10011491-1791565200-1791572400@newportricheyelks.org
SUMMARY:Kitchen Hours
DESCRIPTION:Open to Members & Their Guests \nClick here for the menu.
URL:https://newportricheyelks.org/event-calendar/kitchen-hours/2026-10-09/
CATEGORIES:Members & Their Guests
ATTACH;FMTTYPE=image/png:https://newportricheyelks.org/wp-content/uploads/2023/07/Dinner-Lounge.png
END:VEVENT
BEGIN:VEVENT
DTSTART;TZID=America/New_York:20261015T180000
DTEND;TZID=America/New_York:20261015T210000
DTSTAMP:20260419T132202
CREATED:20260129T173622Z
LAST-MODIFIED:20260129T173622Z
UID:10013972-1792087200-1792098000@newportricheyelks.org
SUMMARY:Open Mic Jam Night
DESCRIPTION:Open to members and their guests.
URL:https://newportricheyelks.org/event-calendar/open-mic-jam-night/2026-10-15/
CATEGORIES:Members & Their Guests
ATTACH;FMTTYPE=image/jpeg:https://newportricheyelks.org/wp-content/uploads/2026/01/Open-Mic-Jam-Night-720-x-576-Events-Calendar-Image.jpg
END:VEVENT
BEGIN:VEVENT
DTSTART;TZID=America/New_York:20261016T170000
DTEND;TZID=America/New_York:20261016T190000
DTSTAMP:20260419T132202
CREATED:20250507T173212Z
LAST-MODIFIED:20260302T012215Z
UID:10011492-1792170000-1792177200@newportricheyelks.org
SUMMARY:Kitchen Hours
DESCRIPTION:Open to Members & Their Guests \nClick here for the menu.
URL:https://newportricheyelks.org/event-calendar/kitchen-hours/2026-10-16/
CATEGORIES:Members & Their Guests
ATTACH;FMTTYPE=image/png:https://newportricheyelks.org/wp-content/uploads/2023/07/Dinner-Lounge.png
END:VEVENT
BEGIN:VEVENT
DTSTART;TZID=America/New_York:20261022T180000
DTEND;TZID=America/New_York:20261022T210000
DTSTAMP:20260419T132202
CREATED:20260129T173622Z
LAST-MODIFIED:20260129T173622Z
UID:10013973-1792692000-1792702800@newportricheyelks.org
SUMMARY:Open Mic Jam Night
DESCRIPTION:Open to members and their guests.
URL:https://newportricheyelks.org/event-calendar/open-mic-jam-night/2026-10-22/
CATEGORIES:Members & Their Guests
ATTACH;FMTTYPE=image/jpeg:https://newportricheyelks.org/wp-content/uploads/2026/01/Open-Mic-Jam-Night-720-x-576-Events-Calendar-Image.jpg
END:VEVENT
BEGIN:VEVENT
DTSTART;TZID=America/New_York:20261023T170000
DTEND;TZID=America/New_York:20261023T190000
DTSTAMP:20260419T132203
CREATED:20250507T173212Z
LAST-MODIFIED:20260302T012215Z
UID:10011493-1792774800-1792782000@newportricheyelks.org
SUMMARY:Kitchen Hours
DESCRIPTION:Open to Members & Their Guests \nClick here for the menu.
URL:https://newportricheyelks.org/event-calendar/kitchen-hours/2026-10-23/
CATEGORIES:Members & Their Guests
ATTACH;FMTTYPE=image/png:https://newportricheyelks.org/wp-content/uploads/2023/07/Dinner-Lounge.png
END:VEVENT
BEGIN:VEVENT
DTSTART;TZID=America/New_York:20261029T180000
DTEND;TZID=America/New_York:20261029T210000
DTSTAMP:20260419T132203
CREATED:20260129T173622Z
LAST-MODIFIED:20260129T173622Z
UID:10013974-1793296800-1793307600@newportricheyelks.org
SUMMARY:Open Mic Jam Night
DESCRIPTION:Open to members and their guests.
URL:https://newportricheyelks.org/event-calendar/open-mic-jam-night/2026-10-29/
CATEGORIES:Members & Their Guests
ATTACH;FMTTYPE=image/jpeg:https://newportricheyelks.org/wp-content/uploads/2026/01/Open-Mic-Jam-Night-720-x-576-Events-Calendar-Image.jpg
END:VEVENT
BEGIN:VEVENT
DTSTART;TZID=America/New_York:20261030T170000
DTEND;TZID=America/New_York:20261030T190000
DTSTAMP:20260419T132203
CREATED:20250507T173212Z
LAST-MODIFIED:20260302T012215Z
UID:10011494-1793379600-1793386800@newportricheyelks.org
SUMMARY:Kitchen Hours
DESCRIPTION:Open to Members & Their Guests \nClick here for the menu.
URL:https://newportricheyelks.org/event-calendar/kitchen-hours/2026-10-30/
CATEGORIES:Members & Their Guests
ATTACH;FMTTYPE=image/png:https://newportricheyelks.org/wp-content/uploads/2023/07/Dinner-Lounge.png
END:VEVENT
BEGIN:VEVENT
DTSTART;TZID=America/New_York:20261105T180000
DTEND;TZID=America/New_York:20261105T210000
DTSTAMP:20260419T132203
CREATED:20260129T173622Z
LAST-MODIFIED:20260129T173622Z
UID:10013975-1793901600-1793912400@newportricheyelks.org
SUMMARY:Open Mic Jam Night
DESCRIPTION:Open to members and their guests.
URL:https://newportricheyelks.org/event-calendar/open-mic-jam-night/2026-11-05/
CATEGORIES:Members & Their Guests
ATTACH;FMTTYPE=image/jpeg:https://newportricheyelks.org/wp-content/uploads/2026/01/Open-Mic-Jam-Night-720-x-576-Events-Calendar-Image.jpg
END:VEVENT
BEGIN:VEVENT
DTSTART;TZID=America/New_York:20261106T170000
DTEND;TZID=America/New_York:20261106T190000
DTSTAMP:20260419T132203
CREATED:20250507T173212Z
LAST-MODIFIED:20260302T012215Z
UID:10011495-1793984400-1793991600@newportricheyelks.org
SUMMARY:Kitchen Hours
DESCRIPTION:Open to Members & Their Guests \nClick here for the menu.
URL:https://newportricheyelks.org/event-calendar/kitchen-hours/2026-11-06/
CATEGORIES:Members & Their Guests
ATTACH;FMTTYPE=image/png:https://newportricheyelks.org/wp-content/uploads/2023/07/Dinner-Lounge.png
END:VEVENT
BEGIN:VEVENT
DTSTART;TZID=America/New_York:20261112T180000
DTEND;TZID=America/New_York:20261112T210000
DTSTAMP:20260419T132203
CREATED:20260129T173622Z
LAST-MODIFIED:20260129T173622Z
UID:10013976-1794506400-1794517200@newportricheyelks.org
SUMMARY:Open Mic Jam Night
DESCRIPTION:Open to members and their guests.
URL:https://newportricheyelks.org/event-calendar/open-mic-jam-night/2026-11-12/
CATEGORIES:Members & Their Guests
ATTACH;FMTTYPE=image/jpeg:https://newportricheyelks.org/wp-content/uploads/2026/01/Open-Mic-Jam-Night-720-x-576-Events-Calendar-Image.jpg
END:VEVENT
BEGIN:VEVENT
DTSTART;TZID=America/New_York:20261113T170000
DTEND;TZID=America/New_York:20261113T190000
DTSTAMP:20260419T132203
CREATED:20250507T173212Z
LAST-MODIFIED:20260302T012215Z
UID:10011496-1794589200-1794596400@newportricheyelks.org
SUMMARY:Kitchen Hours
DESCRIPTION:Open to Members & Their Guests \nClick here for the menu.
URL:https://newportricheyelks.org/event-calendar/kitchen-hours/2026-11-13/
CATEGORIES:Members & Their Guests
ATTACH;FMTTYPE=image/png:https://newportricheyelks.org/wp-content/uploads/2023/07/Dinner-Lounge.png
END:VEVENT
BEGIN:VEVENT
DTSTART;TZID=America/New_York:20261119T180000
DTEND;TZID=America/New_York:20261119T210000
DTSTAMP:20260419T132203
CREATED:20260129T173622Z
LAST-MODIFIED:20260129T173622Z
UID:10013977-1795111200-1795122000@newportricheyelks.org
SUMMARY:Open Mic Jam Night
DESCRIPTION:Open to members and their guests.
URL:https://newportricheyelks.org/event-calendar/open-mic-jam-night/2026-11-19/
CATEGORIES:Members & Their Guests
ATTACH;FMTTYPE=image/jpeg:https://newportricheyelks.org/wp-content/uploads/2026/01/Open-Mic-Jam-Night-720-x-576-Events-Calendar-Image.jpg
END:VEVENT
BEGIN:VEVENT
DTSTART;TZID=America/New_York:20261120T170000
DTEND;TZID=America/New_York:20261120T190000
DTSTAMP:20260419T132203
CREATED:20250507T173212Z
LAST-MODIFIED:20260302T012215Z
UID:10011497-1795194000-1795201200@newportricheyelks.org
SUMMARY:Kitchen Hours
DESCRIPTION:Open to Members & Their Guests \nClick here for the menu.
URL:https://newportricheyelks.org/event-calendar/kitchen-hours/2026-11-20/
CATEGORIES:Members & Their Guests
ATTACH;FMTTYPE=image/png:https://newportricheyelks.org/wp-content/uploads/2023/07/Dinner-Lounge.png
END:VEVENT
BEGIN:VEVENT
DTSTART;TZID=America/New_York:20261126T180000
DTEND;TZID=America/New_York:20261126T210000
DTSTAMP:20260419T132203
CREATED:20260129T173622Z
LAST-MODIFIED:20260129T173622Z
UID:10013978-1795716000-1795726800@newportricheyelks.org
SUMMARY:Open Mic Jam Night
DESCRIPTION:Open to members and their guests.
URL:https://newportricheyelks.org/event-calendar/open-mic-jam-night/2026-11-26/
CATEGORIES:Members & Their Guests
ATTACH;FMTTYPE=image/jpeg:https://newportricheyelks.org/wp-content/uploads/2026/01/Open-Mic-Jam-Night-720-x-576-Events-Calendar-Image.jpg
END:VEVENT
BEGIN:VEVENT
DTSTART;TZID=America/New_York:20261127T170000
DTEND;TZID=America/New_York:20261127T190000
DTSTAMP:20260419T132203
CREATED:20250507T173212Z
LAST-MODIFIED:20260302T012215Z
UID:10011498-1795798800-1795806000@newportricheyelks.org
SUMMARY:Kitchen Hours
DESCRIPTION:Open to Members & Their Guests \nClick here for the menu.
URL:https://newportricheyelks.org/event-calendar/kitchen-hours/2026-11-27/
CATEGORIES:Members & Their Guests
ATTACH;FMTTYPE=image/png:https://newportricheyelks.org/wp-content/uploads/2023/07/Dinner-Lounge.png
END:VEVENT
BEGIN:VEVENT
DTSTART;TZID=America/New_York:20261203T180000
DTEND;TZID=America/New_York:20261203T210000
DTSTAMP:20260419T132203
CREATED:20260129T173622Z
LAST-MODIFIED:20260129T173622Z
UID:10013979-1796320800-1796331600@newportricheyelks.org
SUMMARY:Open Mic Jam Night
DESCRIPTION:Open to members and their guests.
URL:https://newportricheyelks.org/event-calendar/open-mic-jam-night/2026-12-03/
CATEGORIES:Members & Their Guests
ATTACH;FMTTYPE=image/jpeg:https://newportricheyelks.org/wp-content/uploads/2026/01/Open-Mic-Jam-Night-720-x-576-Events-Calendar-Image.jpg
END:VEVENT
BEGIN:VEVENT
DTSTART;TZID=America/New_York:20261204T170000
DTEND;TZID=America/New_York:20261204T190000
DTSTAMP:20260419T132203
CREATED:20250507T173212Z
LAST-MODIFIED:20260302T012215Z
UID:10011499-1796403600-1796410800@newportricheyelks.org
SUMMARY:Kitchen Hours
DESCRIPTION:Open to Members & Their Guests \nClick here for the menu.
URL:https://newportricheyelks.org/event-calendar/kitchen-hours/2026-12-04/
CATEGORIES:Members & Their Guests
ATTACH;FMTTYPE=image/png:https://newportricheyelks.org/wp-content/uploads/2023/07/Dinner-Lounge.png
END:VEVENT
END:VCALENDAR