BEGIN:VCALENDAR
VERSION:2.0
PRODID:-//New Port Richey Elks Lodge 2284 - ECPv6.15.20//NONSGML v1.0//EN
CALSCALE:GREGORIAN
METHOD:PUBLISH
X-WR-CALNAME:New Port Richey Elks Lodge 2284
X-ORIGINAL-URL:https://newportricheyelks.org
X-WR-CALDESC:Events for New Port Richey Elks Lodge 2284
REFRESH-INTERVAL;VALUE=DURATION:PT1H
X-Robots-Tag:noindex
X-PUBLISHED-TTL:PT1H
BEGIN:VTIMEZONE
TZID:America/New_York
BEGIN:DAYLIGHT
TZOFFSETFROM:-0500
TZOFFSETTO:-0400
TZNAME:EDT
DTSTART:20250309T070000
END:DAYLIGHT
BEGIN:STANDARD
TZOFFSETFROM:-0400
TZOFFSETTO:-0500
TZNAME:EST
DTSTART:20251102T060000
END:STANDARD
BEGIN:DAYLIGHT
TZOFFSETFROM:-0500
TZOFFSETTO:-0400
TZNAME:EDT
DTSTART:20260308T070000
END:DAYLIGHT
BEGIN:STANDARD
TZOFFSETFROM:-0400
TZOFFSETTO:-0500
TZNAME:EST
DTSTART:20261101T060000
END:STANDARD
BEGIN:DAYLIGHT
TZOFFSETFROM:-0500
TZOFFSETTO:-0400
TZNAME:EDT
DTSTART:20270314T070000
END:DAYLIGHT
BEGIN:STANDARD
TZOFFSETFROM:-0400
TZOFFSETTO:-0500
TZNAME:EST
DTSTART:20271107T060000
END:STANDARD
END:VTIMEZONE
BEGIN:VEVENT
DTSTART;TZID=America/New_York:20260603T153000
DTEND;TZID=America/New_York:20260603T173000
DTSTAMP:20260421T050336
CREATED:20251010T132108Z
LAST-MODIFIED:20251010T132108Z
UID:10013341-1780500600-1780507800@newportricheyelks.org
SUMMARY:Line Dancing
DESCRIPTION:Elk membership is not required as this is a third-party event. \nBeginner and intermediate line dancing lessons. \nA small fee is payable upon entry. \nHeld in the Luikart Hall
URL:https://newportricheyelks.org/event-calendar/line-dancing-2/2026-06-03/
LOCATION:Luikart Hall
CATEGORIES:Membership Not Required
ATTACH;FMTTYPE=image/png:https://newportricheyelks.org/wp-content/uploads/2023/07/Line-Dancing.png
END:VEVENT
BEGIN:VEVENT
DTSTART;TZID=America/New_York:20260604T160000
DTEND;TZID=America/New_York:20260604T170000
DTSTAMP:20260421T050336
CREATED:20230731T195104Z
LAST-MODIFIED:20230731T195104Z
UID:10005575-1780588800-1780592400@newportricheyelks.org
SUMMARY:Private Event
DESCRIPTION:Private event held in the Luikart Hall.
URL:https://newportricheyelks.org/event-calendar/private-event-18/2026-06-04/
LOCATION:Luikart Hall
CATEGORIES:Private Event
END:VEVENT
BEGIN:VEVENT
DTSTART;TZID=America/New_York:20260607T110000
DTEND;TZID=America/New_York:20260607T160000
DTSTAMP:20260421T050336
CREATED:20250226T162315Z
LAST-MODIFIED:20250321T213506Z
UID:10008856-1780830000-1780848000@newportricheyelks.org
SUMMARY:Bingo
DESCRIPTION:Open to everyone. \nDoors open at 11 am\, and the first game starts at 1 pm. \nOver 50 games to play. \nBeverages are available to purchase with CASH ONLY. \nSnacks are available to purchase with CASH ONLY. \nNonsmoking facility. \nClick here to learn more.
URL:https://newportricheyelks.org/event-calendar/bingo-3-2/2026-06-07/
LOCATION:Luikart Hall
CATEGORIES:Membership Not Required
ATTACH;FMTTYPE=image/png:https://newportricheyelks.org/wp-content/uploads/2025/02/Bingo-720-x-576-Event-Calendar-Featured-1.png
END:VEVENT
BEGIN:VEVENT
DTSTART;TZID=America/New_York:20260609T190000
DTEND;TZID=America/New_York:20260609T203000
DTSTAMP:20260421T050336
CREATED:20250630T015753Z
LAST-MODIFIED:20250630T015753Z
UID:10005385-1781031600-1781037000@newportricheyelks.org
SUMMARY:Lodge Meeting
DESCRIPTION:Open to Members Only. Held in the Luikart Hall.
URL:https://newportricheyelks.org/event-calendar/lodge-meeting-2-2-2/2026-06-09/
LOCATION:Luikart Hall
CATEGORIES:Members Only
ATTACH;FMTTYPE=image/png:https://newportricheyelks.org/wp-content/uploads/2023/07/Lodge-Meeting.png
END:VEVENT
BEGIN:VEVENT
DTSTART;TZID=America/New_York:20260610T153000
DTEND;TZID=America/New_York:20260610T173000
DTSTAMP:20260421T050336
CREATED:20251010T132108Z
LAST-MODIFIED:20251010T132108Z
UID:10013342-1781105400-1781112600@newportricheyelks.org
SUMMARY:Line Dancing
DESCRIPTION:Elk membership is not required as this is a third-party event. \nBeginner and intermediate line dancing lessons. \nA small fee is payable upon entry. \nHeld in the Luikart Hall
URL:https://newportricheyelks.org/event-calendar/line-dancing-2/2026-06-10/
LOCATION:Luikart Hall
CATEGORIES:Membership Not Required
ATTACH;FMTTYPE=image/png:https://newportricheyelks.org/wp-content/uploads/2023/07/Line-Dancing.png
END:VEVENT
BEGIN:VEVENT
DTSTART;TZID=America/New_York:20260614T110000
DTEND;TZID=America/New_York:20260614T160000
DTSTAMP:20260421T050336
CREATED:20250226T162315Z
LAST-MODIFIED:20250321T213506Z
UID:10008857-1781434800-1781452800@newportricheyelks.org
SUMMARY:Bingo
DESCRIPTION:Open to everyone. \nDoors open at 11 am\, and the first game starts at 1 pm. \nOver 50 games to play. \nBeverages are available to purchase with CASH ONLY. \nSnacks are available to purchase with CASH ONLY. \nNonsmoking facility. \nClick here to learn more.
URL:https://newportricheyelks.org/event-calendar/bingo-3-2/2026-06-14/
LOCATION:Luikart Hall
CATEGORIES:Membership Not Required
ATTACH;FMTTYPE=image/png:https://newportricheyelks.org/wp-content/uploads/2025/02/Bingo-720-x-576-Event-Calendar-Featured-1.png
END:VEVENT
BEGIN:VEVENT
DTSTART;TZID=America/New_York:20260616T190000
DTEND;TZID=America/New_York:20260616T203000
DTSTAMP:20260421T050336
CREATED:20231028T145654Z
LAST-MODIFIED:20231028T145654Z
UID:10000577-1781636400-1781641800@newportricheyelks.org
SUMMARY:Board Of Directors Meeting
DESCRIPTION:Open to Elk Members only. Starts at 7 pm in Luikart Hall.
URL:https://newportricheyelks.org/event-calendar/board-committee-meeting-2/2026-06-16/
LOCATION:Luikart Hall
CATEGORIES:Members Only
ATTACH;FMTTYPE=image/png:https://newportricheyelks.org/wp-content/uploads/2023/07/Board-House-Meeting.png
END:VEVENT
BEGIN:VEVENT
DTSTART;TZID=America/New_York:20260617T153000
DTEND;TZID=America/New_York:20260617T173000
DTSTAMP:20260421T050336
CREATED:20251010T132108Z
LAST-MODIFIED:20251010T132108Z
UID:10013343-1781710200-1781717400@newportricheyelks.org
SUMMARY:Line Dancing
DESCRIPTION:Elk membership is not required as this is a third-party event. \nBeginner and intermediate line dancing lessons. \nA small fee is payable upon entry. \nHeld in the Luikart Hall
URL:https://newportricheyelks.org/event-calendar/line-dancing-2/2026-06-17/
LOCATION:Luikart Hall
CATEGORIES:Membership Not Required
ATTACH;FMTTYPE=image/png:https://newportricheyelks.org/wp-content/uploads/2023/07/Line-Dancing.png
END:VEVENT
BEGIN:VEVENT
DTSTART;TZID=America/New_York:20260618T160000
DTEND;TZID=America/New_York:20260618T170000
DTSTAMP:20260421T050336
CREATED:20230731T195325Z
LAST-MODIFIED:20230731T195325Z
UID:10005635-1781798400-1781802000@newportricheyelks.org
SUMMARY:Private Event
DESCRIPTION:Private event held in the Luikart Hall.
URL:https://newportricheyelks.org/event-calendar/private-event-19/2026-06-18/
LOCATION:Luikart Hall
CATEGORIES:Private Event
END:VEVENT
BEGIN:VEVENT
DTSTART;TZID=America/New_York:20260621T110000
DTEND;TZID=America/New_York:20260621T160000
DTSTAMP:20260421T050336
CREATED:20250226T162315Z
LAST-MODIFIED:20250321T213506Z
UID:10008858-1782039600-1782057600@newportricheyelks.org
SUMMARY:Bingo
DESCRIPTION:Open to everyone. \nDoors open at 11 am\, and the first game starts at 1 pm. \nOver 50 games to play. \nBeverages are available to purchase with CASH ONLY. \nSnacks are available to purchase with CASH ONLY. \nNonsmoking facility. \nClick here to learn more.
URL:https://newportricheyelks.org/event-calendar/bingo-3-2/2026-06-21/
LOCATION:Luikart Hall
CATEGORIES:Membership Not Required
ATTACH;FMTTYPE=image/png:https://newportricheyelks.org/wp-content/uploads/2025/02/Bingo-720-x-576-Event-Calendar-Featured-1.png
END:VEVENT
BEGIN:VEVENT
DTSTART;TZID=America/New_York:20260623T173000
DTEND;TZID=America/New_York:20260623T183000
DTSTAMP:20260421T050336
CREATED:20241125T190857Z
LAST-MODIFIED:20241125T191346Z
UID:10000418-1782235800-1782239400@newportricheyelks.org
SUMMARY:Orientation Meeting
DESCRIPTION:Open to applicants pre-approved to become Elk Members. The report time is 5:30 pm and starts at 6 pm in the Luikart Hall.
URL:https://newportricheyelks.org/event-calendar/orientation-meeting-2/2026-06-23/
LOCATION:Luikart Hall
CATEGORIES:Members Only
ATTACH;FMTTYPE=image/png:https://newportricheyelks.org/wp-content/uploads/2023/07/Orientation-Meeting.png
END:VEVENT
BEGIN:VEVENT
DTSTART;TZID=America/New_York:20260623T190000
DTEND;TZID=America/New_York:20260623T203000
DTSTAMP:20260421T050336
CREATED:20241125T190956Z
LAST-MODIFIED:20241125T190956Z
UID:10000358-1782241200-1782246600@newportricheyelks.org
SUMMARY:Lodge Meeting
DESCRIPTION:Open to Elk Members only. Starts at 7 pm in Luikart Hall.
URL:https://newportricheyelks.org/event-calendar/lodge-meeting-2/2026-06-23/
LOCATION:Luikart Hall
CATEGORIES:Members Only
ATTACH;FMTTYPE=image/png:https://newportricheyelks.org/wp-content/uploads/2023/07/Lodge-Meeting.png
END:VEVENT
BEGIN:VEVENT
DTSTART;TZID=America/New_York:20260624T153000
DTEND;TZID=America/New_York:20260624T173000
DTSTAMP:20260421T050336
CREATED:20251010T132108Z
LAST-MODIFIED:20251010T132108Z
UID:10013344-1782315000-1782322200@newportricheyelks.org
SUMMARY:Line Dancing
DESCRIPTION:Elk membership is not required as this is a third-party event. \nBeginner and intermediate line dancing lessons. \nA small fee is payable upon entry. \nHeld in the Luikart Hall
URL:https://newportricheyelks.org/event-calendar/line-dancing-2/2026-06-24/
LOCATION:Luikart Hall
CATEGORIES:Membership Not Required
ATTACH;FMTTYPE=image/png:https://newportricheyelks.org/wp-content/uploads/2023/07/Line-Dancing.png
END:VEVENT
BEGIN:VEVENT
DTSTART;TZID=America/New_York:20260628T110000
DTEND;TZID=America/New_York:20260628T160000
DTSTAMP:20260421T050336
CREATED:20250226T162315Z
LAST-MODIFIED:20250321T213506Z
UID:10008859-1782644400-1782662400@newportricheyelks.org
SUMMARY:Bingo
DESCRIPTION:Open to everyone. \nDoors open at 11 am\, and the first game starts at 1 pm. \nOver 50 games to play. \nBeverages are available to purchase with CASH ONLY. \nSnacks are available to purchase with CASH ONLY. \nNonsmoking facility. \nClick here to learn more.
URL:https://newportricheyelks.org/event-calendar/bingo-3-2/2026-06-28/
LOCATION:Luikart Hall
CATEGORIES:Membership Not Required
ATTACH;FMTTYPE=image/png:https://newportricheyelks.org/wp-content/uploads/2025/02/Bingo-720-x-576-Event-Calendar-Featured-1.png
END:VEVENT
BEGIN:VEVENT
DTSTART;TZID=America/New_York:20260701T153000
DTEND;TZID=America/New_York:20260701T173000
DTSTAMP:20260421T050336
CREATED:20251010T132108Z
LAST-MODIFIED:20251010T132108Z
UID:10013345-1782919800-1782927000@newportricheyelks.org
SUMMARY:Line Dancing
DESCRIPTION:Elk membership is not required as this is a third-party event. \nBeginner and intermediate line dancing lessons. \nA small fee is payable upon entry. \nHeld in the Luikart Hall
URL:https://newportricheyelks.org/event-calendar/line-dancing-2/2026-07-01/
LOCATION:Luikart Hall
CATEGORIES:Membership Not Required
ATTACH;FMTTYPE=image/png:https://newportricheyelks.org/wp-content/uploads/2023/07/Line-Dancing.png
END:VEVENT
BEGIN:VEVENT
DTSTART;TZID=America/New_York:20260702T160000
DTEND;TZID=America/New_York:20260702T170000
DTSTAMP:20260421T050336
CREATED:20230731T195104Z
LAST-MODIFIED:20230731T195104Z
UID:10005576-1783008000-1783011600@newportricheyelks.org
SUMMARY:Private Event
DESCRIPTION:Private event held in the Luikart Hall.
URL:https://newportricheyelks.org/event-calendar/private-event-18/2026-07-02/
LOCATION:Luikart Hall
CATEGORIES:Private Event
END:VEVENT
BEGIN:VEVENT
DTSTART;TZID=America/New_York:20260705T110000
DTEND;TZID=America/New_York:20260705T160000
DTSTAMP:20260421T050336
CREATED:20250226T162315Z
LAST-MODIFIED:20250321T213506Z
UID:10008860-1783249200-1783267200@newportricheyelks.org
SUMMARY:Bingo
DESCRIPTION:Open to everyone. \nDoors open at 11 am\, and the first game starts at 1 pm. \nOver 50 games to play. \nBeverages are available to purchase with CASH ONLY. \nSnacks are available to purchase with CASH ONLY. \nNonsmoking facility. \nClick here to learn more.
URL:https://newportricheyelks.org/event-calendar/bingo-3-2/2026-07-05/
LOCATION:Luikart Hall
CATEGORIES:Membership Not Required
ATTACH;FMTTYPE=image/png:https://newportricheyelks.org/wp-content/uploads/2025/02/Bingo-720-x-576-Event-Calendar-Featured-1.png
END:VEVENT
BEGIN:VEVENT
DTSTART;TZID=America/New_York:20260707T190000
DTEND;TZID=America/New_York:20260707T203000
DTSTAMP:20260421T050336
CREATED:20230723T215030Z
LAST-MODIFIED:20230726T001440Z
UID:10000298-1783450800-1783456200@newportricheyelks.org
SUMMARY:House Committee Meeting
DESCRIPTION:Open to Elk Members only. Starts at 7 pm in Luikart Hall.
URL:https://newportricheyelks.org/event-calendar/house-committee-meeting/2026-07-07/
LOCATION:Luikart Hall
CATEGORIES:Members Only
ATTACH;FMTTYPE=image/png:https://newportricheyelks.org/wp-content/uploads/2023/07/Board-House-Meeting.png
END:VEVENT
BEGIN:VEVENT
DTSTART;TZID=America/New_York:20260708T153000
DTEND;TZID=America/New_York:20260708T173000
DTSTAMP:20260421T050336
CREATED:20251010T132108Z
LAST-MODIFIED:20251010T132108Z
UID:10013346-1783524600-1783531800@newportricheyelks.org
SUMMARY:Line Dancing
DESCRIPTION:Elk membership is not required as this is a third-party event. \nBeginner and intermediate line dancing lessons. \nA small fee is payable upon entry. \nHeld in the Luikart Hall
URL:https://newportricheyelks.org/event-calendar/line-dancing-2/2026-07-08/
LOCATION:Luikart Hall
CATEGORIES:Membership Not Required
ATTACH;FMTTYPE=image/png:https://newportricheyelks.org/wp-content/uploads/2023/07/Line-Dancing.png
END:VEVENT
BEGIN:VEVENT
DTSTART;TZID=America/New_York:20260712T110000
DTEND;TZID=America/New_York:20260712T160000
DTSTAMP:20260421T050336
CREATED:20250226T162315Z
LAST-MODIFIED:20250321T213506Z
UID:10008861-1783854000-1783872000@newportricheyelks.org
SUMMARY:Bingo
DESCRIPTION:Open to everyone. \nDoors open at 11 am\, and the first game starts at 1 pm. \nOver 50 games to play. \nBeverages are available to purchase with CASH ONLY. \nSnacks are available to purchase with CASH ONLY. \nNonsmoking facility. \nClick here to learn more.
URL:https://newportricheyelks.org/event-calendar/bingo-3-2/2026-07-12/
LOCATION:Luikart Hall
CATEGORIES:Membership Not Required
ATTACH;FMTTYPE=image/png:https://newportricheyelks.org/wp-content/uploads/2025/02/Bingo-720-x-576-Event-Calendar-Featured-1.png
END:VEVENT
BEGIN:VEVENT
DTSTART;TZID=America/New_York:20260714T190000
DTEND;TZID=America/New_York:20260714T203000
DTSTAMP:20260421T050336
CREATED:20250630T015753Z
LAST-MODIFIED:20250630T015753Z
UID:10005386-1784055600-1784061000@newportricheyelks.org
SUMMARY:Lodge Meeting
DESCRIPTION:Open to Members Only. Held in the Luikart Hall.
URL:https://newportricheyelks.org/event-calendar/lodge-meeting-2-2-2/2026-07-14/
LOCATION:Luikart Hall
CATEGORIES:Members Only
ATTACH;FMTTYPE=image/png:https://newportricheyelks.org/wp-content/uploads/2023/07/Lodge-Meeting.png
END:VEVENT
BEGIN:VEVENT
DTSTART;TZID=America/New_York:20260715T153000
DTEND;TZID=America/New_York:20260715T173000
DTSTAMP:20260421T050336
CREATED:20251010T132108Z
LAST-MODIFIED:20251010T132108Z
UID:10013347-1784129400-1784136600@newportricheyelks.org
SUMMARY:Line Dancing
DESCRIPTION:Elk membership is not required as this is a third-party event. \nBeginner and intermediate line dancing lessons. \nA small fee is payable upon entry. \nHeld in the Luikart Hall
URL:https://newportricheyelks.org/event-calendar/line-dancing-2/2026-07-15/
LOCATION:Luikart Hall
CATEGORIES:Membership Not Required
ATTACH;FMTTYPE=image/png:https://newportricheyelks.org/wp-content/uploads/2023/07/Line-Dancing.png
END:VEVENT
BEGIN:VEVENT
DTSTART;TZID=America/New_York:20260716T160000
DTEND;TZID=America/New_York:20260716T170000
DTSTAMP:20260421T050336
CREATED:20230731T195325Z
LAST-MODIFIED:20230731T195325Z
UID:10005636-1784217600-1784221200@newportricheyelks.org
SUMMARY:Private Event
DESCRIPTION:Private event held in the Luikart Hall.
URL:https://newportricheyelks.org/event-calendar/private-event-19/2026-07-16/
LOCATION:Luikart Hall
CATEGORIES:Private Event
END:VEVENT
BEGIN:VEVENT
DTSTART;TZID=America/New_York:20260719T110000
DTEND;TZID=America/New_York:20260719T160000
DTSTAMP:20260421T050337
CREATED:20250226T162315Z
LAST-MODIFIED:20250321T213506Z
UID:10008862-1784458800-1784476800@newportricheyelks.org
SUMMARY:Bingo
DESCRIPTION:Open to everyone. \nDoors open at 11 am\, and the first game starts at 1 pm. \nOver 50 games to play. \nBeverages are available to purchase with CASH ONLY. \nSnacks are available to purchase with CASH ONLY. \nNonsmoking facility. \nClick here to learn more.
URL:https://newportricheyelks.org/event-calendar/bingo-3-2/2026-07-19/
LOCATION:Luikart Hall
CATEGORIES:Membership Not Required
ATTACH;FMTTYPE=image/png:https://newportricheyelks.org/wp-content/uploads/2025/02/Bingo-720-x-576-Event-Calendar-Featured-1.png
END:VEVENT
BEGIN:VEVENT
DTSTART;TZID=America/New_York:20260721T190000
DTEND;TZID=America/New_York:20260721T203000
DTSTAMP:20260421T050337
CREATED:20231028T145654Z
LAST-MODIFIED:20231028T145654Z
UID:10000578-1784660400-1784665800@newportricheyelks.org
SUMMARY:Board Of Directors Meeting
DESCRIPTION:Open to Elk Members only. Starts at 7 pm in Luikart Hall.
URL:https://newportricheyelks.org/event-calendar/board-committee-meeting-2/2026-07-21/
LOCATION:Luikart Hall
CATEGORIES:Members Only
ATTACH;FMTTYPE=image/png:https://newportricheyelks.org/wp-content/uploads/2023/07/Board-House-Meeting.png
END:VEVENT
BEGIN:VEVENT
DTSTART;TZID=America/New_York:20260722T153000
DTEND;TZID=America/New_York:20260722T173000
DTSTAMP:20260421T050337
CREATED:20251010T132108Z
LAST-MODIFIED:20251010T132108Z
UID:10013348-1784734200-1784741400@newportricheyelks.org
SUMMARY:Line Dancing
DESCRIPTION:Elk membership is not required as this is a third-party event. \nBeginner and intermediate line dancing lessons. \nA small fee is payable upon entry. \nHeld in the Luikart Hall
URL:https://newportricheyelks.org/event-calendar/line-dancing-2/2026-07-22/
LOCATION:Luikart Hall
CATEGORIES:Membership Not Required
ATTACH;FMTTYPE=image/png:https://newportricheyelks.org/wp-content/uploads/2023/07/Line-Dancing.png
END:VEVENT
BEGIN:VEVENT
DTSTART;TZID=America/New_York:20260726T110000
DTEND;TZID=America/New_York:20260726T160000
DTSTAMP:20260421T050337
CREATED:20250226T162315Z
LAST-MODIFIED:20250321T213506Z
UID:10008863-1785063600-1785081600@newportricheyelks.org
SUMMARY:Bingo
DESCRIPTION:Open to everyone. \nDoors open at 11 am\, and the first game starts at 1 pm. \nOver 50 games to play. \nBeverages are available to purchase with CASH ONLY. \nSnacks are available to purchase with CASH ONLY. \nNonsmoking facility. \nClick here to learn more.
URL:https://newportricheyelks.org/event-calendar/bingo-3-2/2026-07-26/
LOCATION:Luikart Hall
CATEGORIES:Membership Not Required
ATTACH;FMTTYPE=image/png:https://newportricheyelks.org/wp-content/uploads/2025/02/Bingo-720-x-576-Event-Calendar-Featured-1.png
END:VEVENT
BEGIN:VEVENT
DTSTART;TZID=America/New_York:20260728T173000
DTEND;TZID=America/New_York:20260728T183000
DTSTAMP:20260421T050337
CREATED:20241125T190857Z
LAST-MODIFIED:20241125T191346Z
UID:10000419-1785259800-1785263400@newportricheyelks.org
SUMMARY:Orientation Meeting
DESCRIPTION:Open to applicants pre-approved to become Elk Members. The report time is 5:30 pm and starts at 6 pm in the Luikart Hall.
URL:https://newportricheyelks.org/event-calendar/orientation-meeting-2/2026-07-28/
LOCATION:Luikart Hall
CATEGORIES:Members Only
ATTACH;FMTTYPE=image/png:https://newportricheyelks.org/wp-content/uploads/2023/07/Orientation-Meeting.png
END:VEVENT
BEGIN:VEVENT
DTSTART;TZID=America/New_York:20260728T190000
DTEND;TZID=America/New_York:20260728T203000
DTSTAMP:20260421T050337
CREATED:20241125T190956Z
LAST-MODIFIED:20241125T190956Z
UID:10005339-1785265200-1785270600@newportricheyelks.org
SUMMARY:Lodge Meeting
DESCRIPTION:Open to Elk Members only. Starts at 7 pm in Luikart Hall.
URL:https://newportricheyelks.org/event-calendar/lodge-meeting-2/2026-07-28/
LOCATION:Luikart Hall
CATEGORIES:Members Only
ATTACH;FMTTYPE=image/png:https://newportricheyelks.org/wp-content/uploads/2023/07/Lodge-Meeting.png
END:VEVENT
BEGIN:VEVENT
DTSTART;TZID=America/New_York:20260729T153000
DTEND;TZID=America/New_York:20260729T173000
DTSTAMP:20260421T050337
CREATED:20251010T132108Z
LAST-MODIFIED:20251010T132108Z
UID:10013349-1785339000-1785346200@newportricheyelks.org
SUMMARY:Line Dancing
DESCRIPTION:Elk membership is not required as this is a third-party event. \nBeginner and intermediate line dancing lessons. \nA small fee is payable upon entry. \nHeld in the Luikart Hall
URL:https://newportricheyelks.org/event-calendar/line-dancing-2/2026-07-29/
LOCATION:Luikart Hall
CATEGORIES:Membership Not Required
ATTACH;FMTTYPE=image/png:https://newportricheyelks.org/wp-content/uploads/2023/07/Line-Dancing.png
END:VEVENT
END:VCALENDAR