BEGIN:VCALENDAR
VERSION:2.0
PRODID:-//New Port Richey Elks Lodge 2284 - ECPv6.15.20//NONSGML v1.0//EN
CALSCALE:GREGORIAN
METHOD:PUBLISH
X-ORIGINAL-URL:https://newportricheyelks.org
X-WR-CALDESC:Events for New Port Richey Elks Lodge 2284
REFRESH-INTERVAL;VALUE=DURATION:PT1H
X-Robots-Tag:noindex
X-PUBLISHED-TTL:PT1H
BEGIN:VTIMEZONE
TZID:America/New_York
BEGIN:DAYLIGHT
TZOFFSETFROM:-0500
TZOFFSETTO:-0400
TZNAME:EDT
DTSTART:20250309T070000
END:DAYLIGHT
BEGIN:STANDARD
TZOFFSETFROM:-0400
TZOFFSETTO:-0500
TZNAME:EST
DTSTART:20251102T060000
END:STANDARD
BEGIN:DAYLIGHT
TZOFFSETFROM:-0500
TZOFFSETTO:-0400
TZNAME:EDT
DTSTART:20260308T070000
END:DAYLIGHT
BEGIN:STANDARD
TZOFFSETFROM:-0400
TZOFFSETTO:-0500
TZNAME:EST
DTSTART:20261101T060000
END:STANDARD
BEGIN:DAYLIGHT
TZOFFSETFROM:-0500
TZOFFSETTO:-0400
TZNAME:EDT
DTSTART:20270314T070000
END:DAYLIGHT
BEGIN:STANDARD
TZOFFSETFROM:-0400
TZOFFSETTO:-0500
TZNAME:EST
DTSTART:20271107T060000
END:STANDARD
END:VTIMEZONE
BEGIN:VEVENT
DTSTART;TZID=America/New_York:20260219T160000
DTEND;TZID=America/New_York:20260219T170000
DTSTAMP:20260423T130047
CREATED:20230731T195325Z
LAST-MODIFIED:20230731T195325Z
UID:10005631-1771516800-1771520400@newportricheyelks.org
SUMMARY:Private Event
DESCRIPTION:Private event held in the Luikart Hall.
URL:https://newportricheyelks.org/event-calendar/private-event-19/2026-02-19/
LOCATION:Luikart Hall
CATEGORIES:Private Event
END:VEVENT
BEGIN:VEVENT
DTSTART;TZID=America/New_York:20260218T153000
DTEND;TZID=America/New_York:20260218T173000
DTSTAMP:20260423T130047
CREATED:20251010T132108Z
LAST-MODIFIED:20251010T132108Z
UID:10013326-1771428600-1771435800@newportricheyelks.org
SUMMARY:Line Dancing
DESCRIPTION:Elk membership is not required as this is a third-party event. \nBeginner and intermediate line dancing lessons. \nA small fee is payable upon entry. \nHeld in the Luikart Hall
URL:https://newportricheyelks.org/event-calendar/line-dancing-2/2026-02-18/
LOCATION:Luikart Hall
CATEGORIES:Membership Not Required
ATTACH;FMTTYPE=image/png:https://newportricheyelks.org/wp-content/uploads/2023/07/Line-Dancing.png
END:VEVENT
BEGIN:VEVENT
DTSTART;TZID=America/New_York:20260217T190000
DTEND;TZID=America/New_York:20260217T203000
DTSTAMP:20260423T130047
CREATED:20231028T145654Z
LAST-MODIFIED:20231028T145654Z
UID:10000573-1771354800-1771360200@newportricheyelks.org
SUMMARY:Board Of Directors Meeting
DESCRIPTION:Open to Elk Members only. Starts at 7 pm in Luikart Hall.
URL:https://newportricheyelks.org/event-calendar/board-committee-meeting-2/2026-02-17/
LOCATION:Luikart Hall
CATEGORIES:Members Only
ATTACH;FMTTYPE=image/png:https://newportricheyelks.org/wp-content/uploads/2023/07/Board-House-Meeting.png
END:VEVENT
BEGIN:VEVENT
DTSTART;TZID=America/New_York:20260215T110000
DTEND;TZID=America/New_York:20260215T160000
DTSTAMP:20260423T130047
CREATED:20250226T162315Z
LAST-MODIFIED:20250321T213506Z
UID:10008840-1771153200-1771171200@newportricheyelks.org
SUMMARY:Bingo
DESCRIPTION:Open to everyone. \nDoors open at 11 am\, and the first game starts at 1 pm. \nOver 50 games to play. \nBeverages are available to purchase with CASH ONLY. \nSnacks are available to purchase with CASH ONLY. \nNonsmoking facility. \nClick here to learn more.
URL:https://newportricheyelks.org/event-calendar/bingo-3-2/2026-02-15/
LOCATION:Luikart Hall
CATEGORIES:Membership Not Required
ATTACH;FMTTYPE=image/png:https://newportricheyelks.org/wp-content/uploads/2025/02/Bingo-720-x-576-Event-Calendar-Featured-1.png
END:VEVENT
BEGIN:VEVENT
DTSTART;TZID=America/New_York:20260211T153000
DTEND;TZID=America/New_York:20260211T173000
DTSTAMP:20260423T130047
CREATED:20251010T132108Z
LAST-MODIFIED:20251010T132108Z
UID:10013325-1770823800-1770831000@newportricheyelks.org
SUMMARY:Line Dancing
DESCRIPTION:Elk membership is not required as this is a third-party event. \nBeginner and intermediate line dancing lessons. \nA small fee is payable upon entry. \nHeld in the Luikart Hall
URL:https://newportricheyelks.org/event-calendar/line-dancing-2/2026-02-11/
LOCATION:Luikart Hall
CATEGORIES:Membership Not Required
ATTACH;FMTTYPE=image/png:https://newportricheyelks.org/wp-content/uploads/2023/07/Line-Dancing.png
END:VEVENT
BEGIN:VEVENT
DTSTART;TZID=America/New_York:20260210T190000
DTEND;TZID=America/New_York:20260210T203000
DTSTAMP:20260423T130047
CREATED:20250630T015753Z
LAST-MODIFIED:20250630T015753Z
UID:10005381-1770750000-1770755400@newportricheyelks.org
SUMMARY:Lodge Meeting
DESCRIPTION:Open to Members Only. Held in the Luikart Hall.
URL:https://newportricheyelks.org/event-calendar/lodge-meeting-2-2-2/2026-02-10/
LOCATION:Luikart Hall
CATEGORIES:Members Only
ATTACH;FMTTYPE=image/png:https://newportricheyelks.org/wp-content/uploads/2023/07/Lodge-Meeting.png
END:VEVENT
BEGIN:VEVENT
DTSTART;TZID=America/New_York:20260208T110000
DTEND;TZID=America/New_York:20260208T160000
DTSTAMP:20260423T130047
CREATED:20250226T162315Z
LAST-MODIFIED:20250321T213506Z
UID:10008839-1770548400-1770566400@newportricheyelks.org
SUMMARY:Bingo
DESCRIPTION:Open to everyone. \nDoors open at 11 am\, and the first game starts at 1 pm. \nOver 50 games to play. \nBeverages are available to purchase with CASH ONLY. \nSnacks are available to purchase with CASH ONLY. \nNonsmoking facility. \nClick here to learn more.
URL:https://newportricheyelks.org/event-calendar/bingo-3-2/2026-02-08/
LOCATION:Luikart Hall
CATEGORIES:Membership Not Required
ATTACH;FMTTYPE=image/png:https://newportricheyelks.org/wp-content/uploads/2025/02/Bingo-720-x-576-Event-Calendar-Featured-1.png
END:VEVENT
BEGIN:VEVENT
DTSTART;TZID=America/New_York:20260207T200000
DTEND;TZID=America/New_York:20260207T220000
DTSTAMP:20260423T130048
CREATED:20251221T202152Z
LAST-MODIFIED:20251221T202152Z
UID:10013788-1770494400-1770501600@newportricheyelks.org
SUMMARY:Peter Frampton Tribute Charity Concert
DESCRIPTION:Open to everyone. Elk membership is NOT required. \nClick here for more information.
URL:https://newportricheyelks.org/event-calendar/peter-frampton-tribute-charity-concert/
LOCATION:Luikart Hall
CATEGORIES:Membership Not Required
ATTACH;FMTTYPE=image/jpeg:https://newportricheyelks.org/wp-content/uploads/2025/12/720x576-event-calendar-peter-frampton.jpg
END:VEVENT
BEGIN:VEVENT
DTSTART;TZID=America/New_York:20260206T200000
DTEND;TZID=America/New_York:20260206T223000
DTSTAMP:20260423T130048
CREATED:20260125T161919Z
LAST-MODIFIED:20260125T161919Z
UID:10013920-1770408000-1770417000@newportricheyelks.org
SUMMARY:Friday Night Live: Viper
DESCRIPTION:Open to everyone. Elk membership is NOT required. \nClick here for more information.
URL:https://newportricheyelks.org/event-calendar/friday-night-live-viper/
LOCATION:Luikart Hall
CATEGORIES:Membership Not Required
ATTACH;FMTTYPE=image/jpeg:https://newportricheyelks.org/wp-content/uploads/2026/01/720x576-viper.jpg
END:VEVENT
BEGIN:VEVENT
DTSTART;TZID=America/New_York:20260205T160000
DTEND;TZID=America/New_York:20260205T170000
DTSTAMP:20260423T130048
CREATED:20230731T195104Z
LAST-MODIFIED:20230731T195104Z
UID:10005571-1770307200-1770310800@newportricheyelks.org
SUMMARY:Private Event
DESCRIPTION:Private event held in the Luikart Hall.
URL:https://newportricheyelks.org/event-calendar/private-event-18/2026-02-05/
LOCATION:Luikart Hall
CATEGORIES:Private Event
END:VEVENT
BEGIN:VEVENT
DTSTART;TZID=America/New_York:20260204T153000
DTEND;TZID=America/New_York:20260204T173000
DTSTAMP:20260423T130048
CREATED:20251010T132108Z
LAST-MODIFIED:20251010T132108Z
UID:10013324-1770219000-1770226200@newportricheyelks.org
SUMMARY:Line Dancing
DESCRIPTION:Elk membership is not required as this is a third-party event. \nBeginner and intermediate line dancing lessons. \nA small fee is payable upon entry. \nHeld in the Luikart Hall
URL:https://newportricheyelks.org/event-calendar/line-dancing-2/2026-02-04/
LOCATION:Luikart Hall
CATEGORIES:Membership Not Required
ATTACH;FMTTYPE=image/png:https://newportricheyelks.org/wp-content/uploads/2023/07/Line-Dancing.png
END:VEVENT
BEGIN:VEVENT
DTSTART;TZID=America/New_York:20260203T190000
DTEND;TZID=America/New_York:20260203T203000
DTSTAMP:20260423T130048
CREATED:20230723T215030Z
LAST-MODIFIED:20230726T001440Z
UID:10000293-1770145200-1770150600@newportricheyelks.org
SUMMARY:House Committee Meeting
DESCRIPTION:Open to Elk Members only. Starts at 7 pm in Luikart Hall.
URL:https://newportricheyelks.org/event-calendar/house-committee-meeting/2026-02-03/
LOCATION:Luikart Hall
CATEGORIES:Members Only
ATTACH;FMTTYPE=image/png:https://newportricheyelks.org/wp-content/uploads/2023/07/Board-House-Meeting.png
END:VEVENT
BEGIN:VEVENT
DTSTART;TZID=America/New_York:20260201T110000
DTEND;TZID=America/New_York:20260201T160000
DTSTAMP:20260423T130048
CREATED:20250226T162315Z
LAST-MODIFIED:20250321T213506Z
UID:10008838-1769943600-1769961600@newportricheyelks.org
SUMMARY:Bingo
DESCRIPTION:Open to everyone. \nDoors open at 11 am\, and the first game starts at 1 pm. \nOver 50 games to play. \nBeverages are available to purchase with CASH ONLY. \nSnacks are available to purchase with CASH ONLY. \nNonsmoking facility. \nClick here to learn more.
URL:https://newportricheyelks.org/event-calendar/bingo-3-2/2026-02-01/
LOCATION:Luikart Hall
CATEGORIES:Membership Not Required
ATTACH;FMTTYPE=image/png:https://newportricheyelks.org/wp-content/uploads/2025/02/Bingo-720-x-576-Event-Calendar-Featured-1.png
END:VEVENT
BEGIN:VEVENT
DTSTART;TZID=America/New_York:20260128T153000
DTEND;TZID=America/New_York:20260128T173000
DTSTAMP:20260423T130048
CREATED:20251010T132108Z
LAST-MODIFIED:20251010T132108Z
UID:10013323-1769614200-1769621400@newportricheyelks.org
SUMMARY:Line Dancing
DESCRIPTION:Elk membership is not required as this is a third-party event. \nBeginner and intermediate line dancing lessons. \nA small fee is payable upon entry. \nHeld in the Luikart Hall
URL:https://newportricheyelks.org/event-calendar/line-dancing-2/2026-01-28/
LOCATION:Luikart Hall
CATEGORIES:Membership Not Required
ATTACH;FMTTYPE=image/png:https://newportricheyelks.org/wp-content/uploads/2023/07/Line-Dancing.png
END:VEVENT
BEGIN:VEVENT
DTSTART;TZID=America/New_York:20260127T190000
DTEND;TZID=America/New_York:20260127T203000
DTSTAMP:20260423T130048
CREATED:20241125T190956Z
LAST-MODIFIED:20241125T190956Z
UID:10005336-1769540400-1769545800@newportricheyelks.org
SUMMARY:Lodge Meeting
DESCRIPTION:Open to Elk Members only. Starts at 7 pm in Luikart Hall.
URL:https://newportricheyelks.org/event-calendar/lodge-meeting-2/2026-01-27/
LOCATION:Luikart Hall
CATEGORIES:Members Only
ATTACH;FMTTYPE=image/png:https://newportricheyelks.org/wp-content/uploads/2023/07/Lodge-Meeting.png
END:VEVENT
BEGIN:VEVENT
DTSTART;TZID=America/New_York:20260127T173000
DTEND;TZID=America/New_York:20260127T183000
DTSTAMP:20260423T130048
CREATED:20241125T190857Z
LAST-MODIFIED:20241125T191346Z
UID:10000413-1769535000-1769538600@newportricheyelks.org
SUMMARY:Orientation Meeting
DESCRIPTION:Open to applicants pre-approved to become Elk Members. The report time is 5:30 pm and starts at 6 pm in the Luikart Hall.
URL:https://newportricheyelks.org/event-calendar/orientation-meeting-2/2026-01-27/
LOCATION:Luikart Hall
CATEGORIES:Members Only
ATTACH;FMTTYPE=image/png:https://newportricheyelks.org/wp-content/uploads/2023/07/Orientation-Meeting.png
END:VEVENT
BEGIN:VEVENT
DTSTART;TZID=America/New_York:20260125T110000
DTEND;TZID=America/New_York:20260125T160000
DTSTAMP:20260423T130048
CREATED:20250226T162315Z
LAST-MODIFIED:20250321T213506Z
UID:10008837-1769338800-1769356800@newportricheyelks.org
SUMMARY:Bingo
DESCRIPTION:Open to everyone. \nDoors open at 11 am\, and the first game starts at 1 pm. \nOver 50 games to play. \nBeverages are available to purchase with CASH ONLY. \nSnacks are available to purchase with CASH ONLY. \nNonsmoking facility. \nClick here to learn more.
URL:https://newportricheyelks.org/event-calendar/bingo-3-2/2026-01-25/
LOCATION:Luikart Hall
CATEGORIES:Membership Not Required
ATTACH;FMTTYPE=image/png:https://newportricheyelks.org/wp-content/uploads/2025/02/Bingo-720-x-576-Event-Calendar-Featured-1.png
END:VEVENT
END:VCALENDAR